Workbook

Sheet Championship positions
B8: LADIES' CHAMPIONSHIP 2026 | T8: MEN'S CHAMPIONSHIP 2026 | AL8: AGE ADJUSTED CHAMPIONSHIP 2026
B9: Name/Race No. | C9: 1. Folksworth 15 (A) | D9: 2. Dirt Run Irchester 7.5k (B) | E9: 3. Burghley 7 (A) | F9: 4. King's Cliffe Trail 10k (B) | G9: 5. Langtoft 10k (A) | H9: 6. The Grim Reaper 10 Mile (B) | I9: 7. Nene Valley Trail 10 Mile (B) | J9: 8. Whissendine 6ix (A) | K9: 9. Ponton Plod 10k (B) | L9: 10. Rutland Water parkrun (A) | M9: 11. Great Eastern Run (A) | N9: 12. Fen 10 (A) | O9: 13. The George Munday 10k (A) | P9: Total of Best 6 | Q9: No of Races (best six to count) | R9: Position | T9: Name/Race No. | U9: 1. Folksworth 15 (A) | V9: 2. Dirt Run Irchester 7.5k (B) | W9: 3. Burghley 7 (A) | X9: 4. King's Cliffe Trail 10k (B) | Y9: 5. Langtoft 10k (A) | Z9: 6. The Grim Reaper 10 Mile (B) | AA9: 7. Nene Valley Trail 10 Mile (B) | AB9: 8. Whissendine 6ix (A) | AC9: 9. Ponton Plod 10k (B) | AD9: 10. Rutland Water parkrun (A) | AE9: 11. Great Eastern Run (A) | AF9: 12. Fen 10 (A) | AG9: 13. The George Munday 10k (A) | AH9: Total of Best 6 | AI9: No of Races (best six to count) | AJ9: Position | AL9: Name/Race No. | AM9: 1. Folksworth 15 (A) | AN9: 2. Dirt Run Irchester 7.5k (B) | AO9: 3. Burghley 7 (A) | AP9: 4. King's Cliffe Trail 10k (B) | AQ9: 5. Langtoft 10k (A) | AR9: 6. The Grim Reaper 10 Mile (B) | AS9: 7. Nene Valley Trail 10 Mile (B) | AT9: 8. Whissendine 6ix (A) | AU9: 9. Ponton Plod 10k (B) | AV9: 10. Rutland Water parkrun (A) | AW9: 11. Great Eastern Run (A) | AX9: 12. Fen 10 (A) | AY9: 13. The George Munday 10k (A) | AZ9: Total of Best 6 | BA9: No of Races (best six to count) | BB9: Position
B10: Suzanne Moon | C10: =IFERROR(VLOOKUP($B10,'Folksworth 15'!$B:$D,3,FALSE),0) -> 0 | D10: =IFERROR(VLOOKUP($B10,'Dirt Run Irchester 7.5k'!$B:$D,3,FALSE),0) -> 0 | E10: =IFERROR(VLOOKUP($B10,'Burghley 7'!$B:$D,3,FALSE),0) -> 49 | F10: =IFERROR(VLOOKUP($B10,'King''s Cliffe Trail 10k'!$B:$D,3,FALSE),0) -> 49 | G10: =IFERROR(VLOOKUP($B10,'Langtoft 10k'!B:F,3,FALSE),0) -> 0 | H10: =IFERROR(VLOOKUP($B10,'The Grim Reaper 10 Mile'!$B:$D,3,FALSE),0) -> 50 | I10: =IFERROR(VLOOKUP($B10,'Nene Valley Trail 10 Mile'!B:D,3,FALSE),0) -> 50 | J10: =IFERROR(VLOOKUP($B10,'Whissendine 6ix'!$B:$D,3,FALSE),0) -> 0 | K10: =IFERROR(VLOOKUP($B10,'Ponton Plod 10k'!$B:$D,3,FALSE),0) -> 0 | L10: =IFERROR(VLOOKUP($B10,'Rutland Water parkrun'!$B:$D,3,FALSE),0) -> 49 | M10: =IFERROR(VLOOKUP($B10,'Great Eastern Run'!$B:$D,3,FALSE),0) -> 49 | N10: =IFERROR(VLOOKUP($B10,'Fen 10'!$B:$D,3,FALSE),0) -> 0 | O10: =IFERROR(VLOOKUP($B10,'The George Munday 10k'!B:E,4,FALSE),0) -> 0 | P10: =LARGE(C10:O10,1)+LARGE(C10:O10,2)+LARGE(C10:O10,3)+LARGE(C10:O10,4)+LARGE(C10:O10,5)+LARGE(C10:O10,6) -> 296 | Q10: =COUNTIF(C10:O10,">.09") -> 6 | R10: =_xlfn.RANK.EQ(P10,$P$10:$P$68,0) -> 1 | T10: Ben Wall | U10: =IFERROR(VLOOKUP($T10,'Folksworth 15'!$F:$H,3,FALSE),0) -> 49 | V10: =IFERROR(VLOOKUP($T10,'Dirt Run Irchester 7.5k'!$F:$H,3,FALSE),0) -> 0 | W10: =IFERROR(VLOOKUP($T10,'Burghley 7'!$F:$H,3,FALSE),0) -> 49 | X10: =IFERROR(VLOOKUP($T10,'King''s Cliffe Trail 10k'!$F:$H,3,FALSE),0) -> 50 | Y10: =IFERROR(VLOOKUP($T10,'Langtoft 10k'!F:H,3,FALSE),0) -> 0 | Z10: =IFERROR(VLOOKUP($T10,'The Grim Reaper 10 Mile'!$F:$H,3,FALSE),0) -> 0 | AA10: =IFERROR(VLOOKUP($T10,'Nene Valley Trail 10 Mile'!$F:$H,3,FALSE),0) -> 50 | AB10: =IFERROR(VLOOKUP($T10,'Whissendine 6ix'!$F:$H,3,FALSE),0) -> 49 | AC10: =IFERROR(VLOOKUP($T10,'Ponton Plod 10k'!$F:$H,3,FALSE),0) -> 0 | AD10: =IFERROR(VLOOKUP($T10,'Rutland Water parkrun'!$F:$H,3,FALSE),0) -> 50 | AE10: =IFERROR(VLOOKUP($T10,'Great Eastern Run'!$F:$H,3,FALSE),0) -> 50 | AF10: =IFERROR(VLOOKUP($T10,'Fen 10'!$F:$H,3,FALSE),0) -> 0 | AG10: =IFERROR(VLOOKUP($T10,'The George Munday 10k'!$G:$J,4,FALSE),0) -> 0 | AH10: =LARGE(U10:AG10,1)+LARGE(U10:AG10,2)+LARGE(U10:AG10,3)+LARGE(U10:AG10,4)+LARGE(U10:AG10,5)+LARGE(U10:AG10,6) -> 298 | AI10: =COUNTIF(U10:AG10,">.09") -> 7 | AJ10: =_xlfn.RANK.EQ(AH10,$AH$10:$AH$81,0) -> 1 | AL10: Giles Polito | AM10: =IFERROR(VLOOKUP($AL10,'Folksworth 15'!$J:$L,3,FALSE),0) -> 50 | AN10: =IFERROR(VLOOKUP($AL10,'Dirt Run Irchester 7.5k'!$J:$L,3,FALSE),0) -> 0 | AO10: =IFERROR(VLOOKUP($AL10,'Burghley 7'!$J:$L,3,FALSE),0) -> 50 | AP10: =IFERROR(VLOOKUP($AL10,'King''s Cliffe Trail 10k'!$J:$L,3,FALSE),0) -> 0 | AQ10: =IFERROR(VLOOKUP($AL10,'Langtoft 10k'!J:L,3,FALSE),0) -> 0 | AR10: =IFERROR(VLOOKUP($AL10,'The Grim Reaper 10 Mile'!$J:$L,3,FALSE),0) -> 0 | AS10: =IFERROR(VLOOKUP($AL10,'Nene Valley Trail 10 Mile'!$J:$L,3,FALSE),0) -> 50 | AT10: =IFERROR(VLOOKUP($AL10,'Whissendine 6ix'!$J:$L,3,FALSE),0) -> 50 | AU10: =IFERROR(VLOOKUP($AL10,'Ponton Plod 10k'!$J:$L,3,FALSE),0) -> 0 | AV10: =IFERROR(VLOOKUP($AL10,'Rutland Water parkrun'!$J:$L,3,FALSE),0) -> 50 | AW10: =IFERROR(VLOOKUP($AL10,'Great Eastern Run'!$J:$L,3,FALSE),0) -> 50 | AX10: =IFERROR(VLOOKUP($AL10,'Fen 10'!$J:$L,3,FALSE),0) -> 0 | AY10: =IFERROR(VLOOKUP($AL10,'The George Munday 10k'!$L:$O,4,FALSE),0) -> 0 | AZ10: =LARGE(AM10:AY10,1)+LARGE(AM10:AY10,2)+LARGE(AM10:AY10,3)+LARGE(AM10:AY10,4)+LARGE(AM10:AY10,5)+LARGE(AM10:AY10,6) -> 300 | BA10: =COUNTIF(AM10:AY10,">0.09") -> 6 | BB10: =_xlfn.RANK.EQ(AZ10,$AZ$10:$AZ$140,0) -> 1
B11: Victoria Simpson | C11: =IFERROR(VLOOKUP($B11,'Folksworth 15'!$B:$D,3,FALSE),0) -> 0 | D11: =IFERROR(VLOOKUP($B11,'Dirt Run Irchester 7.5k'!$B:$D,3,FALSE),0) -> 50 | E11: =IFERROR(VLOOKUP($B11,'Burghley 7'!$B:$D,3,FALSE),0) -> 47 | F11: =IFERROR(VLOOKUP($B11,'King''s Cliffe Trail 10k'!$B:$D,3,FALSE),0) -> 45 | G11: =IFERROR(VLOOKUP($B11,'Langtoft 10k'!B:F,3,FALSE),0) -> 48 | H11: =IFERROR(VLOOKUP($B11,'The Grim Reaper 10 Mile'!$B:$D,3,FALSE),0) -> 48 | I11: =IFERROR(VLOOKUP($B11,'Nene Valley Trail 10 Mile'!B:D,3,FALSE),0) -> 45 | J11: =IFERROR(VLOOKUP($B11,'Whissendine 6ix'!$B:$D,3,FALSE),0) -> 0 | K11: =IFERROR(VLOOKUP($B11,'Ponton Plod 10k'!$B:$D,3,FALSE),0) -> 49 | L11: =IFERROR(VLOOKUP($B11,'Rutland Water parkrun'!$B:$D,3,FALSE),0) -> 0 | M11: =IFERROR(VLOOKUP($B11,'Great Eastern Run'!$B:$D,3,FALSE),0) -> 44 | N11: =IFERROR(VLOOKUP($B11,'Fen 10'!$B:$D,3,FALSE),0) -> 0 | O11: =IFERROR(VLOOKUP($B11,'The George Munday 10k'!B:E,4,FALSE),0) -> 0 | P11: =LARGE(C11:O11,1)+LARGE(C11:O11,2)+LARGE(C11:O11,3)+LARGE(C11:O11,4)+LARGE(C11:O11,5)+LARGE(C11:O11,6) -> 287 | Q11: =COUNTIF(C11:O11,">.09") -> 8 | R11: =_xlfn.RANK.EQ(P11,$P$10:$P$68,0) -> 2 | T11: Giles Polito | U11: =IFERROR(VLOOKUP($T11,'Folksworth 15'!$F:$H,3,FALSE),0) -> 48 | V11: =IFERROR(VLOOKUP($T11,'Dirt Run Irchester 7.5k'!$F:$H,3,FALSE),0) -> 0 | W11: =IFERROR(VLOOKUP($T11,'Burghley 7'!$F:$H,3,FALSE),0) -> 47 | X11: =IFERROR(VLOOKUP($T11,'King''s Cliffe Trail 10k'!$F:$H,3,FALSE),0) -> 0 | Y11: =IFERROR(VLOOKUP($T11,'Langtoft 10k'!F:H,3,FALSE),0) -> 0 | Z11: =IFERROR(VLOOKUP($T11,'The Grim Reaper 10 Mile'!$F:$H,3,FALSE),0) -> 0 | AA11: =IFERROR(VLOOKUP($T11,'Nene Valley Trail 10 Mile'!$F:$H,3,FALSE),0) -> 49 | AB11: =IFERROR(VLOOKUP($T11,'Whissendine 6ix'!$F:$H,3,FALSE),0) -> 47 | AC11: =IFERROR(VLOOKUP($T11,'Ponton Plod 10k'!$F:$H,3,FALSE),0) -> 0 | AD11: =IFERROR(VLOOKUP($T11,'Rutland Water parkrun'!$F:$H,3,FALSE),0) -> 49 | AE11: =IFERROR(VLOOKUP($T11,'Great Eastern Run'!$F:$H,3,FALSE),0) -> 49 | AF11: =IFERROR(VLOOKUP($T11,'Fen 10'!$F:$H,3,FALSE),0) -> 0 | AG11: =IFERROR(VLOOKUP($T11,'The George Munday 10k'!$G:$J,4,FALSE),0) -> 0 | AH11: =LARGE(U11:AG11,1)+LARGE(U11:AG11,2)+LARGE(U11:AG11,3)+LARGE(U11:AG11,4)+LARGE(U11:AG11,5)+LARGE(U11:AG11,6) -> 289 | AI11: =COUNTIF(U11:AG11,">.09") -> 6 | AJ11: =_xlfn.RANK.EQ(AH11,$AH$10:$AH$81,0) -> 2 | AL11: Ben Wall | AM11: =IFERROR(VLOOKUP($AL11,'Folksworth 15'!$J:$L,3,FALSE),0) -> 46 | AN11: =IFERROR(VLOOKUP($AL11,'Dirt Run Irchester 7.5k'!$J:$L,3,FALSE),0) -> 0 | AO11: =IFERROR(VLOOKUP($AL11,'Burghley 7'!$J:$L,3,FALSE),0) -> 49 | AP11: =IFERROR(VLOOKUP($AL11,'King''s Cliffe Trail 10k'!$J:$L,3,FALSE),0) -> 50 | AQ11: =IFERROR(VLOOKUP($AL11,'Langtoft 10k'!J:L,3,FALSE),0) -> 0 | AR11: =IFERROR(VLOOKUP($AL11,'The Grim Reaper 10 Mile'!$J:$L,3,FALSE),0) -> 0 | AS11: =IFERROR(VLOOKUP($AL11,'Nene Valley Trail 10 Mile'!$J:$L,3,FALSE),0) -> 49 | AT11: =IFERROR(VLOOKUP($AL11,'Whissendine 6ix'!$J:$L,3,FALSE),0) -> 49 | AU11: =IFERROR(VLOOKUP($AL11,'Ponton Plod 10k'!$J:$L,3,FALSE),0) -> 0 | AV11: =IFERROR(VLOOKUP($AL11,'Rutland Water parkrun'!$J:$L,3,FALSE),0) -> 48 | AW11: =IFERROR(VLOOKUP($AL11,'Great Eastern Run'!$J:$L,3,FALSE),0) -> 48 | AX11: =IFERROR(VLOOKUP($AL11,'Fen 10'!$J:$L,3,FALSE),0) -> 0 | AY11: =IFERROR(VLOOKUP($AL11,'The George Munday 10k'!$L:$O,4,FALSE),0) -> 0 | AZ11: =LARGE(AM11:AY11,1)+LARGE(AM11:AY11,2)+LARGE(AM11:AY11,3)+LARGE(AM11:AY11,4)+LARGE(AM11:AY11,5)+LARGE(AM11:AY11,6) -> 293 | BA11: =COUNTIF(AM11:AY11,">0.09") -> 7 | BB11: =_xlfn.RANK.EQ(AZ11,$AZ$10:$AZ$140,0) -> 2
B12: Julia Parker | C12: =IFERROR(VLOOKUP($B12,'Folksworth 15'!$B:$D,3,FALSE),0) -> 45 | D12: =IFERROR(VLOOKUP($B12,'Dirt Run Irchester 7.5k'!$B:$D,3,FALSE),0) -> 48 | E12: =IFERROR(VLOOKUP($B12,'Burghley 7'!$B:$D,3,FALSE),0) -> 0 | F12: =IFERROR(VLOOKUP($B12,'King''s Cliffe Trail 10k'!$B:$D,3,FALSE),0) -> 47 | G12: =IFERROR(VLOOKUP($B12,'Langtoft 10k'!B:F,3,FALSE),0) -> 46 | H12: =IFERROR(VLOOKUP($B12,'The Grim Reaper 10 Mile'!$B:$D,3,FALSE),0) -> 0 | I12: =IFERROR(VLOOKUP($B12,'Nene Valley Trail 10 Mile'!B:D,3,FALSE),0) -> 0 | J12: =IFERROR(VLOOKUP($B12,'Whissendine 6ix'!$B:$D,3,FALSE),0) -> 0 | K12: =IFERROR(VLOOKUP($B12,'Ponton Plod 10k'!$B:$D,3,FALSE),0) -> 48 | L12: =IFERROR(VLOOKUP($B12,'Rutland Water parkrun'!$B:$D,3,FALSE),0) -> 45 | M12: =IFERROR(VLOOKUP($B12,'Great Eastern Run'!$B:$D,3,FALSE),0) -> 0 | N12: =IFERROR(VLOOKUP($B12,'Fen 10'!$B:$D,3,FALSE),0) -> 0 | O12: =IFERROR(VLOOKUP($B12,'The George Munday 10k'!B:E,4,FALSE),0) -> 0 | P12: =LARGE(C12:O12,1)+LARGE(C12:O12,2)+LARGE(C12:O12,3)+LARGE(C12:O12,4)+LARGE(C12:O12,5)+LARGE(C12:O12,6) -> 279 | Q12: =COUNTIF(C12:O12,">.09") -> 6 | R12: =_xlfn.RANK.EQ(P12,$P$10:$P$68,0) -> 3 | T12: Mark Popple | U12: =IFERROR(VLOOKUP($T12,'Folksworth 15'!$F:$H,3,FALSE),0) -> 0 | V12: =IFERROR(VLOOKUP($T12,'Dirt Run Irchester 7.5k'!$F:$H,3,FALSE),0) -> 0 | W12: =IFERROR(VLOOKUP($T12,'Burghley 7'!$F:$H,3,FALSE),0) -> 44 | X12: =IFERROR(VLOOKUP($T12,'King''s Cliffe Trail 10k'!$F:$H,3,FALSE),0) -> 47 | Y12: =IFERROR(VLOOKUP($T12,'Langtoft 10k'!F:H,3,FALSE),0) -> 0 | Z12: =IFERROR(VLOOKUP($T12,'The Grim Reaper 10 Mile'!$F:$H,3,FALSE),0) -> 49 | AA12: =IFERROR(VLOOKUP($T12,'Nene Valley Trail 10 Mile'!$F:$H,3,FALSE),0) -> 0 | AB12: =IFERROR(VLOOKUP($T12,'Whissendine 6ix'!$F:$H,3,FALSE),0) -> 45 | AC12: =IFERROR(VLOOKUP($T12,'Ponton Plod 10k'!$F:$H,3,FALSE),0) -> 50 | AD12: =IFERROR(VLOOKUP($T12,'Rutland Water parkrun'!$F:$H,3,FALSE),0) -> 47 | AE12: =IFERROR(VLOOKUP($T12,'Great Eastern Run'!$F:$H,3,FALSE),0) -> 46 | AF12: =IFERROR(VLOOKUP($T12,'Fen 10'!$F:$H,3,FALSE),0) -> 0 | AG12: =IFERROR(VLOOKUP($T12,'The George Munday 10k'!$G:$J,4,FALSE),0) -> 0 | AH12: =LARGE(U12:AG12,1)+LARGE(U12:AG12,2)+LARGE(U12:AG12,3)+LARGE(U12:AG12,4)+LARGE(U12:AG12,5)+LARGE(U12:AG12,6) -> 284 | AI12: =COUNTIF(U12:AG12,">.09") -> 7 | AJ12: =_xlfn.RANK.EQ(AH12,$AH$10:$AH$81,0) -> 3 | AL12: Julia Parker | AM12: =IFERROR(VLOOKUP($AL12,'Folksworth 15'!$J:$L,3,FALSE),0) -> 44 | AN12: =IFERROR(VLOOKUP($AL12,'Dirt Run Irchester 7.5k'!$J:$L,3,FALSE),0) -> 48 | AO12: =IFERROR(VLOOKUP($AL12,'Burghley 7'!$J:$L,3,FALSE),0) -> 0 | AP12: =IFERROR(VLOOKUP($AL12,'King''s Cliffe Trail 10k'!$J:$L,3,FALSE),0) -> 48 | AQ12: =IFERROR(VLOOKUP($AL12,'Langtoft 10k'!J:L,3,FALSE),0) -> 47 | AR12: =IFERROR(VLOOKUP($AL12,'The Grim Reaper 10 Mile'!$J:$L,3,FALSE),0) -> 0 | AS12: =IFERROR(VLOOKUP($AL12,'Nene Valley Trail 10 Mile'!$J:$L,3,FALSE),0) -> 0 | AT12: =IFERROR(VLOOKUP($AL12,'Whissendine 6ix'!$J:$L,3,FALSE),0) -> 0 | AU12: =IFERROR(VLOOKUP($AL12,'Ponton Plod 10k'!$J:$L,3,FALSE),0) -> 50 | AV12: =IFERROR(VLOOKUP($AL12,'Rutland Water parkrun'!$J:$L,3,FALSE),0) -> 45 | AW12: =IFERROR(VLOOKUP($AL12,'Great Eastern Run'!$J:$L,3,FALSE),0) -> 0 | AX12: =IFERROR(VLOOKUP($AL12,'Fen 10'!$J:$L,3,FALSE),0) -> 0 | AY12: =IFERROR(VLOOKUP($AL12,'The George Munday 10k'!$L:$O,4,FALSE),0) -> 0 | AZ12: =LARGE(AM12:AY12,1)+LARGE(AM12:AY12,2)+LARGE(AM12:AY12,3)+LARGE(AM12:AY12,4)+LARGE(AM12:AY12,5)+LARGE(AM12:AY12,6) -> 282 | BA12: =COUNTIF(AM12:AY12,">0.09") -> 6 | BB12: =_xlfn.RANK.EQ(AZ12,$AZ$10:$AZ$140,0) -> 3
B13: Caroline Geddes | C13: =IFERROR(VLOOKUP($B13,'Folksworth 15'!$B:$D,3,FALSE),0) -> 40 | D13: =IFERROR(VLOOKUP($B13,'Dirt Run Irchester 7.5k'!$B:$D,3,FALSE),0) -> 45 | E13: =IFERROR(VLOOKUP($B13,'Burghley 7'!$B:$D,3,FALSE),0) -> 43 | F13: =IFERROR(VLOOKUP($B13,'King''s Cliffe Trail 10k'!$B:$D,3,FALSE),0) -> 0 | G13: =IFERROR(VLOOKUP($B13,'Langtoft 10k'!B:F,3,FALSE),0) -> 43 | H13: =IFERROR(VLOOKUP($B13,'The Grim Reaper 10 Mile'!$B:$D,3,FALSE),0) -> 46 | I13: =IFERROR(VLOOKUP($B13,'Nene Valley Trail 10 Mile'!B:D,3,FALSE),0) -> 42 | J13: =IFERROR(VLOOKUP($B13,'Whissendine 6ix'!$B:$D,3,FALSE),0) -> 0 | K13: =IFERROR(VLOOKUP($B13,'Ponton Plod 10k'!$B:$D,3,FALSE),0) -> 47 | L13: =IFERROR(VLOOKUP($B13,'Rutland Water parkrun'!$B:$D,3,FALSE),0) -> 44 | M13: =IFERROR(VLOOKUP($B13,'Great Eastern Run'!$B:$D,3,FALSE),0) -> 42 | N13: =IFERROR(VLOOKUP($B13,'Fen 10'!$B:$D,3,FALSE),0) -> 0 | O13: =IFERROR(VLOOKUP($B13,'The George Munday 10k'!B:E,4,FALSE),0) -> 0 | P13: =LARGE(C13:O13,1)+LARGE(C13:O13,2)+LARGE(C13:O13,3)+LARGE(C13:O13,4)+LARGE(C13:O13,5)+LARGE(C13:O13,6) -> 268 | Q13: =COUNTIF(C13:O13,">.09") -> 9 | R13: =_xlfn.RANK.EQ(P13,$P$10:$P$68,0) -> 4 | T13: James Kettle | U13: =IFERROR(VLOOKUP($T13,'Folksworth 15'!$F:$H,3,FALSE),0) -> 0 | V13: =IFERROR(VLOOKUP($T13,'Dirt Run Irchester 7.5k'!$F:$H,3,FALSE),0) -> 49 | W13: =IFERROR(VLOOKUP($T13,'Burghley 7'!$F:$H,3,FALSE),0) -> 42 | X13: =IFERROR(VLOOKUP($T13,'King''s Cliffe Trail 10k'!$F:$H,3,FALSE),0) -> 0 | Y13: =IFERROR(VLOOKUP($T13,'Langtoft 10k'!F:H,3,FALSE),0) -> 44 | Z13: =IFERROR(VLOOKUP($T13,'The Grim Reaper 10 Mile'!$F:$H,3,FALSE),0) -> 47 | AA13: =IFERROR(VLOOKUP($T13,'Nene Valley Trail 10 Mile'!$F:$H,3,FALSE),0) -> 47 | AB13: =IFERROR(VLOOKUP($T13,'Whissendine 6ix'!$F:$H,3,FALSE),0) -> 41 | AC13: =IFERROR(VLOOKUP($T13,'Ponton Plod 10k'!$F:$H,3,FALSE),0) -> 0 | AD13: =IFERROR(VLOOKUP($T13,'Rutland Water parkrun'!$F:$H,3,FALSE),0) -> 0 | AE13: =IFERROR(VLOOKUP($T13,'Great Eastern Run'!$F:$H,3,FALSE),0) -> 39 | AF13: =IFERROR(VLOOKUP($T13,'Fen 10'!$F:$H,3,FALSE),0) -> 0 | AG13: =IFERROR(VLOOKUP($T13,'The George Munday 10k'!$G:$J,4,FALSE),0) -> 0 | AH13: =LARGE(U13:AG13,1)+LARGE(U13:AG13,2)+LARGE(U13:AG13,3)+LARGE(U13:AG13,4)+LARGE(U13:AG13,5)+LARGE(U13:AG13,6) -> 270 | AI13: =COUNTIF(U13:AG13,">.09") -> 7 | AJ13: =_xlfn.RANK.EQ(AH13,$AH$10:$AH$81,0) -> 4 | AL13: James Kettle | AM13: =IFERROR(VLOOKUP($AL13,'Folksworth 15'!$J:$L,3,FALSE),0) -> 0 | AN13: =IFERROR(VLOOKUP($AL13,'Dirt Run Irchester 7.5k'!$J:$L,3,FALSE),0) -> 46 | AO13: =IFERROR(VLOOKUP($AL13,'Burghley 7'!$J:$L,3,FALSE),0) -> 43 | AP13: =IFERROR(VLOOKUP($AL13,'King''s Cliffe Trail 10k'!$J:$L,3,FALSE),0) -> 0 | AQ13: =IFERROR(VLOOKUP($AL13,'Langtoft 10k'!J:L,3,FALSE),0) -> 42 | AR13: =IFERROR(VLOOKUP($AL13,'The Grim Reaper 10 Mile'!$J:$L,3,FALSE),0) -> 48 | AS13: =IFERROR(VLOOKUP($AL13,'Nene Valley Trail 10 Mile'!$J:$L,3,FALSE),0) -> 44 | AT13: =IFERROR(VLOOKUP($AL13,'Whissendine 6ix'!$J:$L,3,FALSE),0) -> 42 | AU13: =IFERROR(VLOOKUP($AL13,'Ponton Plod 10k'!$J:$L,3,FALSE),0) -> 0 | AV13: =IFERROR(VLOOKUP($AL13,'Rutland Water parkrun'!$J:$L,3,FALSE),0) -> 0 | AW13: =IFERROR(VLOOKUP($AL13,'Great Eastern Run'!$J:$L,3,FALSE),0) -> 33 | AX13: =IFERROR(VLOOKUP($AL13,'Fen 10'!$J:$L,3,FALSE),0) -> 0 | AY13: =IFERROR(VLOOKUP($AL13,'The George Munday 10k'!$L:$O,4,FALSE),0) -> 0 | AZ13: =LARGE(AM13:AY13,1)+LARGE(AM13:AY13,2)+LARGE(AM13:AY13,3)+LARGE(AM13:AY13,4)+LARGE(AM13:AY13,5)+LARGE(AM13:AY13,6) -> 265 | BA13: =COUNTIF(AM13:AY13,">0.09") -> 7 | BB13: =_xlfn.RANK.EQ(AZ13,$AZ$10:$AZ$140,0) -> 4
B14: Laura Bailey | C14: =IFERROR(VLOOKUP($B14,'Folksworth 15'!$B:$D,3,FALSE),0) -> 47 | D14: =IFERROR(VLOOKUP($B14,'Dirt Run Irchester 7.5k'!$B:$D,3,FALSE),0) -> 0 | E14: =IFERROR(VLOOKUP($B14,'Burghley 7'!$B:$D,3,FALSE),0) -> 48 | F14: =IFERROR(VLOOKUP($B14,'King''s Cliffe Trail 10k'!$B:$D,3,FALSE),0) -> 0 | G14: =IFERROR(VLOOKUP($B14,'Langtoft 10k'!B:F,3,FALSE),0) -> 0 | H14: =IFERROR(VLOOKUP($B14,'The Grim Reaper 10 Mile'!$B:$D,3,FALSE),0) -> 49 | I14: =IFERROR(VLOOKUP($B14,'Nene Valley Trail 10 Mile'!B:D,3,FALSE),0) -> 48 | J14: =IFERROR(VLOOKUP($B14,'Whissendine 6ix'!$B:$D,3,FALSE),0) -> 0 | K14: =IFERROR(VLOOKUP($B14,'Ponton Plod 10k'!$B:$D,3,FALSE),0) -> 0 | L14: =IFERROR(VLOOKUP($B14,'Rutland Water parkrun'!$B:$D,3,FALSE),0) -> 0 | M14: =IFERROR(VLOOKUP($B14,'Great Eastern Run'!$B:$D,3,FALSE),0) -> 48 | N14: =IFERROR(VLOOKUP($B14,'Fen 10'!$B:$D,3,FALSE),0) -> 0 | O14: =IFERROR(VLOOKUP($B14,'The George Munday 10k'!B:E,4,FALSE),0) -> 0 | P14: =LARGE(C14:O14,1)+LARGE(C14:O14,2)+LARGE(C14:O14,3)+LARGE(C14:O14,4)+LARGE(C14:O14,5)+LARGE(C14:O14,6) -> 240 | Q14: =COUNTIF(C14:O14,">.09") -> 5 | R14: =_xlfn.RANK.EQ(P14,$P$10:$P$68,0) -> 5 | T14: Michael Flatters | U14: =IFERROR(VLOOKUP($T14,'Folksworth 15'!$F:$H,3,FALSE),0) -> 35 | V14: =IFERROR(VLOOKUP($T14,'Dirt Run Irchester 7.5k'!$F:$H,3,FALSE),0) -> 46 | W14: =IFERROR(VLOOKUP($T14,'Burghley 7'!$F:$H,3,FALSE),0) -> 30 | X14: =IFERROR(VLOOKUP($T14,'King''s Cliffe Trail 10k'!$F:$H,3,FALSE),0) -> 44 | Y14: =IFERROR(VLOOKUP($T14,'Langtoft 10k'!F:H,3,FALSE),0) -> 39 | Z14: =IFERROR(VLOOKUP($T14,'The Grim Reaper 10 Mile'!$F:$H,3,FALSE),0) -> 44 | AA14: =IFERROR(VLOOKUP($T14,'Nene Valley Trail 10 Mile'!$F:$H,3,FALSE),0) -> 39 | AB14: =IFERROR(VLOOKUP($T14,'Whissendine 6ix'!$F:$H,3,FALSE),0) -> 0 | AC14: =IFERROR(VLOOKUP($T14,'Ponton Plod 10k'!$F:$H,3,FALSE),0) -> 46 | AD14: =IFERROR(VLOOKUP($T14,'Rutland Water parkrun'!$F:$H,3,FALSE),0) -> 0 | AE14: =IFERROR(VLOOKUP($T14,'Great Eastern Run'!$F:$H,3,FALSE),0) -> 0 | AF14: =IFERROR(VLOOKUP($T14,'Fen 10'!$F:$H,3,FALSE),0) -> 0 | AG14: =IFERROR(VLOOKUP($T14,'The George Munday 10k'!$G:$J,4,FALSE),0) -> 0 | AH14: =LARGE(U14:AG14,1)+LARGE(U14:AG14,2)+LARGE(U14:AG14,3)+LARGE(U14:AG14,4)+LARGE(U14:AG14,5)+LARGE(U14:AG14,6) -> 258 | AI14: =COUNTIF(U14:AG14,">.09") -> 8 | AJ14: =_xlfn.RANK.EQ(AH14,$AH$10:$AH$81,0) -> 5 | AL14: Victoria Simpson | AM14: =IFERROR(VLOOKUP($AL14,'Folksworth 15'!$J:$L,3,FALSE),0) -> 0 | AN14: =IFERROR(VLOOKUP($AL14,'Dirt Run Irchester 7.5k'!$J:$L,3,FALSE),0) -> 49 | AO14: =IFERROR(VLOOKUP($AL14,'Burghley 7'!$J:$L,3,FALSE),0) -> 39 | AP14: =IFERROR(VLOOKUP($AL14,'King''s Cliffe Trail 10k'!$J:$L,3,FALSE),0) -> 41 | AQ14: =IFERROR(VLOOKUP($AL14,'Langtoft 10k'!J:L,3,FALSE),0) -> 41 | AR14: =IFERROR(VLOOKUP($AL14,'The Grim Reaper 10 Mile'!$J:$L,3,FALSE),0) -> 43 | AS14: =IFERROR(VLOOKUP($AL14,'Nene Valley Trail 10 Mile'!$J:$L,3,FALSE),0) -> 40 | AT14: =IFERROR(VLOOKUP($AL14,'Whissendine 6ix'!$J:$L,3,FALSE),0) -> 0 | AU14: =IFERROR(VLOOKUP($AL14,'Ponton Plod 10k'!$J:$L,3,FALSE),0) -> 47 | AV14: =IFERROR(VLOOKUP($AL14,'Rutland Water parkrun'!$J:$L,3,FALSE),0) -> 0 | AW14: =IFERROR(VLOOKUP($AL14,'Great Eastern Run'!$J:$L,3,FALSE),0) -> 38 | AX14: =IFERROR(VLOOKUP($AL14,'Fen 10'!$J:$L,3,FALSE),0) -> 0 | AY14: =IFERROR(VLOOKUP($AL14,'The George Munday 10k'!$L:$O,4,FALSE),0) -> 0 | AZ14: =LARGE(AM14:AY14,1)+LARGE(AM14:AY14,2)+LARGE(AM14:AY14,3)+LARGE(AM14:AY14,4)+LARGE(AM14:AY14,5)+LARGE(AM14:AY14,6) -> 261 | BA14: =COUNTIF(AM14:AY14,">0.09") -> 8 | BB14: =_xlfn.RANK.EQ(AZ14,$AZ$10:$AZ$140,0) -> 5
B15: Paula Short | C15: =IFERROR(VLOOKUP($B15,'Folksworth 15'!$B:$D,3,FALSE),0) -> 0 | D15: =IFERROR(VLOOKUP($B15,'Dirt Run Irchester 7.5k'!$B:$D,3,FALSE),0) -> 49 | E15: =IFERROR(VLOOKUP($B15,'Burghley 7'!$B:$D,3,FALSE),0) -> 0 | F15: =IFERROR(VLOOKUP($B15,'King''s Cliffe Trail 10k'!$B:$D,3,FALSE),0) -> 46 | G15: =IFERROR(VLOOKUP($B15,'Langtoft 10k'!B:F,3,FALSE),0) -> 47 | H15: =IFERROR(VLOOKUP($B15,'The Grim Reaper 10 Mile'!$B:$D,3,FALSE),0) -> 0 | I15: =IFERROR(VLOOKUP($B15,'Nene Valley Trail 10 Mile'!B:D,3,FALSE),0) -> 46 | J15: =IFERROR(VLOOKUP($B15,'Whissendine 6ix'!$B:$D,3,FALSE),0) -> 0 | K15: =IFERROR(VLOOKUP($B15,'Ponton Plod 10k'!$B:$D,3,FALSE),0) -> 50 | L15: =IFERROR(VLOOKUP($B15,'Rutland Water parkrun'!$B:$D,3,FALSE),0) -> 0 | M15: =IFERROR(VLOOKUP($B15,'Great Eastern Run'!$B:$D,3,FALSE),0) -> 0 | N15: =IFERROR(VLOOKUP($B15,'Fen 10'!$B:$D,3,FALSE),0) -> 0 | O15: =IFERROR(VLOOKUP($B15,'The George Munday 10k'!B:E,4,FALSE),0) -> 0 | P15: =LARGE(C15:O15,1)+LARGE(C15:O15,2)+LARGE(C15:O15,3)+LARGE(C15:O15,4)+LARGE(C15:O15,5)+LARGE(C15:O15,6) -> 238 | Q15: =COUNTIF(C15:O15,">.09") -> 5 | R15: =_xlfn.RANK.EQ(P15,$P$10:$P$68,0) -> 6 | T15: Luke Harrison | U15: =IFERROR(VLOOKUP($T15,'Folksworth 15'!$F:$H,3,FALSE),0) -> 50 | V15: =IFERROR(VLOOKUP($T15,'Dirt Run Irchester 7.5k'!$F:$H,3,FALSE),0) -> 0 | W15: =IFERROR(VLOOKUP($T15,'Burghley 7'!$F:$H,3,FALSE),0) -> 50 | X15: =IFERROR(VLOOKUP($T15,'King''s Cliffe Trail 10k'!$F:$H,3,FALSE),0) -> 49 | Y15: =IFERROR(VLOOKUP($T15,'Langtoft 10k'!F:H,3,FALSE),0) -> 50 | Z15: =IFERROR(VLOOKUP($T15,'The Grim Reaper 10 Mile'!$F:$H,3,FALSE),0) -> 0 | AA15: =IFERROR(VLOOKUP($T15,'Nene Valley Trail 10 Mile'!$F:$H,3,FALSE),0) -> 0 | AB15: =IFERROR(VLOOKUP($T15,'Whissendine 6ix'!$F:$H,3,FALSE),0) -> 50 | AC15: =IFERROR(VLOOKUP($T15,'Ponton Plod 10k'!$F:$H,3,FALSE),0) -> 0 | AD15: =IFERROR(VLOOKUP($T15,'Rutland Water parkrun'!$F:$H,3,FALSE),0) -> 0 | AE15: =IFERROR(VLOOKUP($T15,'Great Eastern Run'!$F:$H,3,FALSE),0) -> 0 | AF15: =IFERROR(VLOOKUP($T15,'Fen 10'!$F:$H,3,FALSE),0) -> 0 | AG15: =IFERROR(VLOOKUP($T15,'The George Munday 10k'!$G:$J,4,FALSE),0) -> 0 | AH15: =LARGE(U15:AG15,1)+LARGE(U15:AG15,2)+LARGE(U15:AG15,3)+LARGE(U15:AG15,4)+LARGE(U15:AG15,5)+LARGE(U15:AG15,6) -> 249 | AI15: =COUNTIF(U15:AG15,">.09") -> 5 | AJ15: =_xlfn.RANK.EQ(AH15,$AH$10:$AH$81,0) -> 6 | AL15: Suzanne Moon | AM15: =IFERROR(VLOOKUP($AL15,'Folksworth 15'!$J:$L,3,FALSE),0) -> 0 | AN15: =IFERROR(VLOOKUP($AL15,'Dirt Run Irchester 7.5k'!$J:$L,3,FALSE),0) -> 0 | AO15: =IFERROR(VLOOKUP($AL15,'Burghley 7'!$J:$L,3,FALSE),0) -> 37 | AP15: =IFERROR(VLOOKUP($AL15,'King''s Cliffe Trail 10k'!$J:$L,3,FALSE),0) -> 44 | AQ15: =IFERROR(VLOOKUP($AL15,'Langtoft 10k'!J:L,3,FALSE),0) -> 0 | AR15: =IFERROR(VLOOKUP($AL15,'The Grim Reaper 10 Mile'!$J:$L,3,FALSE),0) -> 45 | AS15: =IFERROR(VLOOKUP($AL15,'Nene Valley Trail 10 Mile'!$J:$L,3,FALSE),0) -> 43 | AT15: =IFERROR(VLOOKUP($AL15,'Whissendine 6ix'!$J:$L,3,FALSE),0) -> 0 | AU15: =IFERROR(VLOOKUP($AL15,'Ponton Plod 10k'!$J:$L,3,FALSE),0) -> 0 | AV15: =IFERROR(VLOOKUP($AL15,'Rutland Water parkrun'!$J:$L,3,FALSE),0) -> 44 | AW15: =IFERROR(VLOOKUP($AL15,'Great Eastern Run'!$J:$L,3,FALSE),0) -> 41 | AX15: =IFERROR(VLOOKUP($AL15,'Fen 10'!$J:$L,3,FALSE),0) -> 0 | AY15: =IFERROR(VLOOKUP($AL15,'The George Munday 10k'!$L:$O,4,FALSE),0) -> 0 | AZ15: =LARGE(AM15:AY15,1)+LARGE(AM15:AY15,2)+LARGE(AM15:AY15,3)+LARGE(AM15:AY15,4)+LARGE(AM15:AY15,5)+LARGE(AM15:AY15,6) -> 254 | BA15: =COUNTIF(AM15:AY15,">0.09") -> 6 | BB15: =_xlfn.RANK.EQ(AZ15,$AZ$10:$AZ$140,0) -> 6
B16: Mala Sun | C16: =IFERROR(VLOOKUP($B16,'Folksworth 15'!$B:$D,3,FALSE),0) -> 37 | D16: =IFERROR(VLOOKUP($B16,'Dirt Run Irchester 7.5k'!$B:$D,3,FALSE),0) -> 0 | E16: =IFERROR(VLOOKUP($B16,'Burghley 7'!$B:$D,3,FALSE),0) -> 38 | F16: =IFERROR(VLOOKUP($B16,'King''s Cliffe Trail 10k'!$B:$D,3,FALSE),0) -> 0 | G16: =IFERROR(VLOOKUP($B16,'Langtoft 10k'!B:F,3,FALSE),0) -> 38 | H16: =IFERROR(VLOOKUP($B16,'The Grim Reaper 10 Mile'!$B:$D,3,FALSE),0) -> 45 | I16: =IFERROR(VLOOKUP($B16,'Nene Valley Trail 10 Mile'!B:D,3,FALSE),0) -> 41 | J16: =IFERROR(VLOOKUP($B16,'Whissendine 6ix'!$B:$D,3,FALSE),0) -> 0 | K16: =IFERROR(VLOOKUP($B16,'Ponton Plod 10k'!$B:$D,3,FALSE),0) -> 0 | L16: =IFERROR(VLOOKUP($B16,'Rutland Water parkrun'!$B:$D,3,FALSE),0) -> 0 | M16: =IFERROR(VLOOKUP($B16,'Great Eastern Run'!$B:$D,3,FALSE),0) -> 35 | N16: =IFERROR(VLOOKUP($B16,'Fen 10'!$B:$D,3,FALSE),0) -> 0 | O16: =IFERROR(VLOOKUP($B16,'The George Munday 10k'!B:E,4,FALSE),0) -> 0 | P16: =LARGE(C16:O16,1)+LARGE(C16:O16,2)+LARGE(C16:O16,3)+LARGE(C16:O16,4)+LARGE(C16:O16,5)+LARGE(C16:O16,6) -> 234 | Q16: =COUNTIF(C16:O16,">.09") -> 6 | R16: =_xlfn.RANK.EQ(P16,$P$10:$P$68,0) -> 7 | T16: Martin Candish | U16: =IFERROR(VLOOKUP($T16,'Folksworth 15'!$F:$H,3,FALSE),0) -> 41 | V16: =IFERROR(VLOOKUP($T16,'Dirt Run Irchester 7.5k'!$F:$H,3,FALSE),0) -> 48 | W16: =IFERROR(VLOOKUP($T16,'Burghley 7'!$F:$H,3,FALSE),0) -> 0 | X16: =IFERROR(VLOOKUP($T16,'King''s Cliffe Trail 10k'!$F:$H,3,FALSE),0) -> 0 | Y16: =IFERROR(VLOOKUP($T16,'Langtoft 10k'!F:H,3,FALSE),0) -> 41 | Z16: =IFERROR(VLOOKUP($T16,'The Grim Reaper 10 Mile'!$F:$H,3,FALSE),0) -> 0 | AA16: =IFERROR(VLOOKUP($T16,'Nene Valley Trail 10 Mile'!$F:$H,3,FALSE),0) -> 43 | AB16: =IFERROR(VLOOKUP($T16,'Whissendine 6ix'!$F:$H,3,FALSE),0) -> 34 | AC16: =IFERROR(VLOOKUP($T16,'Ponton Plod 10k'!$F:$H,3,FALSE),0) -> 0 | AD16: =IFERROR(VLOOKUP($T16,'Rutland Water parkrun'!$F:$H,3,FALSE),0) -> 36 | AE16: =IFERROR(VLOOKUP($T16,'Great Eastern Run'!$F:$H,3,FALSE),0) -> 0 | AF16: =IFERROR(VLOOKUP($T16,'Fen 10'!$F:$H,3,FALSE),0) -> 0 | AG16: =IFERROR(VLOOKUP($T16,'The George Munday 10k'!$G:$J,4,FALSE),0) -> 0 | AH16: =LARGE(U16:AG16,1)+LARGE(U16:AG16,2)+LARGE(U16:AG16,3)+LARGE(U16:AG16,4)+LARGE(U16:AG16,5)+LARGE(U16:AG16,6) -> 243 | AI16: =COUNTIF(U16:AG16,">.09") -> 6 | AJ16: =_xlfn.RANK.EQ(AH16,$AH$10:$AH$81,0) -> 7 | AL16: Luke Harrison | AM16: =IFERROR(VLOOKUP($AL16,'Folksworth 15'!$J:$L,3,FALSE),0) -> 49 | AN16: =IFERROR(VLOOKUP($AL16,'Dirt Run Irchester 7.5k'!$J:$L,3,FALSE),0) -> 0 | AO16: =IFERROR(VLOOKUP($AL16,'Burghley 7'!$J:$L,3,FALSE),0) -> 48 | AP16: =IFERROR(VLOOKUP($AL16,'King''s Cliffe Trail 10k'!$J:$L,3,FALSE),0) -> 49 | AQ16: =IFERROR(VLOOKUP($AL16,'Langtoft 10k'!J:L,3,FALSE),0) -> 49 | AR16: =IFERROR(VLOOKUP($AL16,'The Grim Reaper 10 Mile'!$J:$L,3,FALSE),0) -> 0 | AS16: =IFERROR(VLOOKUP($AL16,'Nene Valley Trail 10 Mile'!$J:$L,3,FALSE),0) -> 0 | AT16: =IFERROR(VLOOKUP($AL16,'Whissendine 6ix'!$J:$L,3,FALSE),0) -> 48 | AU16: =IFERROR(VLOOKUP($AL16,'Ponton Plod 10k'!$J:$L,3,FALSE),0) -> 0 | AV16: =IFERROR(VLOOKUP($AL16,'Rutland Water parkrun'!$J:$L,3,FALSE),0) -> 0 | AW16: =IFERROR(VLOOKUP($AL16,'Great Eastern Run'!$J:$L,3,FALSE),0) -> 0 | AX16: =IFERROR(VLOOKUP($AL16,'Fen 10'!$J:$L,3,FALSE),0) -> 0 | AY16: =IFERROR(VLOOKUP($AL16,'The George Munday 10k'!$L:$O,4,FALSE),0) -> 0 | AZ16: =LARGE(AM16:AY16,1)+LARGE(AM16:AY16,2)+LARGE(AM16:AY16,3)+LARGE(AM16:AY16,4)+LARGE(AM16:AY16,5)+LARGE(AM16:AY16,6) -> 243 | BA16: =COUNTIF(AM16:AY16,">0.09") -> 5 | BB16: =_xlfn.RANK.EQ(AZ16,$AZ$10:$AZ$140,0) -> 7
B17: Alison Woods | C17: =IFERROR(VLOOKUP($B17,'Folksworth 15'!$B:$D,3,FALSE),0) -> 43 | D17: =IFERROR(VLOOKUP($B17,'Dirt Run Irchester 7.5k'!$B:$D,3,FALSE),0) -> 0 | E17: =IFERROR(VLOOKUP($B17,'Burghley 7'!$B:$D,3,FALSE),0) -> 46 | F17: =IFERROR(VLOOKUP($B17,'King''s Cliffe Trail 10k'!$B:$D,3,FALSE),0) -> 0 | G17: =IFERROR(VLOOKUP($B17,'Langtoft 10k'!B:F,3,FALSE),0) -> 0 | H17: =IFERROR(VLOOKUP($B17,'The Grim Reaper 10 Mile'!$B:$D,3,FALSE),0) -> 0 | I17: =IFERROR(VLOOKUP($B17,'Nene Valley Trail 10 Mile'!B:D,3,FALSE),0) -> 0 | J17: =IFERROR(VLOOKUP($B17,'Whissendine 6ix'!$B:$D,3,FALSE),0) -> 49 | K17: =IFERROR(VLOOKUP($B17,'Ponton Plod 10k'!$B:$D,3,FALSE),0) -> 0 | L17: =IFERROR(VLOOKUP($B17,'Rutland Water parkrun'!$B:$D,3,FALSE),0) -> 46 | M17: =IFERROR(VLOOKUP($B17,'Great Eastern Run'!$B:$D,3,FALSE),0) -> 43 | N17: =IFERROR(VLOOKUP($B17,'Fen 10'!$B:$D,3,FALSE),0) -> 0 | O17: =IFERROR(VLOOKUP($B17,'The George Munday 10k'!B:E,4,FALSE),0) -> 0 | P17: =LARGE(C17:O17,1)+LARGE(C17:O17,2)+LARGE(C17:O17,3)+LARGE(C17:O17,4)+LARGE(C17:O17,5)+LARGE(C17:O17,6) -> 227 | Q17: =COUNTIF(C17:O17,">.09") -> 5 | R17: =_xlfn.RANK.EQ(P17,$P$10:$P$68,0) -> 8 | T17: Max Ranson | U17: =IFERROR(VLOOKUP($T17,'Folksworth 15'!$F:$H,3,FALSE),0) -> 0 | V17: =IFERROR(VLOOKUP($T17,'Dirt Run Irchester 7.5k'!$F:$H,3,FALSE),0) -> 0 | W17: =IFERROR(VLOOKUP($T17,'Burghley 7'!$F:$H,3,FALSE),0) -> 48 | X17: =IFERROR(VLOOKUP($T17,'King''s Cliffe Trail 10k'!$F:$H,3,FALSE),0) -> 48 | Y17: =IFERROR(VLOOKUP($T17,'Langtoft 10k'!F:H,3,FALSE),0) -> 49 | Z17: =IFERROR(VLOOKUP($T17,'The Grim Reaper 10 Mile'!$F:$H,3,FALSE),0) -> 0 | AA17: =IFERROR(VLOOKUP($T17,'Nene Valley Trail 10 Mile'!$F:$H,3,FALSE),0) -> 0 | AB17: =IFERROR(VLOOKUP($T17,'Whissendine 6ix'!$F:$H,3,FALSE),0) -> 48 | AC17: =IFERROR(VLOOKUP($T17,'Ponton Plod 10k'!$F:$H,3,FALSE),0) -> 0 | AD17: =IFERROR(VLOOKUP($T17,'Rutland Water parkrun'!$F:$H,3,FALSE),0) -> 48 | AE17: =IFERROR(VLOOKUP($T17,'Great Eastern Run'!$F:$H,3,FALSE),0) -> 0 | AF17: =IFERROR(VLOOKUP($T17,'Fen 10'!$F:$H,3,FALSE),0) -> 0 | AG17: =IFERROR(VLOOKUP($T17,'The George Munday 10k'!$G:$J,4,FALSE),0) -> 0 | AH17: =LARGE(U17:AG17,1)+LARGE(U17:AG17,2)+LARGE(U17:AG17,3)+LARGE(U17:AG17,4)+LARGE(U17:AG17,5)+LARGE(U17:AG17,6) -> 241 | AI17: =COUNTIF(U17:AG17,">.09") -> 5 | AJ17: =_xlfn.RANK.EQ(AH17,$AH$10:$AH$81,0) -> 8 | AL17: Mark Popple | AM17: =IFERROR(VLOOKUP($AL17,'Folksworth 15'!$J:$L,3,FALSE),0) -> 0 | AN17: =IFERROR(VLOOKUP($AL17,'Dirt Run Irchester 7.5k'!$J:$L,3,FALSE),0) -> 0 | AO17: =IFERROR(VLOOKUP($AL17,'Burghley 7'!$J:$L,3,FALSE),0) -> 36 | AP17: =IFERROR(VLOOKUP($AL17,'King''s Cliffe Trail 10k'!$J:$L,3,FALSE),0) -> 42 | AQ17: =IFERROR(VLOOKUP($AL17,'Langtoft 10k'!J:L,3,FALSE),0) -> 0 | AR17: =IFERROR(VLOOKUP($AL17,'The Grim Reaper 10 Mile'!$J:$L,3,FALSE),0) -> 44 | AS17: =IFERROR(VLOOKUP($AL17,'Nene Valley Trail 10 Mile'!$J:$L,3,FALSE),0) -> 0 | AT17: =IFERROR(VLOOKUP($AL17,'Whissendine 6ix'!$J:$L,3,FALSE),0) -> 40 | AU17: =IFERROR(VLOOKUP($AL17,'Ponton Plod 10k'!$J:$L,3,FALSE),0) -> 44 | AV17: =IFERROR(VLOOKUP($AL17,'Rutland Water parkrun'!$J:$L,3,FALSE),0) -> 37 | AW17: =IFERROR(VLOOKUP($AL17,'Great Eastern Run'!$J:$L,3,FALSE),0) -> 35 | AX17: =IFERROR(VLOOKUP($AL17,'Fen 10'!$J:$L,3,FALSE),0) -> 0 | AY17: =IFERROR(VLOOKUP($AL17,'The George Munday 10k'!$L:$O,4,FALSE),0) -> 0 | AZ17: =LARGE(AM17:AY17,1)+LARGE(AM17:AY17,2)+LARGE(AM17:AY17,3)+LARGE(AM17:AY17,4)+LARGE(AM17:AY17,5)+LARGE(AM17:AY17,6) -> 243 | BA17: =COUNTIF(AM17:AY17,">0.09") -> 7 | BB17: =_xlfn.RANK.EQ(AZ17,$AZ$10:$AZ$140,0) -> 7
B18: Cheryl Allibone | C18: =IFERROR(VLOOKUP($B18,'Folksworth 15'!$B:$D,3,FALSE),0) -> 41 | D18: =IFERROR(VLOOKUP($B18,'Dirt Run Irchester 7.5k'!$B:$D,3,FALSE),0) -> 47 | E18: =IFERROR(VLOOKUP($B18,'Burghley 7'!$B:$D,3,FALSE),0) -> 45 | F18: =IFERROR(VLOOKUP($B18,'King''s Cliffe Trail 10k'!$B:$D,3,FALSE),0) -> 0 | G18: =IFERROR(VLOOKUP($B18,'Langtoft 10k'!B:F,3,FALSE),0) -> 45 | H18: =IFERROR(VLOOKUP($B18,'The Grim Reaper 10 Mile'!$B:$D,3,FALSE),0) -> 0 | I18: =IFERROR(VLOOKUP($B18,'Nene Valley Trail 10 Mile'!B:D,3,FALSE),0) -> 0 | J18: =IFERROR(VLOOKUP($B18,'Whissendine 6ix'!$B:$D,3,FALSE),0) -> 0 | K18: =IFERROR(VLOOKUP($B18,'Ponton Plod 10k'!$B:$D,3,FALSE),0) -> 0 | L18: =IFERROR(VLOOKUP($B18,'Rutland Water parkrun'!$B:$D,3,FALSE),0) -> 43 | M18: =IFERROR(VLOOKUP($B18,'Great Eastern Run'!$B:$D,3,FALSE),0) -> 0 | N18: =IFERROR(VLOOKUP($B18,'Fen 10'!$B:$D,3,FALSE),0) -> 0 | O18: =IFERROR(VLOOKUP($B18,'The George Munday 10k'!B:E,4,FALSE),0) -> 0 | P18: =LARGE(C18:O18,1)+LARGE(C18:O18,2)+LARGE(C18:O18,3)+LARGE(C18:O18,4)+LARGE(C18:O18,5)+LARGE(C18:O18,6) -> 221 | Q18: =COUNTIF(C18:O18,">.09") -> 5 | R18: =_xlfn.RANK.EQ(P18,$P$10:$P$68,0) -> 9 | T18: David Marples | U18: =IFERROR(VLOOKUP($T18,'Folksworth 15'!$F:$H,3,FALSE),0) -> 0 | V18: =IFERROR(VLOOKUP($T18,'Dirt Run Irchester 7.5k'!$F:$H,3,FALSE),0) -> 0 | W18: =IFERROR(VLOOKUP($T18,'Burghley 7'!$F:$H,3,FALSE),0) -> 0 | X18: =IFERROR(VLOOKUP($T18,'King''s Cliffe Trail 10k'!$F:$H,3,FALSE),0) -> 0 | Y18: =IFERROR(VLOOKUP($T18,'Langtoft 10k'!F:H,3,FALSE),0) -> 0 | Z18: =IFERROR(VLOOKUP($T18,'The Grim Reaper 10 Mile'!$F:$H,3,FALSE),0) -> 48 | AA18: =IFERROR(VLOOKUP($T18,'Nene Valley Trail 10 Mile'!$F:$H,3,FALSE),0) -> 46 | AB18: =IFERROR(VLOOKUP($T18,'Whissendine 6ix'!$F:$H,3,FALSE),0) -> 40 | AC18: =IFERROR(VLOOKUP($T18,'Ponton Plod 10k'!$F:$H,3,FALSE),0) -> 49 | AD18: =IFERROR(VLOOKUP($T18,'Rutland Water parkrun'!$F:$H,3,FALSE),0) -> 42 | AE18: =IFERROR(VLOOKUP($T18,'Great Eastern Run'!$F:$H,3,FALSE),0) -> 0 | AF18: =IFERROR(VLOOKUP($T18,'Fen 10'!$F:$H,3,FALSE),0) -> 0 | AG18: =IFERROR(VLOOKUP($T18,'The George Munday 10k'!$G:$J,4,FALSE),0) -> 0 | AH18: =LARGE(U18:AG18,1)+LARGE(U18:AG18,2)+LARGE(U18:AG18,3)+LARGE(U18:AG18,4)+LARGE(U18:AG18,5)+LARGE(U18:AG18,6) -> 225 | AI18: =COUNTIF(U18:AG18,">.09") -> 5 | AJ18: =_xlfn.RANK.EQ(AH18,$AH$10:$AH$81,0) -> 9 | AL18: Marcus Brown | AM18: =IFERROR(VLOOKUP($AL18,'Folksworth 15'!$J:$L,3,FALSE),0) -> 0 | AN18: =IFERROR(VLOOKUP($AL18,'Dirt Run Irchester 7.5k'!$J:$L,3,FALSE),0) -> 0 | AO18: =IFERROR(VLOOKUP($AL18,'Burghley 7'!$J:$L,3,FALSE),0) -> 46 | AP18: =IFERROR(VLOOKUP($AL18,'King''s Cliffe Trail 10k'!$J:$L,3,FALSE),0) -> 0 | AQ18: =IFERROR(VLOOKUP($AL18,'Langtoft 10k'!J:L,3,FALSE),0) -> 50 | AR18: =IFERROR(VLOOKUP($AL18,'The Grim Reaper 10 Mile'!$J:$L,3,FALSE),0) -> 0 | AS18: =IFERROR(VLOOKUP($AL18,'Nene Valley Trail 10 Mile'!$J:$L,3,FALSE),0) -> 0 | AT18: =IFERROR(VLOOKUP($AL18,'Whissendine 6ix'!$J:$L,3,FALSE),0) -> 47 | AU18: =IFERROR(VLOOKUP($AL18,'Ponton Plod 10k'!$J:$L,3,FALSE),0) -> 0 | AV18: =IFERROR(VLOOKUP($AL18,'Rutland Water parkrun'!$J:$L,3,FALSE),0) -> 47 | AW18: =IFERROR(VLOOKUP($AL18,'Great Eastern Run'!$J:$L,3,FALSE),0) -> 36 | AX18: =IFERROR(VLOOKUP($AL18,'Fen 10'!$J:$L,3,FALSE),0) -> 0 | AY18: =IFERROR(VLOOKUP($AL18,'The George Munday 10k'!$L:$O,4,FALSE),0) -> 0 | AZ18: =LARGE(AM18:AY18,1)+LARGE(AM18:AY18,2)+LARGE(AM18:AY18,3)+LARGE(AM18:AY18,4)+LARGE(AM18:AY18,5)+LARGE(AM18:AY18,6) -> 226 | BA18: =COUNTIF(AM18:AY18,">0.09") -> 5 | BB18: =_xlfn.RANK.EQ(AZ18,$AZ$10:$AZ$140,0) -> 9
B19: Claire Piercy | C19: =IFERROR(VLOOKUP($B19,'Folksworth 15'!$B:$D,3,FALSE),0) -> 50 | D19: =IFERROR(VLOOKUP($B19,'Dirt Run Irchester 7.5k'!$B:$D,3,FALSE),0) -> 0 | E19: =IFERROR(VLOOKUP($B19,'Burghley 7'!$B:$D,3,FALSE),0) -> 0 | F19: =IFERROR(VLOOKUP($B19,'King''s Cliffe Trail 10k'!$B:$D,3,FALSE),0) -> 0 | G19: =IFERROR(VLOOKUP($B19,'Langtoft 10k'!B:F,3,FALSE),0) -> 49 | H19: =IFERROR(VLOOKUP($B19,'The Grim Reaper 10 Mile'!$B:$D,3,FALSE),0) -> 0 | I19: =IFERROR(VLOOKUP($B19,'Nene Valley Trail 10 Mile'!B:D,3,FALSE),0) -> 49 | J19: =IFERROR(VLOOKUP($B19,'Whissendine 6ix'!$B:$D,3,FALSE),0) -> 0 | K19: =IFERROR(VLOOKUP($B19,'Ponton Plod 10k'!$B:$D,3,FALSE),0) -> 0 | L19: =IFERROR(VLOOKUP($B19,'Rutland Water parkrun'!$B:$D,3,FALSE),0) -> 0 | M19: =IFERROR(VLOOKUP($B19,'Great Eastern Run'!$B:$D,3,FALSE),0) -> 50 | N19: =IFERROR(VLOOKUP($B19,'Fen 10'!$B:$D,3,FALSE),0) -> 0 | O19: =IFERROR(VLOOKUP($B19,'The George Munday 10k'!B:E,4,FALSE),0) -> 0 | P19: =LARGE(C19:O19,1)+LARGE(C19:O19,2)+LARGE(C19:O19,3)+LARGE(C19:O19,4)+LARGE(C19:O19,5)+LARGE(C19:O19,6) -> 198 | Q19: =COUNTIF(C19:O19,">.09") -> 4 | R19: =_xlfn.RANK.EQ(P19,$P$10:$P$68,0) -> 10 | T19: Neil Lakin | U19: =IFERROR(VLOOKUP($T19,'Folksworth 15'!$F:$H,3,FALSE),0) -> 46 | V19: =IFERROR(VLOOKUP($T19,'Dirt Run Irchester 7.5k'!$F:$H,3,FALSE),0) -> 0 | W19: =IFERROR(VLOOKUP($T19,'Burghley 7'!$F:$H,3,FALSE),0) -> 0 | X19: =IFERROR(VLOOKUP($T19,'King''s Cliffe Trail 10k'!$F:$H,3,FALSE),0) -> 0 | Y19: =IFERROR(VLOOKUP($T19,'Langtoft 10k'!F:H,3,FALSE),0) -> 47 | Z19: =IFERROR(VLOOKUP($T19,'The Grim Reaper 10 Mile'!$F:$H,3,FALSE),0) -> 0 | AA19: =IFERROR(VLOOKUP($T19,'Nene Valley Trail 10 Mile'!$F:$H,3,FALSE),0) -> 0 | AB19: =IFERROR(VLOOKUP($T19,'Whissendine 6ix'!$F:$H,3,FALSE),0) -> 43 | AC19: =IFERROR(VLOOKUP($T19,'Ponton Plod 10k'!$F:$H,3,FALSE),0) -> 0 | AD19: =IFERROR(VLOOKUP($T19,'Rutland Water parkrun'!$F:$H,3,FALSE),0) -> 45 | AE19: =IFERROR(VLOOKUP($T19,'Great Eastern Run'!$F:$H,3,FALSE),0) -> 44 | AF19: =IFERROR(VLOOKUP($T19,'Fen 10'!$F:$H,3,FALSE),0) -> 0 | AG19: =IFERROR(VLOOKUP($T19,'The George Munday 10k'!$G:$J,4,FALSE),0) -> 0 | AH19: =LARGE(U19:AG19,1)+LARGE(U19:AG19,2)+LARGE(U19:AG19,3)+LARGE(U19:AG19,4)+LARGE(U19:AG19,5)+LARGE(U19:AG19,6) -> 225 | AI19: =COUNTIF(U19:AG19,">.09") -> 5 | AJ19: =_xlfn.RANK.EQ(AH19,$AH$10:$AH$81,0) -> 9 | AL19: Nick Wells | AM19: =IFERROR(VLOOKUP($AL19,'Folksworth 15'!$J:$L,3,FALSE),0) -> 0 | AN19: =IFERROR(VLOOKUP($AL19,'Dirt Run Irchester 7.5k'!$J:$L,3,FALSE),0) -> 0 | AO19: =IFERROR(VLOOKUP($AL19,'Burghley 7'!$J:$L,3,FALSE),0) -> 38 | AP19: =IFERROR(VLOOKUP($AL19,'King''s Cliffe Trail 10k'!$J:$L,3,FALSE),0) -> 47 | AQ19: =IFERROR(VLOOKUP($AL19,'Langtoft 10k'!J:L,3,FALSE),0) -> 0 | AR19: =IFERROR(VLOOKUP($AL19,'The Grim Reaper 10 Mile'!$J:$L,3,FALSE),0) -> 46 | AS19: =IFERROR(VLOOKUP($AL19,'Nene Valley Trail 10 Mile'!$J:$L,3,FALSE),0) -> 45 | AT19: =IFERROR(VLOOKUP($AL19,'Whissendine 6ix'!$J:$L,3,FALSE),0) -> 0 | AU19: =IFERROR(VLOOKUP($AL19,'Ponton Plod 10k'!$J:$L,3,FALSE),0) -> 0 | AV19: =IFERROR(VLOOKUP($AL19,'Rutland Water parkrun'!$J:$L,3,FALSE),0) -> 0 | AW19: =IFERROR(VLOOKUP($AL19,'Great Eastern Run'!$J:$L,3,FALSE),0) -> 43 | AX19: =IFERROR(VLOOKUP($AL19,'Fen 10'!$J:$L,3,FALSE),0) -> 0 | AY19: =IFERROR(VLOOKUP($AL19,'The George Munday 10k'!$L:$O,4,FALSE),0) -> 0 | AZ19: =LARGE(AM19:AY19,1)+LARGE(AM19:AY19,2)+LARGE(AM19:AY19,3)+LARGE(AM19:AY19,4)+LARGE(AM19:AY19,5)+LARGE(AM19:AY19,6) -> 219 | BA19: =COUNTIF(AM19:AY19,">0.09") -> 5 | BB19: =_xlfn.RANK.EQ(AZ19,$AZ$10:$AZ$140,0) -> 10
B20: Helen Popple | C20: =IFERROR(VLOOKUP($B20,'Folksworth 15'!$B:$D,3,FALSE),0) -> 0 | D20: =IFERROR(VLOOKUP($B20,'Dirt Run Irchester 7.5k'!$B:$D,3,FALSE),0) -> 0 | E20: =IFERROR(VLOOKUP($B20,'Burghley 7'!$B:$D,3,FALSE),0) -> 41 | F20: =IFERROR(VLOOKUP($B20,'King''s Cliffe Trail 10k'!$B:$D,3,FALSE),0) -> 40 | G20: =IFERROR(VLOOKUP($B20,'Langtoft 10k'!B:F,3,FALSE),0) -> 39 | H20: =IFERROR(VLOOKUP($B20,'The Grim Reaper 10 Mile'!$B:$D,3,FALSE),0) -> 0 | I20: =IFERROR(VLOOKUP($B20,'Nene Valley Trail 10 Mile'!B:D,3,FALSE),0) -> 0 | J20: =IFERROR(VLOOKUP($B20,'Whissendine 6ix'!$B:$D,3,FALSE),0) -> 0 | K20: =IFERROR(VLOOKUP($B20,'Ponton Plod 10k'!$B:$D,3,FALSE),0) -> 0 | L20: =IFERROR(VLOOKUP($B20,'Rutland Water parkrun'!$B:$D,3,FALSE),0) -> 37 | M20: =IFERROR(VLOOKUP($B20,'Great Eastern Run'!$B:$D,3,FALSE),0) -> 0 | N20: =IFERROR(VLOOKUP($B20,'Fen 10'!$B:$D,3,FALSE),0) -> 0 | O20: =IFERROR(VLOOKUP($B20,'The George Munday 10k'!B:E,4,FALSE),0) -> 0 | P20: =LARGE(C20:O20,1)+LARGE(C20:O20,2)+LARGE(C20:O20,3)+LARGE(C20:O20,4)+LARGE(C20:O20,5)+LARGE(C20:O20,6) -> 157 | Q20: =COUNTIF(C20:O20,">.09") -> 4 | R20: =_xlfn.RANK.EQ(P20,$P$10:$P$68,0) -> 11 | T20: Marcus Brown | U20: =IFERROR(VLOOKUP($T20,'Folksworth 15'!$F:$H,3,FALSE),0) -> 0 | V20: =IFERROR(VLOOKUP($T20,'Dirt Run Irchester 7.5k'!$F:$H,3,FALSE),0) -> 0 | W20: =IFERROR(VLOOKUP($T20,'Burghley 7'!$F:$H,3,FALSE),0) -> 40 | X20: =IFERROR(VLOOKUP($T20,'King''s Cliffe Trail 10k'!$F:$H,3,FALSE),0) -> 0 | Y20: =IFERROR(VLOOKUP($T20,'Langtoft 10k'!F:H,3,FALSE),0) -> 46 | Z20: =IFERROR(VLOOKUP($T20,'The Grim Reaper 10 Mile'!$F:$H,3,FALSE),0) -> 0 | AA20: =IFERROR(VLOOKUP($T20,'Nene Valley Trail 10 Mile'!$F:$H,3,FALSE),0) -> 0 | AB20: =IFERROR(VLOOKUP($T20,'Whissendine 6ix'!$F:$H,3,FALSE),0) -> 44 | AC20: =IFERROR(VLOOKUP($T20,'Ponton Plod 10k'!$F:$H,3,FALSE),0) -> 0 | AD20: =IFERROR(VLOOKUP($T20,'Rutland Water parkrun'!$F:$H,3,FALSE),0) -> 46 | AE20: =IFERROR(VLOOKUP($T20,'Great Eastern Run'!$F:$H,3,FALSE),0) -> 36 | AF20: =IFERROR(VLOOKUP($T20,'Fen 10'!$F:$H,3,FALSE),0) -> 0 | AG20: =IFERROR(VLOOKUP($T20,'The George Munday 10k'!$G:$J,4,FALSE),0) -> 0 | AH20: =LARGE(U20:AG20,1)+LARGE(U20:AG20,2)+LARGE(U20:AG20,3)+LARGE(U20:AG20,4)+LARGE(U20:AG20,5)+LARGE(U20:AG20,6) -> 212 | AI20: =COUNTIF(U20:AG20,">.09") -> 5 | AJ20: =_xlfn.RANK.EQ(AH20,$AH$10:$AH$81,0) -> 11 | AL20: Michael Flatters | AM20: =IFERROR(VLOOKUP($AL20,'Folksworth 15'!$J:$L,3,FALSE),0) -> 30 | AN20: =IFERROR(VLOOKUP($AL20,'Dirt Run Irchester 7.5k'!$J:$L,3,FALSE),0) -> 42 | AO20: =IFERROR(VLOOKUP($AL20,'Burghley 7'!$J:$L,3,FALSE),0) -> 30 | AP20: =IFERROR(VLOOKUP($AL20,'King''s Cliffe Trail 10k'!$J:$L,3,FALSE),0) -> 33 | AQ20: =IFERROR(VLOOKUP($AL20,'Langtoft 10k'!J:L,3,FALSE),0) -> 30 | AR20: =IFERROR(VLOOKUP($AL20,'The Grim Reaper 10 Mile'!$J:$L,3,FALSE),0) -> 39 | AS20: =IFERROR(VLOOKUP($AL20,'Nene Valley Trail 10 Mile'!$J:$L,3,FALSE),0) -> 30 | AT20: =IFERROR(VLOOKUP($AL20,'Whissendine 6ix'!$J:$L,3,FALSE),0) -> 0 | AU20: =IFERROR(VLOOKUP($AL20,'Ponton Plod 10k'!$J:$L,3,FALSE),0) -> 43 | AV20: =IFERROR(VLOOKUP($AL20,'Rutland Water parkrun'!$J:$L,3,FALSE),0) -> 0 | AW20: =IFERROR(VLOOKUP($AL20,'Great Eastern Run'!$J:$L,3,FALSE),0) -> 0 | AX20: =IFERROR(VLOOKUP($AL20,'Fen 10'!$J:$L,3,FALSE),0) -> 0 | AY20: =IFERROR(VLOOKUP($AL20,'The George Munday 10k'!$L:$O,4,FALSE),0) -> 0 | AZ20: =LARGE(AM20:AY20,1)+LARGE(AM20:AY20,2)+LARGE(AM20:AY20,3)+LARGE(AM20:AY20,4)+LARGE(AM20:AY20,5)+LARGE(AM20:AY20,6) -> 217 | BA20: =COUNTIF(AM20:AY20,">0.09") -> 8 | BB20: =_xlfn.RANK.EQ(AZ20,$AZ$10:$AZ$140,0) -> 11
B21: Jen Dancy | C21: =IFERROR(VLOOKUP($B21,'Folksworth 15'!$B:$D,3,FALSE),0) -> 0 | D21: =IFERROR(VLOOKUP($B21,'Dirt Run Irchester 7.5k'!$B:$D,3,FALSE),0) -> 0 | E21: =IFERROR(VLOOKUP($B21,'Burghley 7'!$B:$D,3,FALSE),0) -> 0 | F21: =IFERROR(VLOOKUP($B21,'King''s Cliffe Trail 10k'!$B:$D,3,FALSE),0) -> 0 | G21: =IFERROR(VLOOKUP($B21,'Langtoft 10k'!B:F,3,FALSE),0) -> 50 | H21: =IFERROR(VLOOKUP($B21,'The Grim Reaper 10 Mile'!$B:$D,3,FALSE),0) -> 0 | I21: =IFERROR(VLOOKUP($B21,'Nene Valley Trail 10 Mile'!B:D,3,FALSE),0) -> 0 | J21: =IFERROR(VLOOKUP($B21,'Whissendine 6ix'!$B:$D,3,FALSE),0) -> 0 | K21: =IFERROR(VLOOKUP($B21,'Ponton Plod 10k'!$B:$D,3,FALSE),0) -> 0 | L21: =IFERROR(VLOOKUP($B21,'Rutland Water parkrun'!$B:$D,3,FALSE),0) -> 50 | M21: =IFERROR(VLOOKUP($B21,'Great Eastern Run'!$B:$D,3,FALSE),0) -> 47 | N21: =IFERROR(VLOOKUP($B21,'Fen 10'!$B:$D,3,FALSE),0) -> 0 | O21: =IFERROR(VLOOKUP($B21,'The George Munday 10k'!B:E,4,FALSE),0) -> 0 | P21: =LARGE(C21:O21,1)+LARGE(C21:O21,2)+LARGE(C21:O21,3)+LARGE(C21:O21,4)+LARGE(C21:O21,5)+LARGE(C21:O21,6) -> 147 | Q21: =COUNTIF(C21:O21,">.09") -> 3 | R21: =_xlfn.RANK.EQ(P21,$P$10:$P$68,0) -> 12 | T21: Nick Wells | U21: =IFERROR(VLOOKUP($T21,'Folksworth 15'!$F:$H,3,FALSE),0) -> 0 | V21: =IFERROR(VLOOKUP($T21,'Dirt Run Irchester 7.5k'!$F:$H,3,FALSE),0) -> 0 | W21: =IFERROR(VLOOKUP($T21,'Burghley 7'!$F:$H,3,FALSE),0) -> 35 | X21: =IFERROR(VLOOKUP($T21,'King''s Cliffe Trail 10k'!$F:$H,3,FALSE),0) -> 46 | Y21: =IFERROR(VLOOKUP($T21,'Langtoft 10k'!F:H,3,FALSE),0) -> 0 | Z21: =IFERROR(VLOOKUP($T21,'The Grim Reaper 10 Mile'!$F:$H,3,FALSE),0) -> 45 | AA21: =IFERROR(VLOOKUP($T21,'Nene Valley Trail 10 Mile'!$F:$H,3,FALSE),0) -> 44 | AB21: =IFERROR(VLOOKUP($T21,'Whissendine 6ix'!$F:$H,3,FALSE),0) -> 0 | AC21: =IFERROR(VLOOKUP($T21,'Ponton Plod 10k'!$F:$H,3,FALSE),0) -> 0 | AD21: =IFERROR(VLOOKUP($T21,'Rutland Water parkrun'!$F:$H,3,FALSE),0) -> 0 | AE21: =IFERROR(VLOOKUP($T21,'Great Eastern Run'!$F:$H,3,FALSE),0) -> 37 | AF21: =IFERROR(VLOOKUP($T21,'Fen 10'!$F:$H,3,FALSE),0) -> 0 | AG21: =IFERROR(VLOOKUP($T21,'The George Munday 10k'!$G:$J,4,FALSE),0) -> 0 | AH21: =LARGE(U21:AG21,1)+LARGE(U21:AG21,2)+LARGE(U21:AG21,3)+LARGE(U21:AG21,4)+LARGE(U21:AG21,5)+LARGE(U21:AG21,6) -> 207 | AI21: =COUNTIF(U21:AG21,">.09") -> 5 | AJ21: =_xlfn.RANK.EQ(AH21,$AH$10:$AH$81,0) -> 12 | AL21: Max Ranson | AM21: =IFERROR(VLOOKUP($AL21,'Folksworth 15'!$J:$L,3,FALSE),0) -> 0 | AN21: =IFERROR(VLOOKUP($AL21,'Dirt Run Irchester 7.5k'!$J:$L,3,FALSE),0) -> 0 | AO21: =IFERROR(VLOOKUP($AL21,'Burghley 7'!$J:$L,3,FALSE),0) -> 44 | AP21: =IFERROR(VLOOKUP($AL21,'King''s Cliffe Trail 10k'!$J:$L,3,FALSE),0) -> 45 | AQ21: =IFERROR(VLOOKUP($AL21,'Langtoft 10k'!J:L,3,FALSE),0) -> 44 | AR21: =IFERROR(VLOOKUP($AL21,'The Grim Reaper 10 Mile'!$J:$L,3,FALSE),0) -> 0 | AS21: =IFERROR(VLOOKUP($AL21,'Nene Valley Trail 10 Mile'!$J:$L,3,FALSE),0) -> 0 | AT21: =IFERROR(VLOOKUP($AL21,'Whissendine 6ix'!$J:$L,3,FALSE),0) -> 41 | AU21: =IFERROR(VLOOKUP($AL21,'Ponton Plod 10k'!$J:$L,3,FALSE),0) -> 0 | AV21: =IFERROR(VLOOKUP($AL21,'Rutland Water parkrun'!$J:$L,3,FALSE),0) -> 39 | AW21: =IFERROR(VLOOKUP($AL21,'Great Eastern Run'!$J:$L,3,FALSE),0) -> 0 | AX21: =IFERROR(VLOOKUP($AL21,'Fen 10'!$J:$L,3,FALSE),0) -> 0 | AY21: =IFERROR(VLOOKUP($AL21,'The George Munday 10k'!$L:$O,4,FALSE),0) -> 0 | AZ21: =LARGE(AM21:AY21,1)+LARGE(AM21:AY21,2)+LARGE(AM21:AY21,3)+LARGE(AM21:AY21,4)+LARGE(AM21:AY21,5)+LARGE(AM21:AY21,6) -> 213 | BA21: =COUNTIF(AM21:AY21,">0.09") -> 5 | BB21: =_xlfn.RANK.EQ(AZ21,$AZ$10:$AZ$140,0) -> 12
... B68: Sarah Sharp | C68: =IFERROR(VLOOKUP($B68,'Folksworth 15'!$B:$D,3,FALSE),0) -> 0 | D68: =IFERROR(VLOOKUP($B68,'Dirt Run Irchester 7.5k'!$B:$D,3,FALSE),0) -> 0 | E68: =IFERROR(VLOOKUP($B68,'Burghley 7'!$B:$D,3,FALSE),0) -> 0 | F68: =IFERROR(VLOOKUP($B68,'King''s Cliffe Trail 10k'!$B:$D,3,FALSE),0) -> 0 | G68: =IFERROR(VLOOKUP($B68,'Langtoft 10k'!B:F,3,FALSE),0) -> 0 | H68: =IFERROR(VLOOKUP($B68,'The Grim Reaper 10 Mile'!$B:$D,3,FALSE),0) -> 0 | I68: =IFERROR(VLOOKUP($B68,'Nene Valley Trail 10 Mile'!B:D,3,FALSE),0) -> 0 | J68: =IFERROR(VLOOKUP($B68,'Whissendine 6ix'!$B:$D,3,FALSE),0) -> 0 | K68: =IFERROR(VLOOKUP($B68,'Ponton Plod 10k'!$B:$D,3,FALSE),0) -> 0 | L68: =IFERROR(VLOOKUP($B68,'Rutland Water parkrun'!$B:$D,3,FALSE),0) -> 30 | M68: =IFERROR(VLOOKUP($B68,'Great Eastern Run'!$B:$D,3,FALSE),0) -> 0 | N68: =IFERROR(VLOOKUP($B68,'Fen 10'!$B:$D,3,FALSE),0) -> 0 | O68: =IFERROR(VLOOKUP($B68,'The George Munday 10k'!B:E,4,FALSE),0) -> 0 | P68: =LARGE(C68:O68,1)+LARGE(C68:O68,2)+LARGE(C68:O68,3)+LARGE(C68:O68,4)+LARGE(C68:O68,5)+LARGE(C68:O68,6) -> 30 | Q68: =COUNTIF(C68:O68,">.09") -> 1 | R68: =_xlfn.RANK.EQ(P68,$P$10:$P$68,0) -> 59 | T68: Bret Allibone | U68: =IFERROR(VLOOKUP($T68,'Folksworth 15'!$F:$H,3,FALSE),0) -> 0 | V68: =IFERROR(VLOOKUP($T68,'Dirt Run Irchester 7.5k'!$F:$H,3,FALSE),0) -> 0 | W68: =IFERROR(VLOOKUP($T68,'Burghley 7'!$F:$H,3,FALSE),0) -> 0 | X68: =IFERROR(VLOOKUP($T68,'King''s Cliffe Trail 10k'!$F:$H,3,FALSE),0) -> 0 | Y68: =IFERROR(VLOOKUP($T68,'Langtoft 10k'!F:H,3,FALSE),0) -> 0 | Z68: =IFERROR(VLOOKUP($T68,'The Grim Reaper 10 Mile'!$F:$H,3,FALSE),0) -> 0 | AA68: =IFERROR(VLOOKUP($T68,'Nene Valley Trail 10 Mile'!$F:$H,3,FALSE),0) -> 0 | AB68: =IFERROR(VLOOKUP($T68,'Whissendine 6ix'!$F:$H,3,FALSE),0) -> 0 | AC68: =IFERROR(VLOOKUP($T68,'Ponton Plod 10k'!$F:$H,3,FALSE),0) -> 0 | AD68: =IFERROR(VLOOKUP($T68,'Rutland Water parkrun'!$F:$H,3,FALSE),0) -> 32 | AE68: =IFERROR(VLOOKUP($T68,'Great Eastern Run'!$F:$H,3,FALSE),0) -> 0 | AF68: =IFERROR(VLOOKUP($T68,'Fen 10'!$F:$H,3,FALSE),0) -> 0 | AG68: =IFERROR(VLOOKUP($T68,'The George Munday 10k'!$G:$J,4,FALSE),0) -> 0 | AH68: =LARGE(U68:AG68,1)+LARGE(U68:AG68,2)+LARGE(U68:AG68,3)+LARGE(U68:AG68,4)+LARGE(U68:AG68,5)+LARGE(U68:AG68,6) -> 32 | AI68: =COUNTIF(U68:AG68,">.09") -> 1 | AJ68: =_xlfn.RANK.EQ(AH68,$AH$10:$AH$81,0) -> 59 | AL68: Mark Chandler | AM68: =IFERROR(VLOOKUP($AL68,'Folksworth 15'!$J:$L,3,FALSE),0) -> 0 | AN68: =IFERROR(VLOOKUP($AL68,'Dirt Run Irchester 7.5k'!$J:$L,3,FALSE),0) -> 0 | AO68: =IFERROR(VLOOKUP($AL68,'Burghley 7'!$J:$L,3,FALSE),0) -> 30 | AP68: =IFERROR(VLOOKUP($AL68,'King''s Cliffe Trail 10k'!$J:$L,3,FALSE),0) -> 35 | AQ68: =IFERROR(VLOOKUP($AL68,'Langtoft 10k'!J:L,3,FALSE),0) -> 0 | AR68: =IFERROR(VLOOKUP($AL68,'The Grim Reaper 10 Mile'!$J:$L,3,FALSE),0) -> 0 | AS68: =IFERROR(VLOOKUP($AL68,'Nene Valley Trail 10 Mile'!$J:$L,3,FALSE),0) -> 0 | AT68: =IFERROR(VLOOKUP($AL68,'Whissendine 6ix'!$J:$L,3,FALSE),0) -> 0 | AU68: =IFERROR(VLOOKUP($AL68,'Ponton Plod 10k'!$J:$L,3,FALSE),0) -> 0 | AV68: =IFERROR(VLOOKUP($AL68,'Rutland Water parkrun'!$J:$L,3,FALSE),0) -> 0 | AW68: =IFERROR(VLOOKUP($AL68,'Great Eastern Run'!$J:$L,3,FALSE),0) -> 0 | AX68: =IFERROR(VLOOKUP($AL68,'Fen 10'!$J:$L,3,FALSE),0) -> 0 | AY68: =IFERROR(VLOOKUP($AL68,'The George Munday 10k'!$L:$O,4,FALSE),0) -> 0 | AZ68: =LARGE(AM68:AY68,1)+LARGE(AM68:AY68,2)+LARGE(AM68:AY68,3)+LARGE(AM68:AY68,4)+LARGE(AM68:AY68,5)+LARGE(AM68:AY68,6) -> 65 | BA68: =COUNTIF(AM68:AY68,">0.09") -> 2 | BB68: =_xlfn.RANK.EQ(AZ68,$AZ$10:$AZ$140,0) -> 59
T69: Andy Tobin | U69: =IFERROR(VLOOKUP($T69,'Folksworth 15'!$F:$H,3,FALSE),0) -> 0 | V69: =IFERROR(VLOOKUP($T69,'Dirt Run Irchester 7.5k'!$F:$H,3,FALSE),0) -> 0 | W69: =IFERROR(VLOOKUP($T69,'Burghley 7'!$F:$H,3,FALSE),0) -> 31 | X69: =IFERROR(VLOOKUP($T69,'King''s Cliffe Trail 10k'!$F:$H,3,FALSE),0) -> 0 | Y69: =IFERROR(VLOOKUP($T69,'Langtoft 10k'!F:H,3,FALSE),0) -> 0 | Z69: =IFERROR(VLOOKUP($T69,'The Grim Reaper 10 Mile'!$F:$H,3,FALSE),0) -> 0 | AA69: =IFERROR(VLOOKUP($T69,'Nene Valley Trail 10 Mile'!$F:$H,3,FALSE),0) -> 0 | AB69: =IFERROR(VLOOKUP($T69,'Whissendine 6ix'!$F:$H,3,FALSE),0) -> 0 | AC69: =IFERROR(VLOOKUP($T69,'Ponton Plod 10k'!$F:$H,3,FALSE),0) -> 0 | AD69: =IFERROR(VLOOKUP($T69,'Rutland Water parkrun'!$F:$H,3,FALSE),0) -> 0 | AE69: =IFERROR(VLOOKUP($T69,'Great Eastern Run'!$F:$H,3,FALSE),0) -> 0 | AF69: =IFERROR(VLOOKUP($T69,'Fen 10'!$F:$H,3,FALSE),0) -> 0 | AG69: =IFERROR(VLOOKUP($T69,'The George Munday 10k'!$G:$J,4,FALSE),0) -> 0 | AH69: =LARGE(U69:AG69,1)+LARGE(U69:AG69,2)+LARGE(U69:AG69,3)+LARGE(U69:AG69,4)+LARGE(U69:AG69,5)+LARGE(U69:AG69,6) -> 31 | AI69: =COUNTIF(U69:AG69,">.09") -> 1 | AJ69: =_xlfn.RANK.EQ(AH69,$AH$10:$AH$81,0) -> 60 | AL69: Alex Shaw | AM69: =IFERROR(VLOOKUP($AL69,'Folksworth 15'!$J:$L,3,FALSE),0) -> 33 | AN69: =IFERROR(VLOOKUP($AL69,'Dirt Run Irchester 7.5k'!$J:$L,3,FALSE),0) -> 0 | AO69: =IFERROR(VLOOKUP($AL69,'Burghley 7'!$J:$L,3,FALSE),0) -> 0 | AP69: =IFERROR(VLOOKUP($AL69,'King''s Cliffe Trail 10k'!$J:$L,3,FALSE),0) -> 0 | AQ69: =IFERROR(VLOOKUP($AL69,'Langtoft 10k'!J:L,3,FALSE),0) -> 0 | AR69: =IFERROR(VLOOKUP($AL69,'The Grim Reaper 10 Mile'!$J:$L,3,FALSE),0) -> 0 | AS69: =IFERROR(VLOOKUP($AL69,'Nene Valley Trail 10 Mile'!$J:$L,3,FALSE),0) -> 0 | AT69: =IFERROR(VLOOKUP($AL69,'Whissendine 6ix'!$J:$L,3,FALSE),0) -> 0 | AU69: =IFERROR(VLOOKUP($AL69,'Ponton Plod 10k'!$J:$L,3,FALSE),0) -> 0 | AV69: =IFERROR(VLOOKUP($AL69,'Rutland Water parkrun'!$J:$L,3,FALSE),0) -> 0 | AW69: =IFERROR(VLOOKUP($AL69,'Great Eastern Run'!$J:$L,3,FALSE),0) -> 31 | AX69: =IFERROR(VLOOKUP($AL69,'Fen 10'!$J:$L,3,FALSE),0) -> 0 | AY69: =IFERROR(VLOOKUP($AL69,'The George Munday 10k'!$L:$O,4,FALSE),0) -> 0 | AZ69: =LARGE(AM69:AY69,1)+LARGE(AM69:AY69,2)+LARGE(AM69:AY69,3)+LARGE(AM69:AY69,4)+LARGE(AM69:AY69,5)+LARGE(AM69:AY69,6) -> 64 | BA69: =COUNTIF(AM69:AY69,">0.09") -> 2 | BB69: =_xlfn.RANK.EQ(AZ69,$AZ$10:$AZ$140,0) -> 60
T70: Guy Gasper | U70: =IFERROR(VLOOKUP($T70,'Folksworth 15'!$F:$H,3,FALSE),0) -> 0 | V70: =IFERROR(VLOOKUP($T70,'Dirt Run Irchester 7.5k'!$F:$H,3,FALSE),0) -> 0 | W70: =IFERROR(VLOOKUP($T70,'Burghley 7'!$F:$H,3,FALSE),0) -> 0 | X70: =IFERROR(VLOOKUP($T70,'King''s Cliffe Trail 10k'!$F:$H,3,FALSE),0) -> 0 | Y70: =IFERROR(VLOOKUP($T70,'Langtoft 10k'!F:H,3,FALSE),0) -> 0 | Z70: =IFERROR(VLOOKUP($T70,'The Grim Reaper 10 Mile'!$F:$H,3,FALSE),0) -> 0 | AA70: =IFERROR(VLOOKUP($T70,'Nene Valley Trail 10 Mile'!$F:$H,3,FALSE),0) -> 0 | AB70: =IFERROR(VLOOKUP($T70,'Whissendine 6ix'!$F:$H,3,FALSE),0) -> 31 | AC70: =IFERROR(VLOOKUP($T70,'Ponton Plod 10k'!$F:$H,3,FALSE),0) -> 0 | AD70: =IFERROR(VLOOKUP($T70,'Rutland Water parkrun'!$F:$H,3,FALSE),0) -> 0 | AE70: =IFERROR(VLOOKUP($T70,'Great Eastern Run'!$F:$H,3,FALSE),0) -> 0 | AF70: =IFERROR(VLOOKUP($T70,'Fen 10'!$F:$H,3,FALSE),0) -> 0 | AG70: =IFERROR(VLOOKUP($T70,'The George Munday 10k'!$G:$J,4,FALSE),0) -> 0 | AH70: =LARGE(U70:AG70,1)+LARGE(U70:AG70,2)+LARGE(U70:AG70,3)+LARGE(U70:AG70,4)+LARGE(U70:AG70,5)+LARGE(U70:AG70,6) -> 31 | AI70: =COUNTIF(U70:AG70,">.09") -> 1 | AJ70: =_xlfn.RANK.EQ(AH70,$AH$10:$AH$81,0) -> 60 | AL70: Anthony Dunk | AM70: =IFERROR(VLOOKUP($AL70,'Folksworth 15'!$J:$L,3,FALSE),0) -> 0 | AN70: =IFERROR(VLOOKUP($AL70,'Dirt Run Irchester 7.5k'!$J:$L,3,FALSE),0) -> 0 | AO70: =IFERROR(VLOOKUP($AL70,'Burghley 7'!$J:$L,3,FALSE),0) -> 0 | AP70: =IFERROR(VLOOKUP($AL70,'King''s Cliffe Trail 10k'!$J:$L,3,FALSE),0) -> 30 | AQ70: =IFERROR(VLOOKUP($AL70,'Langtoft 10k'!J:L,3,FALSE),0) -> 0 | AR70: =IFERROR(VLOOKUP($AL70,'The Grim Reaper 10 Mile'!$J:$L,3,FALSE),0) -> 0 | AS70: =IFERROR(VLOOKUP($AL70,'Nene Valley Trail 10 Mile'!$J:$L,3,FALSE),0) -> 33 | AT70: =IFERROR(VLOOKUP($AL70,'Whissendine 6ix'!$J:$L,3,FALSE),0) -> 0 | AU70: =IFERROR(VLOOKUP($AL70,'Ponton Plod 10k'!$J:$L,3,FALSE),0) -> 0 | AV70: =IFERROR(VLOOKUP($AL70,'Rutland Water parkrun'!$J:$L,3,FALSE),0) -> 0 | AW70: =IFERROR(VLOOKUP($AL70,'Great Eastern Run'!$J:$L,3,FALSE),0) -> 0 | AX70: =IFERROR(VLOOKUP($AL70,'Fen 10'!$J:$L,3,FALSE),0) -> 0 | AY70: =IFERROR(VLOOKUP($AL70,'The George Munday 10k'!$L:$O,4,FALSE),0) -> 0 | AZ70: =LARGE(AM70:AY70,1)+LARGE(AM70:AY70,2)+LARGE(AM70:AY70,3)+LARGE(AM70:AY70,4)+LARGE(AM70:AY70,5)+LARGE(AM70:AY70,6) -> 63 | BA70: =COUNTIF(AM70:AY70,">0.09") -> 2 | BB70: =_xlfn.RANK.EQ(AZ70,$AZ$10:$AZ$140,0) -> 61
T71: Darren Scott | U71: =IFERROR(VLOOKUP($T71,'Folksworth 15'!$F:$H,3,FALSE),0) -> 0 | V71: =IFERROR(VLOOKUP($T71,'Dirt Run Irchester 7.5k'!$F:$H,3,FALSE),0) -> 0 | W71: =IFERROR(VLOOKUP($T71,'Burghley 7'!$F:$H,3,FALSE),0) -> 30 | X71: =IFERROR(VLOOKUP($T71,'King''s Cliffe Trail 10k'!$F:$H,3,FALSE),0) -> 0 | Y71: =IFERROR(VLOOKUP($T71,'Langtoft 10k'!F:H,3,FALSE),0) -> 0 | Z71: =IFERROR(VLOOKUP($T71,'The Grim Reaper 10 Mile'!$F:$H,3,FALSE),0) -> 0 | AA71: =IFERROR(VLOOKUP($T71,'Nene Valley Trail 10 Mile'!$F:$H,3,FALSE),0) -> 0 | AB71: =IFERROR(VLOOKUP($T71,'Whissendine 6ix'!$F:$H,3,FALSE),0) -> 0 | AC71: =IFERROR(VLOOKUP($T71,'Ponton Plod 10k'!$F:$H,3,FALSE),0) -> 0 | AD71: =IFERROR(VLOOKUP($T71,'Rutland Water parkrun'!$F:$H,3,FALSE),0) -> 0 | AE71: =IFERROR(VLOOKUP($T71,'Great Eastern Run'!$F:$H,3,FALSE),0) -> 0 | AF71: =IFERROR(VLOOKUP($T71,'Fen 10'!$F:$H,3,FALSE),0) -> 0 | AG71: =IFERROR(VLOOKUP($T71,'The George Munday 10k'!$G:$J,4,FALSE),0) -> 0 | AH71: =LARGE(U71:AG71,1)+LARGE(U71:AG71,2)+LARGE(U71:AG71,3)+LARGE(U71:AG71,4)+LARGE(U71:AG71,5)+LARGE(U71:AG71,6) -> 30 | AI71: =COUNTIF(U71:AG71,">.09") -> 1 | AJ71: =_xlfn.RANK.EQ(AH71,$AH$10:$AH$81,0) -> 62 | AL71: Abbie Mann | AM71: =IFERROR(VLOOKUP($AL71,'Folksworth 15'!$J:$L,3,FALSE),0) -> 0 | AN71: =IFERROR(VLOOKUP($AL71,'Dirt Run Irchester 7.5k'!$J:$L,3,FALSE),0) -> 0 | AO71: =IFERROR(VLOOKUP($AL71,'Burghley 7'!$J:$L,3,FALSE),0) -> 30 | AP71: =IFERROR(VLOOKUP($AL71,'King''s Cliffe Trail 10k'!$J:$L,3,FALSE),0) -> 0 | AQ71: =IFERROR(VLOOKUP($AL71,'Langtoft 10k'!J:L,3,FALSE),0) -> 30 | AR71: =IFERROR(VLOOKUP($AL71,'The Grim Reaper 10 Mile'!$J:$L,3,FALSE),0) -> 0 | AS71: =IFERROR(VLOOKUP($AL71,'Nene Valley Trail 10 Mile'!$J:$L,3,FALSE),0) -> 0 | AT71: =IFERROR(VLOOKUP($AL71,'Whissendine 6ix'!$J:$L,3,FALSE),0) -> 0 | AU71: =IFERROR(VLOOKUP($AL71,'Ponton Plod 10k'!$J:$L,3,FALSE),0) -> 0 | AV71: =IFERROR(VLOOKUP($AL71,'Rutland Water parkrun'!$J:$L,3,FALSE),0) -> 0 | AW71: =IFERROR(VLOOKUP($AL71,'Great Eastern Run'!$J:$L,3,FALSE),0) -> 0 | AX71: =IFERROR(VLOOKUP($AL71,'Fen 10'!$J:$L,3,FALSE),0) -> 0 | AY71: =IFERROR(VLOOKUP($AL71,'The George Munday 10k'!$L:$O,4,FALSE),0) -> 0 | AZ71: =LARGE(AM71:AY71,1)+LARGE(AM71:AY71,2)+LARGE(AM71:AY71,3)+LARGE(AM71:AY71,4)+LARGE(AM71:AY71,5)+LARGE(AM71:AY71,6) -> 60 | BA71: =COUNTIF(AM71:AY71,">0.09") -> 2 | BB71: =_xlfn.RANK.EQ(AZ71,$AZ$10:$AZ$140,0) -> 62
T72: David Ogg | U72: =IFERROR(VLOOKUP($T72,'Folksworth 15'!$F:$H,3,FALSE),0) -> 0 | V72: =IFERROR(VLOOKUP($T72,'Dirt Run Irchester 7.5k'!$F:$H,3,FALSE),0) -> 0 | W72: =IFERROR(VLOOKUP($T72,'Burghley 7'!$F:$H,3,FALSE),0) -> 30 | X72: =IFERROR(VLOOKUP($T72,'King''s Cliffe Trail 10k'!$F:$H,3,FALSE),0) -> 0 | Y72: =IFERROR(VLOOKUP($T72,'Langtoft 10k'!F:H,3,FALSE),0) -> 0 | Z72: =IFERROR(VLOOKUP($T72,'The Grim Reaper 10 Mile'!$F:$H,3,FALSE),0) -> 0 | AA72: =IFERROR(VLOOKUP($T72,'Nene Valley Trail 10 Mile'!$F:$H,3,FALSE),0) -> 0 | AB72: =IFERROR(VLOOKUP($T72,'Whissendine 6ix'!$F:$H,3,FALSE),0) -> 0 | AC72: =IFERROR(VLOOKUP($T72,'Ponton Plod 10k'!$F:$H,3,FALSE),0) -> 0 | AD72: =IFERROR(VLOOKUP($T72,'Rutland Water parkrun'!$F:$H,3,FALSE),0) -> 0 | AE72: =IFERROR(VLOOKUP($T72,'Great Eastern Run'!$F:$H,3,FALSE),0) -> 0 | AF72: =IFERROR(VLOOKUP($T72,'Fen 10'!$F:$H,3,FALSE),0) -> 0 | AG72: =IFERROR(VLOOKUP($T72,'The George Munday 10k'!$G:$J,4,FALSE),0) -> 0 | AH72: =LARGE(U72:AG72,1)+LARGE(U72:AG72,2)+LARGE(U72:AG72,3)+LARGE(U72:AG72,4)+LARGE(U72:AG72,5)+LARGE(U72:AG72,6) -> 30 | AI72: =COUNTIF(U72:AG72,">.09") -> 1 | AJ72: =_xlfn.RANK.EQ(AH72,$AH$10:$AH$81,0) -> 62 | AL72: Chris Gold | AM72: =IFERROR(VLOOKUP($AL72,'Folksworth 15'!$J:$L,3,FALSE),0) -> 0 | AN72: =IFERROR(VLOOKUP($AL72,'Dirt Run Irchester 7.5k'!$J:$L,3,FALSE),0) -> 0 | AO72: =IFERROR(VLOOKUP($AL72,'Burghley 7'!$J:$L,3,FALSE),0) -> 30 | AP72: =IFERROR(VLOOKUP($AL72,'King''s Cliffe Trail 10k'!$J:$L,3,FALSE),0) -> 0 | AQ72: =IFERROR(VLOOKUP($AL72,'Langtoft 10k'!J:L,3,FALSE),0) -> 30 | AR72: =IFERROR(VLOOKUP($AL72,'The Grim Reaper 10 Mile'!$J:$L,3,FALSE),0) -> 0 | AS72: =IFERROR(VLOOKUP($AL72,'Nene Valley Trail 10 Mile'!$J:$L,3,FALSE),0) -> 0 | AT72: =IFERROR(VLOOKUP($AL72,'Whissendine 6ix'!$J:$L,3,FALSE),0) -> 0 | AU72: =IFERROR(VLOOKUP($AL72,'Ponton Plod 10k'!$J:$L,3,FALSE),0) -> 0 | AV72: =IFERROR(VLOOKUP($AL72,'Rutland Water parkrun'!$J:$L,3,FALSE),0) -> 0 | AW72: =IFERROR(VLOOKUP($AL72,'Great Eastern Run'!$J:$L,3,FALSE),0) -> 0 | AX72: =IFERROR(VLOOKUP($AL72,'Fen 10'!$J:$L,3,FALSE),0) -> 0 | AY72: =IFERROR(VLOOKUP($AL72,'The George Munday 10k'!$L:$O,4,FALSE),0) -> 0 | AZ72: =LARGE(AM72:AY72,1)+LARGE(AM72:AY72,2)+LARGE(AM72:AY72,3)+LARGE(AM72:AY72,4)+LARGE(AM72:AY72,5)+LARGE(AM72:AY72,6) -> 60 | BA72: =COUNTIF(AM72:AY72,">0.09") -> 2 | BB72: =_xlfn.RANK.EQ(AZ72,$AZ$10:$AZ$140,0) -> 62
T73: Emmanuel Dupont | U73: =IFERROR(VLOOKUP($T73,'Folksworth 15'!$F:$H,3,FALSE),0) -> 0 | V73: =IFERROR(VLOOKUP($T73,'Dirt Run Irchester 7.5k'!$F:$H,3,FALSE),0) -> 0 | W73: =IFERROR(VLOOKUP($T73,'Burghley 7'!$F:$H,3,FALSE),0) -> 0 | X73: =IFERROR(VLOOKUP($T73,'King''s Cliffe Trail 10k'!$F:$H,3,FALSE),0) -> 0 | Y73: =IFERROR(VLOOKUP($T73,'Langtoft 10k'!F:H,3,FALSE),0) -> 0 | Z73: =IFERROR(VLOOKUP($T73,'The Grim Reaper 10 Mile'!$F:$H,3,FALSE),0) -> 0 | AA73: =IFERROR(VLOOKUP($T73,'Nene Valley Trail 10 Mile'!$F:$H,3,FALSE),0) -> 0 | AB73: =IFERROR(VLOOKUP($T73,'Whissendine 6ix'!$F:$H,3,FALSE),0) -> 0 | AC73: =IFERROR(VLOOKUP($T73,'Ponton Plod 10k'!$F:$H,3,FALSE),0) -> 0 | AD73: =IFERROR(VLOOKUP($T73,'Rutland Water parkrun'!$F:$H,3,FALSE),0) -> 30 | AE73: =IFERROR(VLOOKUP($T73,'Great Eastern Run'!$F:$H,3,FALSE),0) -> 0 | AF73: =IFERROR(VLOOKUP($T73,'Fen 10'!$F:$H,3,FALSE),0) -> 0 | AG73: =IFERROR(VLOOKUP($T73,'The George Munday 10k'!$G:$J,4,FALSE),0) -> 0 | AH73: =LARGE(U73:AG73,1)+LARGE(U73:AG73,2)+LARGE(U73:AG73,3)+LARGE(U73:AG73,4)+LARGE(U73:AG73,5)+LARGE(U73:AG73,6) -> 30 | AI73: =COUNTIF(U73:AG73,">.09") -> 1 | AJ73: =_xlfn.RANK.EQ(AH73,$AH$10:$AH$81,0) -> 62 | AL73: Ciaran Nelson | AM73: =IFERROR(VLOOKUP($AL73,'Folksworth 15'!$J:$L,3,FALSE),0) -> 0 | AN73: =IFERROR(VLOOKUP($AL73,'Dirt Run Irchester 7.5k'!$J:$L,3,FALSE),0) -> 0 | AO73: =IFERROR(VLOOKUP($AL73,'Burghley 7'!$J:$L,3,FALSE),0) -> 30 | AP73: =IFERROR(VLOOKUP($AL73,'King''s Cliffe Trail 10k'!$J:$L,3,FALSE),0) -> 30 | AQ73: =IFERROR(VLOOKUP($AL73,'Langtoft 10k'!J:L,3,FALSE),0) -> 0 | AR73: =IFERROR(VLOOKUP($AL73,'The Grim Reaper 10 Mile'!$J:$L,3,FALSE),0) -> 0 | AS73: =IFERROR(VLOOKUP($AL73,'Nene Valley Trail 10 Mile'!$J:$L,3,FALSE),0) -> 0 | AT73: =IFERROR(VLOOKUP($AL73,'Whissendine 6ix'!$J:$L,3,FALSE),0) -> 0 | AU73: =IFERROR(VLOOKUP($AL73,'Ponton Plod 10k'!$J:$L,3,FALSE),0) -> 0 | AV73: =IFERROR(VLOOKUP($AL73,'Rutland Water parkrun'!$J:$L,3,FALSE),0) -> 0 | AW73: =IFERROR(VLOOKUP($AL73,'Great Eastern Run'!$J:$L,3,FALSE),0) -> 0 | AX73: =IFERROR(VLOOKUP($AL73,'Fen 10'!$J:$L,3,FALSE),0) -> 0 | AY73: =IFERROR(VLOOKUP($AL73,'The George Munday 10k'!$L:$O,4,FALSE),0) -> 0 | AZ73: =LARGE(AM73:AY73,1)+LARGE(AM73:AY73,2)+LARGE(AM73:AY73,3)+LARGE(AM73:AY73,4)+LARGE(AM73:AY73,5)+LARGE(AM73:AY73,6) -> 60 | BA73: =COUNTIF(AM73:AY73,">0.09") -> 2 | BB73: =_xlfn.RANK.EQ(AZ73,$AZ$10:$AZ$140,0) -> 62
T74: John Gilligan | U74: =IFERROR(VLOOKUP($T74,'Folksworth 15'!$F:$H,3,FALSE),0) -> 0 | V74: =IFERROR(VLOOKUP($T74,'Dirt Run Irchester 7.5k'!$F:$H,3,FALSE),0) -> 0 | W74: =IFERROR(VLOOKUP($T74,'Burghley 7'!$F:$H,3,FALSE),0) -> 0 | X74: =IFERROR(VLOOKUP($T74,'King''s Cliffe Trail 10k'!$F:$H,3,FALSE),0) -> 0 | Y74: =IFERROR(VLOOKUP($T74,'Langtoft 10k'!F:H,3,FALSE),0) -> 0 | Z74: =IFERROR(VLOOKUP($T74,'The Grim Reaper 10 Mile'!$F:$H,3,FALSE),0) -> 0 | AA74: =IFERROR(VLOOKUP($T74,'Nene Valley Trail 10 Mile'!$F:$H,3,FALSE),0) -> 0 | AB74: =IFERROR(VLOOKUP($T74,'Whissendine 6ix'!$F:$H,3,FALSE),0) -> 0 | AC74: =IFERROR(VLOOKUP($T74,'Ponton Plod 10k'!$F:$H,3,FALSE),0) -> 0 | AD74: =IFERROR(VLOOKUP($T74,'Rutland Water parkrun'!$F:$H,3,FALSE),0) -> 30 | AE74: =IFERROR(VLOOKUP($T74,'Great Eastern Run'!$F:$H,3,FALSE),0) -> 0 | AF74: =IFERROR(VLOOKUP($T74,'Fen 10'!$F:$H,3,FALSE),0) -> 0 | AG74: =IFERROR(VLOOKUP($T74,'The George Munday 10k'!$G:$J,4,FALSE),0) -> 0 | AH74: =LARGE(U74:AG74,1)+LARGE(U74:AG74,2)+LARGE(U74:AG74,3)+LARGE(U74:AG74,4)+LARGE(U74:AG74,5)+LARGE(U74:AG74,6) -> 30 | AI74: =COUNTIF(U74:AG74,">.09") -> 1 | AJ74: =_xlfn.RANK.EQ(AH74,$AH$10:$AH$81,0) -> 62 | AL74: James Mccloskey | AM74: =IFERROR(VLOOKUP($AL74,'Folksworth 15'!$J:$L,3,FALSE),0) -> 30 | AN74: =IFERROR(VLOOKUP($AL74,'Dirt Run Irchester 7.5k'!$J:$L,3,FALSE),0) -> 0 | AO74: =IFERROR(VLOOKUP($AL74,'Burghley 7'!$J:$L,3,FALSE),0) -> 0 | AP74: =IFERROR(VLOOKUP($AL74,'King''s Cliffe Trail 10k'!$J:$L,3,FALSE),0) -> 0 | AQ74: =IFERROR(VLOOKUP($AL74,'Langtoft 10k'!J:L,3,FALSE),0) -> 0 | AR74: =IFERROR(VLOOKUP($AL74,'The Grim Reaper 10 Mile'!$J:$L,3,FALSE),0) -> 0 | AS74: =IFERROR(VLOOKUP($AL74,'Nene Valley Trail 10 Mile'!$J:$L,3,FALSE),0) -> 0 | AT74: =IFERROR(VLOOKUP($AL74,'Whissendine 6ix'!$J:$L,3,FALSE),0) -> 0 | AU74: =IFERROR(VLOOKUP($AL74,'Ponton Plod 10k'!$J:$L,3,FALSE),0) -> 0 | AV74: =IFERROR(VLOOKUP($AL74,'Rutland Water parkrun'!$J:$L,3,FALSE),0) -> 0 | AW74: =IFERROR(VLOOKUP($AL74,'Great Eastern Run'!$J:$L,3,FALSE),0) -> 30 | AX74: =IFERROR(VLOOKUP($AL74,'Fen 10'!$J:$L,3,FALSE),0) -> 0 | AY74: =IFERROR(VLOOKUP($AL74,'The George Munday 10k'!$L:$O,4,FALSE),0) -> 0 | AZ74: =LARGE(AM74:AY74,1)+LARGE(AM74:AY74,2)+LARGE(AM74:AY74,3)+LARGE(AM74:AY74,4)+LARGE(AM74:AY74,5)+LARGE(AM74:AY74,6) -> 60 | BA74: =COUNTIF(AM74:AY74,">0.09") -> 2 | BB74: =_xlfn.RANK.EQ(AZ74,$AZ$10:$AZ$140,0) -> 62
T75: Jordan Rosamond | U75: =IFERROR(VLOOKUP($T75,'Folksworth 15'!$F:$H,3,FALSE),0) -> 0 | V75: =IFERROR(VLOOKUP($T75,'Dirt Run Irchester 7.5k'!$F:$H,3,FALSE),0) -> 0 | W75: =IFERROR(VLOOKUP($T75,'Burghley 7'!$F:$H,3,FALSE),0) -> 0 | X75: =IFERROR(VLOOKUP($T75,'King''s Cliffe Trail 10k'!$F:$H,3,FALSE),0) -> 0 | Y75: =IFERROR(VLOOKUP($T75,'Langtoft 10k'!F:H,3,FALSE),0) -> 0 | Z75: =IFERROR(VLOOKUP($T75,'The Grim Reaper 10 Mile'!$F:$H,3,FALSE),0) -> 0 | AA75: =IFERROR(VLOOKUP($T75,'Nene Valley Trail 10 Mile'!$F:$H,3,FALSE),0) -> 0 | AB75: =IFERROR(VLOOKUP($T75,'Whissendine 6ix'!$F:$H,3,FALSE),0) -> 0 | AC75: =IFERROR(VLOOKUP($T75,'Ponton Plod 10k'!$F:$H,3,FALSE),0) -> 0 | AD75: =IFERROR(VLOOKUP($T75,'Rutland Water parkrun'!$F:$H,3,FALSE),0) -> 0 | AE75: =IFERROR(VLOOKUP($T75,'Great Eastern Run'!$F:$H,3,FALSE),0) -> 30 | AF75: =IFERROR(VLOOKUP($T75,'Fen 10'!$F:$H,3,FALSE),0) -> 0 | AG75: =IFERROR(VLOOKUP($T75,'The George Munday 10k'!$G:$J,4,FALSE),0) -> 0 | AH75: =LARGE(U75:AG75,1)+LARGE(U75:AG75,2)+LARGE(U75:AG75,3)+LARGE(U75:AG75,4)+LARGE(U75:AG75,5)+LARGE(U75:AG75,6) -> 30 | AI75: =COUNTIF(U75:AG75,">.09") -> 1 | AJ75: =_xlfn.RANK.EQ(AH75,$AH$10:$AH$81,0) -> 62 | AL75: Karen Cozens | AM75: =IFERROR(VLOOKUP($AL75,'Folksworth 15'!$J:$L,3,FALSE),0) -> 0 | AN75: =IFERROR(VLOOKUP($AL75,'Dirt Run Irchester 7.5k'!$J:$L,3,FALSE),0) -> 0 | AO75: =IFERROR(VLOOKUP($AL75,'Burghley 7'!$J:$L,3,FALSE),0) -> 30 | AP75: =IFERROR(VLOOKUP($AL75,'King''s Cliffe Trail 10k'!$J:$L,3,FALSE),0) -> 0 | AQ75: =IFERROR(VLOOKUP($AL75,'Langtoft 10k'!J:L,3,FALSE),0) -> 0 | AR75: =IFERROR(VLOOKUP($AL75,'The Grim Reaper 10 Mile'!$J:$L,3,FALSE),0) -> 0 | AS75: =IFERROR(VLOOKUP($AL75,'Nene Valley Trail 10 Mile'!$J:$L,3,FALSE),0) -> 0 | AT75: =IFERROR(VLOOKUP($AL75,'Whissendine 6ix'!$J:$L,3,FALSE),0) -> 0 | AU75: =IFERROR(VLOOKUP($AL75,'Ponton Plod 10k'!$J:$L,3,FALSE),0) -> 0 | AV75: =IFERROR(VLOOKUP($AL75,'Rutland Water parkrun'!$J:$L,3,FALSE),0) -> 30 | AW75: =IFERROR(VLOOKUP($AL75,'Great Eastern Run'!$J:$L,3,FALSE),0) -> 0 | AX75: =IFERROR(VLOOKUP($AL75,'Fen 10'!$J:$L,3,FALSE),0) -> 0 | AY75: =IFERROR(VLOOKUP($AL75,'The George Munday 10k'!$L:$O,4,FALSE),0) -> 0 | AZ75: =LARGE(AM75:AY75,1)+LARGE(AM75:AY75,2)+LARGE(AM75:AY75,3)+LARGE(AM75:AY75,4)+LARGE(AM75:AY75,5)+LARGE(AM75:AY75,6) -> 60 | BA75: =COUNTIF(AM75:AY75,">0.09") -> 2 | BB75: =_xlfn.RANK.EQ(AZ75,$AZ$10:$AZ$140,0) -> 62
T76: Joseph Wright | U76: =IFERROR(VLOOKUP($T76,'Folksworth 15'!$F:$H,3,FALSE),0) -> 0 | V76: =IFERROR(VLOOKUP($T76,'Dirt Run Irchester 7.5k'!$F:$H,3,FALSE),0) -> 0 | W76: =IFERROR(VLOOKUP($T76,'Burghley 7'!$F:$H,3,FALSE),0) -> 30 | X76: =IFERROR(VLOOKUP($T76,'King''s Cliffe Trail 10k'!$F:$H,3,FALSE),0) -> 0 | Y76: =IFERROR(VLOOKUP($T76,'Langtoft 10k'!F:H,3,FALSE),0) -> 0 | Z76: =IFERROR(VLOOKUP($T76,'The Grim Reaper 10 Mile'!$F:$H,3,FALSE),0) -> 0 | AA76: =IFERROR(VLOOKUP($T76,'Nene Valley Trail 10 Mile'!$F:$H,3,FALSE),0) -> 0 | AB76: =IFERROR(VLOOKUP($T76,'Whissendine 6ix'!$F:$H,3,FALSE),0) -> 0 | AC76: =IFERROR(VLOOKUP($T76,'Ponton Plod 10k'!$F:$H,3,FALSE),0) -> 0 | AD76: =IFERROR(VLOOKUP($T76,'Rutland Water parkrun'!$F:$H,3,FALSE),0) -> 0 | AE76: =IFERROR(VLOOKUP($T76,'Great Eastern Run'!$F:$H,3,FALSE),0) -> 0 | AF76: =IFERROR(VLOOKUP($T76,'Fen 10'!$F:$H,3,FALSE),0) -> 0 | AG76: =IFERROR(VLOOKUP($T76,'The George Munday 10k'!$G:$J,4,FALSE),0) -> 0 | AH76: =LARGE(U76:AG76,1)+LARGE(U76:AG76,2)+LARGE(U76:AG76,3)+LARGE(U76:AG76,4)+LARGE(U76:AG76,5)+LARGE(U76:AG76,6) -> 30 | AI76: =COUNTIF(U76:AG76,">.09") -> 1 | AJ76: =_xlfn.RANK.EQ(AH76,$AH$10:$AH$81,0) -> 62 | AL76: Laura Smith | AM76: =IFERROR(VLOOKUP($AL76,'Folksworth 15'!$J:$L,3,FALSE),0) -> 0 | AN76: =IFERROR(VLOOKUP($AL76,'Dirt Run Irchester 7.5k'!$J:$L,3,FALSE),0) -> 0 | AO76: =IFERROR(VLOOKUP($AL76,'Burghley 7'!$J:$L,3,FALSE),0) -> 30 | AP76: =IFERROR(VLOOKUP($AL76,'King''s Cliffe Trail 10k'!$J:$L,3,FALSE),0) -> 0 | AQ76: =IFERROR(VLOOKUP($AL76,'Langtoft 10k'!J:L,3,FALSE),0) -> 30 | AR76: =IFERROR(VLOOKUP($AL76,'The Grim Reaper 10 Mile'!$J:$L,3,FALSE),0) -> 0 | AS76: =IFERROR(VLOOKUP($AL76,'Nene Valley Trail 10 Mile'!$J:$L,3,FALSE),0) -> 0 | AT76: =IFERROR(VLOOKUP($AL76,'Whissendine 6ix'!$J:$L,3,FALSE),0) -> 0 | AU76: =IFERROR(VLOOKUP($AL76,'Ponton Plod 10k'!$J:$L,3,FALSE),0) -> 0 | AV76: =IFERROR(VLOOKUP($AL76,'Rutland Water parkrun'!$J:$L,3,FALSE),0) -> 0 | AW76: =IFERROR(VLOOKUP($AL76,'Great Eastern Run'!$J:$L,3,FALSE),0) -> 0 | AX76: =IFERROR(VLOOKUP($AL76,'Fen 10'!$J:$L,3,FALSE),0) -> 0 | AY76: =IFERROR(VLOOKUP($AL76,'The George Munday 10k'!$L:$O,4,FALSE),0) -> 0 | AZ76: =LARGE(AM76:AY76,1)+LARGE(AM76:AY76,2)+LARGE(AM76:AY76,3)+LARGE(AM76:AY76,4)+LARGE(AM76:AY76,5)+LARGE(AM76:AY76,6) -> 60 | BA76: =COUNTIF(AM76:AY76,">0.09") -> 2 | BB76: =_xlfn.RANK.EQ(AZ76,$AZ$10:$AZ$140,0) -> 62
T77: Michael Farrow | U77: =IFERROR(VLOOKUP($T77,'Folksworth 15'!$F:$H,3,FALSE),0) -> 0 | V77: =IFERROR(VLOOKUP($T77,'Dirt Run Irchester 7.5k'!$F:$H,3,FALSE),0) -> 0 | W77: =IFERROR(VLOOKUP($T77,'Burghley 7'!$F:$H,3,FALSE),0) -> 30 | X77: =IFERROR(VLOOKUP($T77,'King''s Cliffe Trail 10k'!$F:$H,3,FALSE),0) -> 0 | Y77: =IFERROR(VLOOKUP($T77,'Langtoft 10k'!F:H,3,FALSE),0) -> 0 | Z77: =IFERROR(VLOOKUP($T77,'The Grim Reaper 10 Mile'!$F:$H,3,FALSE),0) -> 0 | AA77: =IFERROR(VLOOKUP($T77,'Nene Valley Trail 10 Mile'!$F:$H,3,FALSE),0) -> 0 | AB77: =IFERROR(VLOOKUP($T77,'Whissendine 6ix'!$F:$H,3,FALSE),0) -> 0 | AC77: =IFERROR(VLOOKUP($T77,'Ponton Plod 10k'!$F:$H,3,FALSE),0) -> 0 | AD77: =IFERROR(VLOOKUP($T77,'Rutland Water parkrun'!$F:$H,3,FALSE),0) -> 0 | AE77: =IFERROR(VLOOKUP($T77,'Great Eastern Run'!$F:$H,3,FALSE),0) -> 0 | AF77: =IFERROR(VLOOKUP($T77,'Fen 10'!$F:$H,3,FALSE),0) -> 0 | AG77: =IFERROR(VLOOKUP($T77,'The George Munday 10k'!$G:$J,4,FALSE),0) -> 0 | AH77: =LARGE(U77:AG77,1)+LARGE(U77:AG77,2)+LARGE(U77:AG77,3)+LARGE(U77:AG77,4)+LARGE(U77:AG77,5)+LARGE(U77:AG77,6) -> 30 | AI77: =COUNTIF(U77:AG77,">.09") -> 1 | AJ77: =_xlfn.RANK.EQ(AH77,$AH$10:$AH$81,0) -> 62 | AL77: Linda Brown | AM77: =IFERROR(VLOOKUP($AL77,'Folksworth 15'!$J:$L,3,FALSE),0) -> 0 | AN77: =IFERROR(VLOOKUP($AL77,'Dirt Run Irchester 7.5k'!$J:$L,3,FALSE),0) -> 0 | AO77: =IFERROR(VLOOKUP($AL77,'Burghley 7'!$J:$L,3,FALSE),0) -> 30 | AP77: =IFERROR(VLOOKUP($AL77,'King''s Cliffe Trail 10k'!$J:$L,3,FALSE),0) -> 0 | AQ77: =IFERROR(VLOOKUP($AL77,'Langtoft 10k'!J:L,3,FALSE),0) -> 30 | AR77: =IFERROR(VLOOKUP($AL77,'The Grim Reaper 10 Mile'!$J:$L,3,FALSE),0) -> 0 | AS77: =IFERROR(VLOOKUP($AL77,'Nene Valley Trail 10 Mile'!$J:$L,3,FALSE),0) -> 0 | AT77: =IFERROR(VLOOKUP($AL77,'Whissendine 6ix'!$J:$L,3,FALSE),0) -> 0 | AU77: =IFERROR(VLOOKUP($AL77,'Ponton Plod 10k'!$J:$L,3,FALSE),0) -> 0 | AV77: =IFERROR(VLOOKUP($AL77,'Rutland Water parkrun'!$J:$L,3,FALSE),0) -> 0 | AW77: =IFERROR(VLOOKUP($AL77,'Great Eastern Run'!$J:$L,3,FALSE),0) -> 0 | AX77: =IFERROR(VLOOKUP($AL77,'Fen 10'!$J:$L,3,FALSE),0) -> 0 | AY77: =IFERROR(VLOOKUP($AL77,'The George Munday 10k'!$L:$O,4,FALSE),0) -> 0 | AZ77: =LARGE(AM77:AY77,1)+LARGE(AM77:AY77,2)+LARGE(AM77:AY77,3)+LARGE(AM77:AY77,4)+LARGE(AM77:AY77,5)+LARGE(AM77:AY77,6) -> 60 | BA77: =COUNTIF(AM77:AY77,">0.09") -> 2 | BB77: =_xlfn.RANK.EQ(AZ77,$AZ$10:$AZ$140,0) -> 62
T78: Perry Miller | U78: =IFERROR(VLOOKUP($T78,'Folksworth 15'!$F:$H,3,FALSE),0) -> 0 | V78: =IFERROR(VLOOKUP($T78,'Dirt Run Irchester 7.5k'!$F:$H,3,FALSE),0) -> 0 | W78: =IFERROR(VLOOKUP($T78,'Burghley 7'!$F:$H,3,FALSE),0) -> 0 | X78: =IFERROR(VLOOKUP($T78,'King''s Cliffe Trail 10k'!$F:$H,3,FALSE),0) -> 0 | Y78: =IFERROR(VLOOKUP($T78,'Langtoft 10k'!F:H,3,FALSE),0) -> 0 | Z78: =IFERROR(VLOOKUP($T78,'The Grim Reaper 10 Mile'!$F:$H,3,FALSE),0) -> 0 | AA78: =IFERROR(VLOOKUP($T78,'Nene Valley Trail 10 Mile'!$F:$H,3,FALSE),0) -> 0 | AB78: =IFERROR(VLOOKUP($T78,'Whissendine 6ix'!$F:$H,3,FALSE),0) -> 0 | AC78: =IFERROR(VLOOKUP($T78,'Ponton Plod 10k'!$F:$H,3,FALSE),0) -> 0 | AD78: =IFERROR(VLOOKUP($T78,'Rutland Water parkrun'!$F:$H,3,FALSE),0) -> 0 | AE78: =IFERROR(VLOOKUP($T78,'Great Eastern Run'!$F:$H,3,FALSE),0) -> 30 | AF78: =IFERROR(VLOOKUP($T78,'Fen 10'!$F:$H,3,FALSE),0) -> 0 | AG78: =IFERROR(VLOOKUP($T78,'The George Munday 10k'!$G:$J,4,FALSE),0) -> 0 | AH78: =LARGE(U78:AG78,1)+LARGE(U78:AG78,2)+LARGE(U78:AG78,3)+LARGE(U78:AG78,4)+LARGE(U78:AG78,5)+LARGE(U78:AG78,6) -> 30 | AI78: =COUNTIF(U78:AG78,">.09") -> 1 | AJ78: =_xlfn.RANK.EQ(AH78,$AH$10:$AH$81,0) -> 62 | AL78: Marc Physick | AM78: =IFERROR(VLOOKUP($AL78,'Folksworth 15'!$J:$L,3,FALSE),0) -> 0 | AN78: =IFERROR(VLOOKUP($AL78,'Dirt Run Irchester 7.5k'!$J:$L,3,FALSE),0) -> 0 | AO78: =IFERROR(VLOOKUP($AL78,'Burghley 7'!$J:$L,3,FALSE),0) -> 30 | AP78: =IFERROR(VLOOKUP($AL78,'King''s Cliffe Trail 10k'!$J:$L,3,FALSE),0) -> 0 | AQ78: =IFERROR(VLOOKUP($AL78,'Langtoft 10k'!J:L,3,FALSE),0) -> 0 | AR78: =IFERROR(VLOOKUP($AL78,'The Grim Reaper 10 Mile'!$J:$L,3,FALSE),0) -> 0 | AS78: =IFERROR(VLOOKUP($AL78,'Nene Valley Trail 10 Mile'!$J:$L,3,FALSE),0) -> 0 | AT78: =IFERROR(VLOOKUP($AL78,'Whissendine 6ix'!$J:$L,3,FALSE),0) -> 0 | AU78: =IFERROR(VLOOKUP($AL78,'Ponton Plod 10k'!$J:$L,3,FALSE),0) -> 0 | AV78: =IFERROR(VLOOKUP($AL78,'Rutland Water parkrun'!$J:$L,3,FALSE),0) -> 0 | AW78: =IFERROR(VLOOKUP($AL78,'Great Eastern Run'!$J:$L,3,FALSE),0) -> 30 | AX78: =IFERROR(VLOOKUP($AL78,'Fen 10'!$J:$L,3,FALSE),0) -> 0 | AY78: =IFERROR(VLOOKUP($AL78,'The George Munday 10k'!$L:$O,4,FALSE),0) -> 0 | AZ78: =LARGE(AM78:AY78,1)+LARGE(AM78:AY78,2)+LARGE(AM78:AY78,3)+LARGE(AM78:AY78,4)+LARGE(AM78:AY78,5)+LARGE(AM78:AY78,6) -> 60 | BA78: =COUNTIF(AM78:AY78,">0.09") -> 2 | BB78: =_xlfn.RANK.EQ(AZ78,$AZ$10:$AZ$140,0) -> 62
T79: Rupert Clifton | U79: =IFERROR(VLOOKUP($T79,'Folksworth 15'!$F:$H,3,FALSE),0) -> 0 | V79: =IFERROR(VLOOKUP($T79,'Dirt Run Irchester 7.5k'!$F:$H,3,FALSE),0) -> 0 | W79: =IFERROR(VLOOKUP($T79,'Burghley 7'!$F:$H,3,FALSE),0) -> 0 | X79: =IFERROR(VLOOKUP($T79,'King''s Cliffe Trail 10k'!$F:$H,3,FALSE),0) -> 0 | Y79: =IFERROR(VLOOKUP($T79,'Langtoft 10k'!F:H,3,FALSE),0) -> 0 | Z79: =IFERROR(VLOOKUP($T79,'The Grim Reaper 10 Mile'!$F:$H,3,FALSE),0) -> 0 | AA79: =IFERROR(VLOOKUP($T79,'Nene Valley Trail 10 Mile'!$F:$H,3,FALSE),0) -> 0 | AB79: =IFERROR(VLOOKUP($T79,'Whissendine 6ix'!$F:$H,3,FALSE),0) -> 0 | AC79: =IFERROR(VLOOKUP($T79,'Ponton Plod 10k'!$F:$H,3,FALSE),0) -> 0 | AD79: =IFERROR(VLOOKUP($T79,'Rutland Water parkrun'!$F:$H,3,FALSE),0) -> 0 | AE79: =IFERROR(VLOOKUP($T79,'Great Eastern Run'!$F:$H,3,FALSE),0) -> 30 | AF79: =IFERROR(VLOOKUP($T79,'Fen 10'!$F:$H,3,FALSE),0) -> 0 | AG79: =IFERROR(VLOOKUP($T79,'The George Munday 10k'!$G:$J,4,FALSE),0) -> 0 | AH79: =LARGE(U79:AG79,1)+LARGE(U79:AG79,2)+LARGE(U79:AG79,3)+LARGE(U79:AG79,4)+LARGE(U79:AG79,5)+LARGE(U79:AG79,6) -> 30 | AI79: =COUNTIF(U79:AG79,">.09") -> 1 | AJ79: =_xlfn.RANK.EQ(AH79,$AH$10:$AH$81,0) -> 62 | AL79: Matthew Swain | AM79: =IFERROR(VLOOKUP($AL79,'Folksworth 15'!$J:$L,3,FALSE),0) -> 0 | AN79: =IFERROR(VLOOKUP($AL79,'Dirt Run Irchester 7.5k'!$J:$L,3,FALSE),0) -> 0 | AO79: =IFERROR(VLOOKUP($AL79,'Burghley 7'!$J:$L,3,FALSE),0) -> 30 | AP79: =IFERROR(VLOOKUP($AL79,'King''s Cliffe Trail 10k'!$J:$L,3,FALSE),0) -> 0 | AQ79: =IFERROR(VLOOKUP($AL79,'Langtoft 10k'!J:L,3,FALSE),0) -> 0 | AR79: =IFERROR(VLOOKUP($AL79,'The Grim Reaper 10 Mile'!$J:$L,3,FALSE),0) -> 0 | AS79: =IFERROR(VLOOKUP($AL79,'Nene Valley Trail 10 Mile'!$J:$L,3,FALSE),0) -> 30 | AT79: =IFERROR(VLOOKUP($AL79,'Whissendine 6ix'!$J:$L,3,FALSE),0) -> 0 | AU79: =IFERROR(VLOOKUP($AL79,'Ponton Plod 10k'!$J:$L,3,FALSE),0) -> 0 | AV79: =IFERROR(VLOOKUP($AL79,'Rutland Water parkrun'!$J:$L,3,FALSE),0) -> 0 | AW79: =IFERROR(VLOOKUP($AL79,'Great Eastern Run'!$J:$L,3,FALSE),0) -> 0 | AX79: =IFERROR(VLOOKUP($AL79,'Fen 10'!$J:$L,3,FALSE),0) -> 0 | AY79: =IFERROR(VLOOKUP($AL79,'The George Munday 10k'!$L:$O,4,FALSE),0) -> 0 | AZ79: =LARGE(AM79:AY79,1)+LARGE(AM79:AY79,2)+LARGE(AM79:AY79,3)+LARGE(AM79:AY79,4)+LARGE(AM79:AY79,5)+LARGE(AM79:AY79,6) -> 60 | BA79: =COUNTIF(AM79:AY79,">0.09") -> 2 | BB79: =_xlfn.RANK.EQ(AZ79,$AZ$10:$AZ$140,0) -> 62
T80: Stephen Moore | U80: =IFERROR(VLOOKUP($T80,'Folksworth 15'!$F:$H,3,FALSE),0) -> 0 | V80: =IFERROR(VLOOKUP($T80,'Dirt Run Irchester 7.5k'!$F:$H,3,FALSE),0) -> 0 | W80: =IFERROR(VLOOKUP($T80,'Burghley 7'!$F:$H,3,FALSE),0) -> 30 | X80: =IFERROR(VLOOKUP($T80,'King''s Cliffe Trail 10k'!$F:$H,3,FALSE),0) -> 0 | Y80: =IFERROR(VLOOKUP($T80,'Langtoft 10k'!F:H,3,FALSE),0) -> 0 | Z80: =IFERROR(VLOOKUP($T80,'The Grim Reaper 10 Mile'!$F:$H,3,FALSE),0) -> 0 | AA80: =IFERROR(VLOOKUP($T80,'Nene Valley Trail 10 Mile'!$F:$H,3,FALSE),0) -> 0 | AB80: =IFERROR(VLOOKUP($T80,'Whissendine 6ix'!$F:$H,3,FALSE),0) -> 0 | AC80: =IFERROR(VLOOKUP($T80,'Ponton Plod 10k'!$F:$H,3,FALSE),0) -> 0 | AD80: =IFERROR(VLOOKUP($T80,'Rutland Water parkrun'!$F:$H,3,FALSE),0) -> 0 | AE80: =IFERROR(VLOOKUP($T80,'Great Eastern Run'!$F:$H,3,FALSE),0) -> 0 | AF80: =IFERROR(VLOOKUP($T80,'Fen 10'!$F:$H,3,FALSE),0) -> 0 | AG80: =IFERROR(VLOOKUP($T80,'The George Munday 10k'!$G:$J,4,FALSE),0) -> 0 | AH80: =LARGE(U80:AG80,1)+LARGE(U80:AG80,2)+LARGE(U80:AG80,3)+LARGE(U80:AG80,4)+LARGE(U80:AG80,5)+LARGE(U80:AG80,6) -> 30 | AI80: =COUNTIF(U80:AG80,">.09") -> 1 | AJ80: =_xlfn.RANK.EQ(AH80,$AH$10:$AH$81,0) -> 62 | AL80: Scott Linfoot | AM80: =IFERROR(VLOOKUP($AL80,'Folksworth 15'!$J:$L,3,FALSE),0) -> 0 | AN80: =IFERROR(VLOOKUP($AL80,'Dirt Run Irchester 7.5k'!$J:$L,3,FALSE),0) -> 0 | AO80: =IFERROR(VLOOKUP($AL80,'Burghley 7'!$J:$L,3,FALSE),0) -> 0 | AP80: =IFERROR(VLOOKUP($AL80,'King''s Cliffe Trail 10k'!$J:$L,3,FALSE),0) -> 30 | AQ80: =IFERROR(VLOOKUP($AL80,'Langtoft 10k'!J:L,3,FALSE),0) -> 0 | AR80: =IFERROR(VLOOKUP($AL80,'The Grim Reaper 10 Mile'!$J:$L,3,FALSE),0) -> 0 | AS80: =IFERROR(VLOOKUP($AL80,'Nene Valley Trail 10 Mile'!$J:$L,3,FALSE),0) -> 0 | AT80: =IFERROR(VLOOKUP($AL80,'Whissendine 6ix'!$J:$L,3,FALSE),0) -> 30 | AU80: =IFERROR(VLOOKUP($AL80,'Ponton Plod 10k'!$J:$L,3,FALSE),0) -> 0 | AV80: =IFERROR(VLOOKUP($AL80,'Rutland Water parkrun'!$J:$L,3,FALSE),0) -> 0 | AW80: =IFERROR(VLOOKUP($AL80,'Great Eastern Run'!$J:$L,3,FALSE),0) -> 0 | AX80: =IFERROR(VLOOKUP($AL80,'Fen 10'!$J:$L,3,FALSE),0) -> 0 | AY80: =IFERROR(VLOOKUP($AL80,'The George Munday 10k'!$L:$O,4,FALSE),0) -> 0 | AZ80: =LARGE(AM80:AY80,1)+LARGE(AM80:AY80,2)+LARGE(AM80:AY80,3)+LARGE(AM80:AY80,4)+LARGE(AM80:AY80,5)+LARGE(AM80:AY80,6) -> 60 | BA80: =COUNTIF(AM80:AY80,">0.09") -> 2 | BB80: =_xlfn.RANK.EQ(AZ80,$AZ$10:$AZ$140,0) -> 62
T81: Steve Lamb | U81: =IFERROR(VLOOKUP($T81,'Folksworth 15'!$F:$H,3,FALSE),0) -> 0 | V81: =IFERROR(VLOOKUP($T81,'Dirt Run Irchester 7.5k'!$F:$H,3,FALSE),0) -> 0 | W81: =IFERROR(VLOOKUP($T81,'Burghley 7'!$F:$H,3,FALSE),0) -> 30 | X81: =IFERROR(VLOOKUP($T81,'King''s Cliffe Trail 10k'!$F:$H,3,FALSE),0) -> 0 | Y81: =IFERROR(VLOOKUP($T81,'Langtoft 10k'!F:H,3,FALSE),0) -> 0 | Z81: =IFERROR(VLOOKUP($T81,'The Grim Reaper 10 Mile'!$F:$H,3,FALSE),0) -> 0 | AA81: =IFERROR(VLOOKUP($T81,'Nene Valley Trail 10 Mile'!$F:$H,3,FALSE),0) -> 0 | AB81: =IFERROR(VLOOKUP($T81,'Whissendine 6ix'!$F:$H,3,FALSE),0) -> 0 | AC81: =IFERROR(VLOOKUP($T81,'Ponton Plod 10k'!$F:$H,3,FALSE),0) -> 0 | AD81: =IFERROR(VLOOKUP($T81,'Rutland Water parkrun'!$F:$H,3,FALSE),0) -> 0 | AE81: =IFERROR(VLOOKUP($T81,'Great Eastern Run'!$F:$H,3,FALSE),0) -> 0 | AF81: =IFERROR(VLOOKUP($T81,'Fen 10'!$F:$H,3,FALSE),0) -> 0 | AG81: =IFERROR(VLOOKUP($T81,'The George Munday 10k'!$G:$J,4,FALSE),0) -> 0 | AH81: =LARGE(U81:AG81,1)+LARGE(U81:AG81,2)+LARGE(U81:AG81,3)+LARGE(U81:AG81,4)+LARGE(U81:AG81,5)+LARGE(U81:AG81,6) -> 30 | AI81: =COUNTIF(U81:AG81,">.09") -> 1 | AJ81: =_xlfn.RANK.EQ(AH81,$AH$10:$AH$81,0) -> 62 | AL81: Sharon Plowes | AM81: =IFERROR(VLOOKUP($AL81,'Folksworth 15'!$J:$L,3,FALSE),0) -> 0 | AN81: =IFERROR(VLOOKUP($AL81,'Dirt Run Irchester 7.5k'!$J:$L,3,FALSE),0) -> 0 | AO81: =IFERROR(VLOOKUP($AL81,'Burghley 7'!$J:$L,3,FALSE),0) -> 0 | AP81: =IFERROR(VLOOKUP($AL81,'King''s Cliffe Trail 10k'!$J:$L,3,FALSE),0) -> 30 | AQ81: =IFERROR(VLOOKUP($AL81,'Langtoft 10k'!J:L,3,FALSE),0) -> 0 | AR81: =IFERROR(VLOOKUP($AL81,'The Grim Reaper 10 Mile'!$J:$L,3,FALSE),0) -> 0 | AS81: =IFERROR(VLOOKUP($AL81,'Nene Valley Trail 10 Mile'!$J:$L,3,FALSE),0) -> 30 | AT81: =IFERROR(VLOOKUP($AL81,'Whissendine 6ix'!$J:$L,3,FALSE),0) -> 0 | AU81: =IFERROR(VLOOKUP($AL81,'Ponton Plod 10k'!$J:$L,3,FALSE),0) -> 0 | AV81: =IFERROR(VLOOKUP($AL81,'Rutland Water parkrun'!$J:$L,3,FALSE),0) -> 0 | AW81: =IFERROR(VLOOKUP($AL81,'Great Eastern Run'!$J:$L,3,FALSE),0) -> 0 | AX81: =IFERROR(VLOOKUP($AL81,'Fen 10'!$J:$L,3,FALSE),0) -> 0 | AY81: =IFERROR(VLOOKUP($AL81,'The George Munday 10k'!$L:$O,4,FALSE),0) -> 0 | AZ81: =LARGE(AM81:AY81,1)+LARGE(AM81:AY81,2)+LARGE(AM81:AY81,3)+LARGE(AM81:AY81,4)+LARGE(AM81:AY81,5)+LARGE(AM81:AY81,6) -> 60 | BA81: =COUNTIF(AM81:AY81,">0.09") -> 2 | BB81: =_xlfn.RANK.EQ(AZ81,$AZ$10:$AZ$140,0) -> 62
AL82: Nick Harding | AM82: =IFERROR(VLOOKUP($AL82,'Folksworth 15'!$J:$L,3,FALSE),0) -> 0 | AN82: =IFERROR(VLOOKUP($AL82,'Dirt Run Irchester 7.5k'!$J:$L,3,FALSE),0) -> 0 | AO82: =IFERROR(VLOOKUP($AL82,'Burghley 7'!$J:$L,3,FALSE),0) -> 0 | AP82: =IFERROR(VLOOKUP($AL82,'King''s Cliffe Trail 10k'!$J:$L,3,FALSE),0) -> 0 | AQ82: =IFERROR(VLOOKUP($AL82,'Langtoft 10k'!J:L,3,FALSE),0) -> 0 | AR82: =IFERROR(VLOOKUP($AL82,'The Grim Reaper 10 Mile'!$J:$L,3,FALSE),0) -> 0 | AS82: =IFERROR(VLOOKUP($AL82,'Nene Valley Trail 10 Mile'!$J:$L,3,FALSE),0) -> 0 | AT82: =IFERROR(VLOOKUP($AL82,'Whissendine 6ix'!$J:$L,3,FALSE),0) -> 0 | AU82: =IFERROR(VLOOKUP($AL82,'Ponton Plod 10k'!$J:$L,3,FALSE),0) -> 0 | AV82: =IFERROR(VLOOKUP($AL82,'Rutland Water parkrun'!$J:$L,3,FALSE),0) -> 0 | AW82: =IFERROR(VLOOKUP($AL82,'Great Eastern Run'!$J:$L,3,FALSE),0) -> 44 | AX82: =IFERROR(VLOOKUP($AL82,'Fen 10'!$J:$L,3,FALSE),0) -> 0 | AY82: =IFERROR(VLOOKUP($AL82,'The George Munday 10k'!$L:$O,4,FALSE),0) -> 0 | AZ82: =LARGE(AM82:AY82,1)+LARGE(AM82:AY82,2)+LARGE(AM82:AY82,3)+LARGE(AM82:AY82,4)+LARGE(AM82:AY82,5)+LARGE(AM82:AY82,6) -> 44 | BA82: =COUNTIF(AM82:AY82,">0.09") -> 1 | BB82: =_xlfn.RANK.EQ(AZ82,$AZ$10:$AZ$140,0) -> 73
AL83: Janine Buck | AM83: =IFERROR(VLOOKUP($AL83,'Folksworth 15'!$J:$L,3,FALSE),0) -> 0 | AN83: =IFERROR(VLOOKUP($AL83,'Dirt Run Irchester 7.5k'!$J:$L,3,FALSE),0) -> 43 | AO83: =IFERROR(VLOOKUP($AL83,'Burghley 7'!$J:$L,3,FALSE),0) -> 0 | AP83: =IFERROR(VLOOKUP($AL83,'King''s Cliffe Trail 10k'!$J:$L,3,FALSE),0) -> 0 | AQ83: =IFERROR(VLOOKUP($AL83,'Langtoft 10k'!J:L,3,FALSE),0) -> 0 | AR83: =IFERROR(VLOOKUP($AL83,'The Grim Reaper 10 Mile'!$J:$L,3,FALSE),0) -> 0 | AS83: =IFERROR(VLOOKUP($AL83,'Nene Valley Trail 10 Mile'!$J:$L,3,FALSE),0) -> 0 | AT83: =IFERROR(VLOOKUP($AL83,'Whissendine 6ix'!$J:$L,3,FALSE),0) -> 0 | AU83: =IFERROR(VLOOKUP($AL83,'Ponton Plod 10k'!$J:$L,3,FALSE),0) -> 0 | AV83: =IFERROR(VLOOKUP($AL83,'Rutland Water parkrun'!$J:$L,3,FALSE),0) -> 0 | AW83: =IFERROR(VLOOKUP($AL83,'Great Eastern Run'!$J:$L,3,FALSE),0) -> 0 | AX83: =IFERROR(VLOOKUP($AL83,'Fen 10'!$J:$L,3,FALSE),0) -> 0 | AY83: =IFERROR(VLOOKUP($AL83,'The George Munday 10k'!$L:$O,4,FALSE),0) -> 0 | AZ83: =LARGE(AM83:AY83,1)+LARGE(AM83:AY83,2)+LARGE(AM83:AY83,3)+LARGE(AM83:AY83,4)+LARGE(AM83:AY83,5)+LARGE(AM83:AY83,6) -> 43 | BA83: =COUNTIF(AM83:AY83,">0.09") -> 1 | BB83: =_xlfn.RANK.EQ(AZ83,$AZ$10:$AZ$140,0) -> 74
AL84: Liz Makin | AM84: =IFERROR(VLOOKUP($AL84,'Folksworth 15'!$J:$L,3,FALSE),0) -> 0 | AN84: =IFERROR(VLOOKUP($AL84,'Dirt Run Irchester 7.5k'!$J:$L,3,FALSE),0) -> 0 | AO84: =IFERROR(VLOOKUP($AL84,'Burghley 7'!$J:$L,3,FALSE),0) -> 0 | AP84: =IFERROR(VLOOKUP($AL84,'King''s Cliffe Trail 10k'!$J:$L,3,FALSE),0) -> 0 | AQ84: =IFERROR(VLOOKUP($AL84,'Langtoft 10k'!J:L,3,FALSE),0) -> 0 | AR84: =IFERROR(VLOOKUP($AL84,'The Grim Reaper 10 Mile'!$J:$L,3,FALSE),0) -> 0 | AS84: =IFERROR(VLOOKUP($AL84,'Nene Valley Trail 10 Mile'!$J:$L,3,FALSE),0) -> 0 | AT84: =IFERROR(VLOOKUP($AL84,'Whissendine 6ix'!$J:$L,3,FALSE),0) -> 0 | AU84: =IFERROR(VLOOKUP($AL84,'Ponton Plod 10k'!$J:$L,3,FALSE),0) -> 0 | AV84: =IFERROR(VLOOKUP($AL84,'Rutland Water parkrun'!$J:$L,3,FALSE),0) -> 43 | AW84: =IFERROR(VLOOKUP($AL84,'Great Eastern Run'!$J:$L,3,FALSE),0) -> 0 | AX84: =IFERROR(VLOOKUP($AL84,'Fen 10'!$J:$L,3,FALSE),0) -> 0 | AY84: =IFERROR(VLOOKUP($AL84,'The George Munday 10k'!$L:$O,4,FALSE),0) -> 0 | AZ84: =LARGE(AM84:AY84,1)+LARGE(AM84:AY84,2)+LARGE(AM84:AY84,3)+LARGE(AM84:AY84,4)+LARGE(AM84:AY84,5)+LARGE(AM84:AY84,6) -> 43 | BA84: =COUNTIF(AM84:AY84,">0.09") -> 1 | BB84: =_xlfn.RANK.EQ(AZ84,$AZ$10:$AZ$140,0) -> 74
AL85: Ed Fancourt | AM85: =IFERROR(VLOOKUP($AL85,'Folksworth 15'!$J:$L,3,FALSE),0) -> 0 | AN85: =IFERROR(VLOOKUP($AL85,'Dirt Run Irchester 7.5k'!$J:$L,3,FALSE),0) -> 0 | AO85: =IFERROR(VLOOKUP($AL85,'Burghley 7'!$J:$L,3,FALSE),0) -> 42 | AP85: =IFERROR(VLOOKUP($AL85,'King''s Cliffe Trail 10k'!$J:$L,3,FALSE),0) -> 0 | AQ85: =IFERROR(VLOOKUP($AL85,'Langtoft 10k'!J:L,3,FALSE),0) -> 0 | AR85: =IFERROR(VLOOKUP($AL85,'The Grim Reaper 10 Mile'!$J:$L,3,FALSE),0) -> 0 | AS85: =IFERROR(VLOOKUP($AL85,'Nene Valley Trail 10 Mile'!$J:$L,3,FALSE),0) -> 0 | AT85: =IFERROR(VLOOKUP($AL85,'Whissendine 6ix'!$J:$L,3,FALSE),0) -> 0 | AU85: =IFERROR(VLOOKUP($AL85,'Ponton Plod 10k'!$J:$L,3,FALSE),0) -> 0 | AV85: =IFERROR(VLOOKUP($AL85,'Rutland Water parkrun'!$J:$L,3,FALSE),0) -> 0 | AW85: =IFERROR(VLOOKUP($AL85,'Great Eastern Run'!$J:$L,3,FALSE),0) -> 0 | AX85: =IFERROR(VLOOKUP($AL85,'Fen 10'!$J:$L,3,FALSE),0) -> 0 | AY85: =IFERROR(VLOOKUP($AL85,'The George Munday 10k'!$L:$O,4,FALSE),0) -> 0 | AZ85: =LARGE(AM85:AY85,1)+LARGE(AM85:AY85,2)+LARGE(AM85:AY85,3)+LARGE(AM85:AY85,4)+LARGE(AM85:AY85,5)+LARGE(AM85:AY85,6) -> 42 | BA85: =COUNTIF(AM85:AY85,">0.09") -> 1 | BB85: =_xlfn.RANK.EQ(AZ85,$AZ$10:$AZ$140,0) -> 76
AL86: Louise Southgate | AM86: =IFERROR(VLOOKUP($AL86,'Folksworth 15'!$J:$L,3,FALSE),0) -> 0 | AN86: =IFERROR(VLOOKUP($AL86,'Dirt Run Irchester 7.5k'!$J:$L,3,FALSE),0) -> 0 | AO86: =IFERROR(VLOOKUP($AL86,'Burghley 7'!$J:$L,3,FALSE),0) -> 41 | AP86: =IFERROR(VLOOKUP($AL86,'King''s Cliffe Trail 10k'!$J:$L,3,FALSE),0) -> 0 | AQ86: =IFERROR(VLOOKUP($AL86,'Langtoft 10k'!J:L,3,FALSE),0) -> 0 | AR86: =IFERROR(VLOOKUP($AL86,'The Grim Reaper 10 Mile'!$J:$L,3,FALSE),0) -> 0 | AS86: =IFERROR(VLOOKUP($AL86,'Nene Valley Trail 10 Mile'!$J:$L,3,FALSE),0) -> 0 | AT86: =IFERROR(VLOOKUP($AL86,'Whissendine 6ix'!$J:$L,3,FALSE),0) -> 0 | AU86: =IFERROR(VLOOKUP($AL86,'Ponton Plod 10k'!$J:$L,3,FALSE),0) -> 0 | AV86: =IFERROR(VLOOKUP($AL86,'Rutland Water parkrun'!$J:$L,3,FALSE),0) -> 0 | AW86: =IFERROR(VLOOKUP($AL86,'Great Eastern Run'!$J:$L,3,FALSE),0) -> 0 | AX86: =IFERROR(VLOOKUP($AL86,'Fen 10'!$J:$L,3,FALSE),0) -> 0 | AY86: =IFERROR(VLOOKUP($AL86,'The George Munday 10k'!$L:$O,4,FALSE),0) -> 0 | AZ86: =LARGE(AM86:AY86,1)+LARGE(AM86:AY86,2)+LARGE(AM86:AY86,3)+LARGE(AM86:AY86,4)+LARGE(AM86:AY86,5)+LARGE(AM86:AY86,6) -> 41 | BA86: =COUNTIF(AM86:AY86,">0.09") -> 1 | BB86: =_xlfn.RANK.EQ(AZ86,$AZ$10:$AZ$140,0) -> 77
AL87: Nicola Eastwood | AM87: =IFERROR(VLOOKUP($AL87,'Folksworth 15'!$J:$L,3,FALSE),0) -> 0 | AN87: =IFERROR(VLOOKUP($AL87,'Dirt Run Irchester 7.5k'!$J:$L,3,FALSE),0) -> 0 | AO87: =IFERROR(VLOOKUP($AL87,'Burghley 7'!$J:$L,3,FALSE),0) -> 0 | AP87: =IFERROR(VLOOKUP($AL87,'King''s Cliffe Trail 10k'!$J:$L,3,FALSE),0) -> 0 | AQ87: =IFERROR(VLOOKUP($AL87,'Langtoft 10k'!J:L,3,FALSE),0) -> 0 | AR87: =IFERROR(VLOOKUP($AL87,'The Grim Reaper 10 Mile'!$J:$L,3,FALSE),0) -> 0 | AS87: =IFERROR(VLOOKUP($AL87,'Nene Valley Trail 10 Mile'!$J:$L,3,FALSE),0) -> 41 | AT87: =IFERROR(VLOOKUP($AL87,'Whissendine 6ix'!$J:$L,3,FALSE),0) -> 0 | AU87: =IFERROR(VLOOKUP($AL87,'Ponton Plod 10k'!$J:$L,3,FALSE),0) -> 0 | AV87: =IFERROR(VLOOKUP($AL87,'Rutland Water parkrun'!$J:$L,3,FALSE),0) -> 0 | AW87: =IFERROR(VLOOKUP($AL87,'Great Eastern Run'!$J:$L,3,FALSE),0) -> 0 | AX87: =IFERROR(VLOOKUP($AL87,'Fen 10'!$J:$L,3,FALSE),0) -> 0 | AY87: =IFERROR(VLOOKUP($AL87,'The George Munday 10k'!$L:$O,4,FALSE),0) -> 0 | AZ87: =LARGE(AM87:AY87,1)+LARGE(AM87:AY87,2)+LARGE(AM87:AY87,3)+LARGE(AM87:AY87,4)+LARGE(AM87:AY87,5)+LARGE(AM87:AY87,6) -> 41 | BA87: =COUNTIF(AM87:AY87,">0.09") -> 1 | BB87: =_xlfn.RANK.EQ(AZ87,$AZ$10:$AZ$140,0) -> 77
AL88: Thomas Martin | AM88: =IFERROR(VLOOKUP($AL88,'Folksworth 15'!$J:$L,3,FALSE),0) -> 41 | AN88: =IFERROR(VLOOKUP($AL88,'Dirt Run Irchester 7.5k'!$J:$L,3,FALSE),0) -> 0 | AO88: =IFERROR(VLOOKUP($AL88,'Burghley 7'!$J:$L,3,FALSE),0) -> 0 | AP88: =IFERROR(VLOOKUP($AL88,'King''s Cliffe Trail 10k'!$J:$L,3,FALSE),0) -> 0 | AQ88: =IFERROR(VLOOKUP($AL88,'Langtoft 10k'!J:L,3,FALSE),0) -> 0 | AR88: =IFERROR(VLOOKUP($AL88,'The Grim Reaper 10 Mile'!$J:$L,3,FALSE),0) -> 0 | AS88: =IFERROR(VLOOKUP($AL88,'Nene Valley Trail 10 Mile'!$J:$L,3,FALSE),0) -> 0 | AT88: =IFERROR(VLOOKUP($AL88,'Whissendine 6ix'!$J:$L,3,FALSE),0) -> 0 | AU88: =IFERROR(VLOOKUP($AL88,'Ponton Plod 10k'!$J:$L,3,FALSE),0) -> 0 | AV88: =IFERROR(VLOOKUP($AL88,'Rutland Water parkrun'!$J:$L,3,FALSE),0) -> 0 | AW88: =IFERROR(VLOOKUP($AL88,'Great Eastern Run'!$J:$L,3,FALSE),0) -> 0 | AX88: =IFERROR(VLOOKUP($AL88,'Fen 10'!$J:$L,3,FALSE),0) -> 0 | AY88: =IFERROR(VLOOKUP($AL88,'The George Munday 10k'!$L:$O,4,FALSE),0) -> 0 | AZ88: =LARGE(AM88:AY88,1)+LARGE(AM88:AY88,2)+LARGE(AM88:AY88,3)+LARGE(AM88:AY88,4)+LARGE(AM88:AY88,5)+LARGE(AM88:AY88,6) -> 41 | BA88: =COUNTIF(AM88:AY88,">0.09") -> 1 | BB88: =_xlfn.RANK.EQ(AZ88,$AZ$10:$AZ$140,0) -> 77
AL89: Anthony Sharp | AM89: =IFERROR(VLOOKUP($AL89,'Folksworth 15'!$J:$L,3,FALSE),0) -> 0 | AN89: =IFERROR(VLOOKUP($AL89,'Dirt Run Irchester 7.5k'!$J:$L,3,FALSE),0) -> 0 | AO89: =IFERROR(VLOOKUP($AL89,'Burghley 7'!$J:$L,3,FALSE),0) -> 0 | AP89: =IFERROR(VLOOKUP($AL89,'King''s Cliffe Trail 10k'!$J:$L,3,FALSE),0) -> 0 | AQ89: =IFERROR(VLOOKUP($AL89,'Langtoft 10k'!J:L,3,FALSE),0) -> 0 | AR89: =IFERROR(VLOOKUP($AL89,'The Grim Reaper 10 Mile'!$J:$L,3,FALSE),0) -> 0 | AS89: =IFERROR(VLOOKUP($AL89,'Nene Valley Trail 10 Mile'!$J:$L,3,FALSE),0) -> 0 | AT89: =IFERROR(VLOOKUP($AL89,'Whissendine 6ix'!$J:$L,3,FALSE),0) -> 0 | AU89: =IFERROR(VLOOKUP($AL89,'Ponton Plod 10k'!$J:$L,3,FALSE),0) -> 0 | AV89: =IFERROR(VLOOKUP($AL89,'Rutland Water parkrun'!$J:$L,3,FALSE),0) -> 40 | AW89: =IFERROR(VLOOKUP($AL89,'Great Eastern Run'!$J:$L,3,FALSE),0) -> 0 | AX89: =IFERROR(VLOOKUP($AL89,'Fen 10'!$J:$L,3,FALSE),0) -> 0 | AY89: =IFERROR(VLOOKUP($AL89,'The George Munday 10k'!$L:$O,4,FALSE),0) -> 0 | AZ89: =LARGE(AM89:AY89,1)+LARGE(AM89:AY89,2)+LARGE(AM89:AY89,3)+LARGE(AM89:AY89,4)+LARGE(AM89:AY89,5)+LARGE(AM89:AY89,6) -> 40 | BA89: =COUNTIF(AM89:AY89,">0.09") -> 1 | BB89: =_xlfn.RANK.EQ(AZ89,$AZ$10:$AZ$140,0) -> 80
AL90: Michael Carrea | AM90: =IFERROR(VLOOKUP($AL90,'Folksworth 15'!$J:$L,3,FALSE),0) -> 0 | AN90: =IFERROR(VLOOKUP($AL90,'Dirt Run Irchester 7.5k'!$J:$L,3,FALSE),0) -> 0 | AO90: =IFERROR(VLOOKUP($AL90,'Burghley 7'!$J:$L,3,FALSE),0) -> 0 | AP90: =IFERROR(VLOOKUP($AL90,'King''s Cliffe Trail 10k'!$J:$L,3,FALSE),0) -> 0 | AQ90: =IFERROR(VLOOKUP($AL90,'Langtoft 10k'!J:L,3,FALSE),0) -> 0 | AR90: =IFERROR(VLOOKUP($AL90,'The Grim Reaper 10 Mile'!$J:$L,3,FALSE),0) -> 0 | AS90: =IFERROR(VLOOKUP($AL90,'Nene Valley Trail 10 Mile'!$J:$L,3,FALSE),0) -> 0 | AT90: =IFERROR(VLOOKUP($AL90,'Whissendine 6ix'!$J:$L,3,FALSE),0) -> 0 | AU90: =IFERROR(VLOOKUP($AL90,'Ponton Plod 10k'!$J:$L,3,FALSE),0) -> 0 | AV90: =IFERROR(VLOOKUP($AL90,'Rutland Water parkrun'!$J:$L,3,FALSE),0) -> 0 | AW90: =IFERROR(VLOOKUP($AL90,'Great Eastern Run'!$J:$L,3,FALSE),0) -> 39 | AX90: =IFERROR(VLOOKUP($AL90,'Fen 10'!$J:$L,3,FALSE),0) -> 0 | AY90: =IFERROR(VLOOKUP($AL90,'The George Munday 10k'!$L:$O,4,FALSE),0) -> 0 | AZ90: =LARGE(AM90:AY90,1)+LARGE(AM90:AY90,2)+LARGE(AM90:AY90,3)+LARGE(AM90:AY90,4)+LARGE(AM90:AY90,5)+LARGE(AM90:AY90,6) -> 39 | BA90: =COUNTIF(AM90:AY90,">0.09") -> 1 | BB90: =_xlfn.RANK.EQ(AZ90,$AZ$10:$AZ$140,0) -> 81
AL91: Diane Wills | AM91: =IFERROR(VLOOKUP($AL91,'Folksworth 15'!$J:$L,3,FALSE),0) -> 38 | AN91: =IFERROR(VLOOKUP($AL91,'Dirt Run Irchester 7.5k'!$J:$L,3,FALSE),0) -> 0 | AO91: =IFERROR(VLOOKUP($AL91,'Burghley 7'!$J:$L,3,FALSE),0) -> 0 | AP91: =IFERROR(VLOOKUP($AL91,'King''s Cliffe Trail 10k'!$J:$L,3,FALSE),0) -> 0 | AQ91: =IFERROR(VLOOKUP($AL91,'Langtoft 10k'!J:L,3,FALSE),0) -> 0 | AR91: =IFERROR(VLOOKUP($AL91,'The Grim Reaper 10 Mile'!$J:$L,3,FALSE),0) -> 0 | AS91: =IFERROR(VLOOKUP($AL91,'Nene Valley Trail 10 Mile'!$J:$L,3,FALSE),0) -> 0 | AT91: =IFERROR(VLOOKUP($AL91,'Whissendine 6ix'!$J:$L,3,FALSE),0) -> 0 | AU91: =IFERROR(VLOOKUP($AL91,'Ponton Plod 10k'!$J:$L,3,FALSE),0) -> 0 | AV91: =IFERROR(VLOOKUP($AL91,'Rutland Water parkrun'!$J:$L,3,FALSE),0) -> 0 | AW91: =IFERROR(VLOOKUP($AL91,'Great Eastern Run'!$J:$L,3,FALSE),0) -> 0 | AX91: =IFERROR(VLOOKUP($AL91,'Fen 10'!$J:$L,3,FALSE),0) -> 0 | AY91: =IFERROR(VLOOKUP($AL91,'The George Munday 10k'!$L:$O,4,FALSE),0) -> 0 | AZ91: =LARGE(AM91:AY91,1)+LARGE(AM91:AY91,2)+LARGE(AM91:AY91,3)+LARGE(AM91:AY91,4)+LARGE(AM91:AY91,5)+LARGE(AM91:AY91,6) -> 38 | BA91: =COUNTIF(AM91:AY91,">0.09") -> 1 | BB91: =_xlfn.RANK.EQ(AZ91,$AZ$10:$AZ$140,0) -> 82
AL92: Daniel Bell | AM92: =IFERROR(VLOOKUP($AL92,'Folksworth 15'!$J:$L,3,FALSE),0) -> 0 | AN92: =IFERROR(VLOOKUP($AL92,'Dirt Run Irchester 7.5k'!$J:$L,3,FALSE),0) -> 0 | AO92: =IFERROR(VLOOKUP($AL92,'Burghley 7'!$J:$L,3,FALSE),0) -> 0 | AP92: =IFERROR(VLOOKUP($AL92,'King''s Cliffe Trail 10k'!$J:$L,3,FALSE),0) -> 0 | AQ92: =IFERROR(VLOOKUP($AL92,'Langtoft 10k'!J:L,3,FALSE),0) -> 37 | AR92: =IFERROR(VLOOKUP($AL92,'The Grim Reaper 10 Mile'!$J:$L,3,FALSE),0) -> 0 | AS92: =IFERROR(VLOOKUP($AL92,'Nene Valley Trail 10 Mile'!$J:$L,3,FALSE),0) -> 0 | AT92: =IFERROR(VLOOKUP($AL92,'Whissendine 6ix'!$J:$L,3,FALSE),0) -> 0 | AU92: =IFERROR(VLOOKUP($AL92,'Ponton Plod 10k'!$J:$L,3,FALSE),0) -> 0 | AV92: =IFERROR(VLOOKUP($AL92,'Rutland Water parkrun'!$J:$L,3,FALSE),0) -> 0 | AW92: =IFERROR(VLOOKUP($AL92,'Great Eastern Run'!$J:$L,3,FALSE),0) -> 0 | AX92: =IFERROR(VLOOKUP($AL92,'Fen 10'!$J:$L,3,FALSE),0) -> 0 | AY92: =IFERROR(VLOOKUP($AL92,'The George Munday 10k'!$L:$O,4,FALSE),0) -> 0 | AZ92: =LARGE(AM92:AY92,1)+LARGE(AM92:AY92,2)+LARGE(AM92:AY92,3)+LARGE(AM92:AY92,4)+LARGE(AM92:AY92,5)+LARGE(AM92:AY92,6) -> 37 | BA92: =COUNTIF(AM92:AY92,">0.09") -> 1 | BB92: =_xlfn.RANK.EQ(AZ92,$AZ$10:$AZ$140,0) -> 83
AL93: Andrew Shackleton | AM93: =IFERROR(VLOOKUP($AL93,'Folksworth 15'!$J:$L,3,FALSE),0) -> 0 | AN93: =IFERROR(VLOOKUP($AL93,'Dirt Run Irchester 7.5k'!$J:$L,3,FALSE),0) -> 0 | AO93: =IFERROR(VLOOKUP($AL93,'Burghley 7'!$J:$L,3,FALSE),0) -> 0 | AP93: =IFERROR(VLOOKUP($AL93,'King''s Cliffe Trail 10k'!$J:$L,3,FALSE),0) -> 0 | AQ93: =IFERROR(VLOOKUP($AL93,'Langtoft 10k'!J:L,3,FALSE),0) -> 0 | AR93: =IFERROR(VLOOKUP($AL93,'The Grim Reaper 10 Mile'!$J:$L,3,FALSE),0) -> 0 | AS93: =IFERROR(VLOOKUP($AL93,'Nene Valley Trail 10 Mile'!$J:$L,3,FALSE),0) -> 0 | AT93: =IFERROR(VLOOKUP($AL93,'Whissendine 6ix'!$J:$L,3,FALSE),0) -> 0 | AU93: =IFERROR(VLOOKUP($AL93,'Ponton Plod 10k'!$J:$L,3,FALSE),0) -> 0 | AV93: =IFERROR(VLOOKUP($AL93,'Rutland Water parkrun'!$J:$L,3,FALSE),0) -> 36 | AW93: =IFERROR(VLOOKUP($AL93,'Great Eastern Run'!$J:$L,3,FALSE),0) -> 0 | AX93: =IFERROR(VLOOKUP($AL93,'Fen 10'!$J:$L,3,FALSE),0) -> 0 | AY93: =IFERROR(VLOOKUP($AL93,'The George Munday 10k'!$L:$O,4,FALSE),0) -> 0 | AZ93: =LARGE(AM93:AY93,1)+LARGE(AM93:AY93,2)+LARGE(AM93:AY93,3)+LARGE(AM93:AY93,4)+LARGE(AM93:AY93,5)+LARGE(AM93:AY93,6) -> 36 | BA93: =COUNTIF(AM93:AY93,">0.09") -> 1 | BB93: =_xlfn.RANK.EQ(AZ93,$AZ$10:$AZ$140,0) -> 84
... AL140: Verity Sutton-Fisher | AM140: =IFERROR(VLOOKUP($AL140,'Folksworth 15'!$J:$L,3,FALSE),0) -> 0 | AN140: =IFERROR(VLOOKUP($AL140,'Dirt Run Irchester 7.5k'!$J:$L,3,FALSE),0) -> 0 | AO140: =IFERROR(VLOOKUP($AL140,'Burghley 7'!$J:$L,3,FALSE),0) -> 0 | AP140: =IFERROR(VLOOKUP($AL140,'King''s Cliffe Trail 10k'!$J:$L,3,FALSE),0) -> 0 | AQ140: =IFERROR(VLOOKUP($AL140,'Langtoft 10k'!J:L,3,FALSE),0) -> 0 | AR140: =IFERROR(VLOOKUP($AL140,'The Grim Reaper 10 Mile'!$J:$L,3,FALSE),0) -> 0 | AS140: =IFERROR(VLOOKUP($AL140,'Nene Valley Trail 10 Mile'!$J:$L,3,FALSE),0) -> 0 | AT140: =IFERROR(VLOOKUP($AL140,'Whissendine 6ix'!$J:$L,3,FALSE),0) -> 0 | AU140: =IFERROR(VLOOKUP($AL140,'Ponton Plod 10k'!$J:$L,3,FALSE),0) -> 0 | AV140: =IFERROR(VLOOKUP($AL140,'Rutland Water parkrun'!$J:$L,3,FALSE),0) -> 0 | AW140: =IFERROR(VLOOKUP($AL140,'Great Eastern Run'!$J:$L,3,FALSE),0) -> 30 | AX140: =IFERROR(VLOOKUP($AL140,'Fen 10'!$J:$L,3,FALSE),0) -> 0 | AY140: =IFERROR(VLOOKUP($AL140,'The George Munday 10k'!$L:$O,4,FALSE),0) -> 0 | AZ140: =LARGE(AM140:AY140,1)+LARGE(AM140:AY140,2)+LARGE(AM140:AY140,3)+LARGE(AM140:AY140,4)+LARGE(AM140:AY140,5)+LARGE(AM140:AY140,6) -> 30 | BA140: =COUNTIF(AM140:AY140,">0.09") -> 1 | BB140: =_xlfn.RANK.EQ(AZ140,$AZ$10:$AZ$140,0) -> 94

Sheet Folksworth 15
F2: Folksworth 15 (A)
F3: 46040
B5: Ladies' Results | F5: Men's Results | J5: Age Adjusted Championship
B6: Name | C6: Time | D6: Points | F6: Name | G6: Time | H6: Points | J6: Name | K6: % | L6: Points
B7: Claire Piercy | C7: 1:57:23.8 | D7: 50 | F7: Luke Harrison | G7: 1:28:50.8 | H7: 50 | J7: Giles Polito | K7: 84.11 | L7: 50
B8: Fiona Martin | C8: 1:59:03.2 | D8: 49 | F8: Ben Wall | G8: 1:32:32.7 | H8: 49 | J8: Luke Harrison | K8: 79.93 | L8: 49
B9: Vicky Linfoot | C9: 2:00:07.7 | D9: 48 | F9: Giles Polito | G9: 1:34:59.0 | H9: 48 | J9: Alison Cato | K9: 79.75 | L9: 48
B10: Laura Bailey | C10: 2:06:42.5 | D10: 47 | F10: Andrew Taylor | G10: 1:37:51.1 | H10: 47 | J10: Andrew Taylor | K10: 78.15 | L10: 47
B11: Lesley Beckingham | C11: 2:08:10.1 | D11: 46 | F11: Neil Lakin | G11: 1:43:16.2 | H11: 46 | J11: Ben Wall | K11: 77.97 | L11: 46
B12: Julia Parker | C12: 2:10:57.6 | D12: 45 | F12: Thomas Martin | G12: 1:50:14.1 | H12: 45 | J12: Claire Piercy | K12: 77.58 | L12: 45
B13: Alison Cato | C13: 2:11:25.2 | D13: 44 | F13: Mo Fisher | G13: 1:59:25.5 | H13: 44 | J13: Julia Parker | K13: 75.48 | L13: 44
B14: Alison Woods | C14: 2:11:59.2 | D14: 43 | F14: Michael O'Connell | G14: 2:00:15.4 | H14: 43 | J14: Lesley Beckingham | K14: 74.99 | L14: 43
B15: Diane Wills | C15: 2:12:42.0 | D15: 42 | F15: Alex Shaw | G15: 2:04:06.9 | H15: 42 | J15: Neil Lakin | K15: 72.81 | L15: 42
B16: Cheryl Allibone | C16: 2:30:54.8 | D16: 41 | F16: Martin Candish | G16: 2:04:28.9 | H16: 41 | J16: Thomas Martin | K16: 71.2 | L16: 41
B17: Caroline Geddes | C17: 2:35:36.1 | D17: 40 | F17: Sean Eglin | G17: 2:06:09.1 | H17: 40 | J17: Vicky Linfoot | K17: 69.47 | L17: 40
B18: Caroline Butcher | C18: 2:40:10.5 | D18: 39 | F18: James Mccloskey | G18: 2:07:21.9 | H18: 39 | J18: Alison Woods | K18: 68.11 | L18: 39
... B20: Mala Sun | C20: 2:51:38.0 | D20: 37 | F20: Daniel Barry | G20: 2:11:16.0 | H20: 37 | J20: Laura Bailey | K20: 65.86 | L20: 37
F21: Stephen Taylor | G21: 2:17:28.7 | H21: 36 | J21: Fiona Martin | K21: 65.47 | L21: 36
F22: Michael Flatters | G22: 2:35:38.3 | H22: 35 | J22: Stephen Parker | K22: 64.26 | L22: 35
F23: Jonathan Ramm | G23: 2:45:57.4 | H23: 34 | J23: Sean Eglin | K23: 63.9 | L23: 34
J24: Alex Shaw | K24: 63.24 | L24: 33
J25: Martin Candish | K25: 63.05 | L25: 32
J26: Stephen Taylor | K26: 60.82 | L26: 31
J27: Cheryl Allibone | K27: 60.35 | L27: 30
J28: Michael O'Connell | K28: 57.73 | L28: 30
J29: Mo Fisher | K29: 57.39 | L29: 30
J30: James Mccloskey | K30: 55.76 | L30: 30
J31: Daniel Barry | K31: 55.42 | L31: 30
J32: Amanda Longmire | K32: 53.42 | L32: 30
J33: Michael Flatters | K33: 51.33 | L33: 30
J34: Mala Sun | K34: 51.05 | L34: 30
J35: Caroline Butcher | K35: 49.88 | L35: 30
... J37: Jonathan Ramm | K37: 46.88 | L37: 30

Sheet Dirt Run Irchester 7.5k
F2: Dirt Run Irchester(Fermyn Woods Country Park – near Kettering) 7.5k (B)
F3: 46075
B5: Ladies' Results | F5: Men's Results | J5: Age Adjusted Championship
B6: Name | C6: Time | D6: Points | F6: Name | G6: Time | H6: Points | J6: Name | K6: % | L6: Points
B7: Victoria Simpson | C7: 1.8291667 | D7: 50 | F7: Matt Ginieres | G7: 1.4152778 | H7: 50 | J7: Matt Ginieres | K7: 62.17 | L7: 50
B8: Paula Short | C8: 1.9694444 | D8: 49 | F8: James Kettle | G8: 1.6472222 | H8: 49 | J8: Victoria Simpson | K8: 61.96 | L8: 49
B9: Julia Parker | C9: 2.0152778 | D9: 48 | F9: Martin Candish | G9: 1.7069444 | H9: 48 | J9: Julia Parker | K9: 60.2 | L9: 48
B10: Cheryl Allibone | C10: 2.0215278 | D10: 47 | F10: Stephen Parker | G10: 1.725 | H10: 47 | J10: Stephen Parker | K10: 58.98 | L10: 47
B11: Caroline Robertson | C11: 2.0826389 | D11: 46 | F11: Michael Flatters | G11: 1.8319444 | H11: 46 | J11: James Kettle | K11: 57.75 | L11: 46
B12: Caroline Geddes | C12: 2.1270833 | D12: 45 | J12: Martin Candish | K12: 56.19 | L12: 45
B13: Janine Buck | C13: 2.1701389 | D13: 44 | J13: Cheryl Allibone | K13: 55.34 | L13: 44
J14: Janine Buck | K14: 55.13 | L14: 43
J15: Michael Flatters | K15: 53.67 | L15: 42
J16: Paula Short | K16: 52.73 | L16: 41
J17: Caroline Robertson | K17: 51.7 | L17: 40
J18: Caroline Geddes | K18: 44.9 | L18: 39

Sheet Burghley 7
F2: Burghley 7 (A)
F3: 46082
B5: Ladies' Results | F5: Men's Results | J5: Age Adjusted Championship
B6: Name | C6: Time | D6: Points | F6: Name | G6: Time | H6: Points | J6: Name | K6: % | L6: Points
B7: Maddy Tobin | C7: 0.032106481 | D7: 50 | F7: Luke Harrison | G7: 0.0271875 | H7: 50 | J7: Giles Polito | K7: 86.82 | L7: 50
B8: Suzanne Moon | C8: 0.036226852 | D8: 49 | F8: Ben Wall | G8: 0.027291667 | H8: 49 | J8: Ben Wall | K8: 82.99 | L8: 49
B9: Laura Bailey | C9: 0.038101852 | D9: 48 | F9: Max Ranson | G9: 0.028101852 | H9: 48 | J9: Luke Harrison | K9: 82.05 | L9: 48
B10: Victoria Simpson | C10: 0.038854167 | D10: 47 | F10: Giles Polito | G10: 0.028715278 | H10: 47 | J10: Andrew Taylor | K10: 81.61 | L10: 47
B11: Alison Woods | C11: 0.039108796 | D11: 46 | F11: Matt Ginieres | G11: 0.029143519 | H11: 46 | J11: Marcus Brown | K11: 78.53 | L11: 46
B12: Cheryl Allibone | C12: 0.039953704 | D12: 45 | F12: Andrew Taylor | G12: 0.02931713 | H12: 45 | J12: Matt Ginieres | K12: 77.13 | L12: 45
B13: Louise Southgate | C13: 0.041828704 | D13: 44 | F13: Mark Popple | G13: 0.029525463 | H13: 44 | J13: Max Ranson | K13: 75.49 | L13: 44
B14: Caroline Geddes | C14: 0.042696759 | D14: 43 | F14: Sam Barrett | G14: 0.031388889 | H14: 43 | J14: James Kettle | K14: 75.12 | L14: 43
B15: Abbie Mann | C15: 0.043217593 | D15: 42 | F15: James Kettle | G15: 0.032372685 | H15: 42 | J15: Ed Fancourt | K15: 74.82 | L15: 42
B16: Helen Popple | C16: 0.047060185 | D16: 41 | F16: Adam Fenn | G16: 0.032523148 | H16: 41 | J16: Louise Southgate | K16: 74.71 | L16: 41
B17: Deborah Franklin | C17: 0.047094907 | D17: 40 | F17: Marcus Brown | G17: 0.032569444 | H17: 40 | J17: Maddy Tobin | K17: 74.34 | L17: 40
B18: Sue Barrow | C18: 0.047951389 | D18: 39 | F18: Robin Jones | G18: 0.033275463 | H18: 39 | J18: Victoria Simpson | K18: 74.08 | L18: 39
... B25: Karen Cozens | C25: 0.059259259 | D25: 32 | F25: Chris Gold | G25: 0.037777778 | H25: 32 | J25: Steve Lane | K25: 69.02 | L25: 32
F26: Andy Tobin | G26: 0.03875 | H26: 31 | J26: Laura Bailey | K26: 68.47 | L26: 31
F27: Steve Lane | G27: 0.039074074 | H27: 30 | J27: Adam Fenn | K27: 68.08 | L27: 30
F28: Joseph Wright | G28: 0.040011574 | H28: 30 | J28: Sam Barrett | K28: 67.98 | L28: 30
F29: Michael Flatters | G29: 0.040416667 | H29: 30 | J29: Michael Farrow | K29: 67.95 | L29: 30
F30: Mark Chandler | G30: 0.040891204 | H30: 30 | J30: Sue Barrow | K30: 66.12 | L30: 30
F31: Darren Scott | G31: 0.041446759 | H31: 30 | J31: Helen Popple | K31: 65.47 | L31: 30
F32: Steve Lamb | G32: 0.041909722 | H32: 30 | J32: Deborah Franklin | K32: 64.52 | L32: 30
F33: Michael Farrow | G33: 0.042476852 | H33: 30 | J33: Elaine Allwood | K33: 64.43 | L33: 30
F34: Neill Johnson | G34: 0.042731481 | H34: 30 | J34: Chris Gold | K34: 63.85 | L34: 30
F35: David Ogg | G35: 0.044421296 | H35: 30 | J35: David Ogg | K35: 63.01 | L35: 30
F36: Chris Lockett | G36: 0.049675926 | H36: 30 | J36: Darren Scott | K36: 62.24 | L36: 30
F37: Ciaran Nelson | G37: 0.049699074 | H37: 30 | J37: Michael Flatters | K37: 62.21 | L37: 30
... F40: Marc Physick | G40: 0.051759259 | H40: 30 | J40: George Cheney | K40: 60.91 | L40: 30
J41: Steve Lamb | K41: 59.99 | L41: 30
J42: Abbie Mann | K42: 59.76 | L42: 30
J43: Jonathan Towers | K43: 58.47 | L43: 30
J44: Neill Johnson | K44: 57.38 | L44: 30
J45: Stephen Moore | K45: 57.17 | L45: 30
J46: Adam Brown | K46: 57.01 | L46: 30
J47: Caroline Geddes | K47: 56.81 | L47: 30
J48: Mala Sun | K48: 56.74 | L48: 30
J49: Andy Tobin | K49: 56.3 | L49: 30
J50: Karen Cozens | K50: 55.1 | L50: 30
J51: Chris Lockett | K51: 53.32 | L51: 30
J52: Joseph Wright | K52: 52.81 | L52: 30
... J59: Sarah Eggington | K59: 46.81 | L59: 30

Sheet King's Cliffe Trail 10k
F2: King's Cliffe Trail 10k (B)
F3: 46124
B5: Ladies' Results | F5: Men's Results | J5: Age Adjusted Championship
B6: Name | C6: Time | D6: Points | F6: Name | G6: Time | H6: Points | J6: Name | K6: % | L6: Points
B7: Maddy Tobin | C7: 44:53 | D7: 50 | F7: Ben Wall | G7: 1.5888889 | H7: 50 | J7: Ben Wall | K7: 75.629258 | L7: 50
B8: Suzanne Moon | C8: 50:14 | D8: 49 | F8: Luke Harrison | G8: 1.6284722 | H8: 49 | J8: Luke Harrison | K8: 72.690044 | L8: 49
B9: Vicky Linfoot | C9: 51:37 | D9: 48 | F9: Max Ranson | G9: 1.6708333 | H9: 48 | J9: Julia Parker | K9: 70.441119 | L9: 48
B10: Julia Parker | C10: 55:39 | D10: 47 | F10: Mark Popple | G10: 1.7854167 | H10: 47 | J10: Nick Wells | K10: 68.642082 | L10: 47
B11: Paula Short | C11: 56:54 | D11: 46 | F11: Nick Wells | G11: 2.0444444 | H11: 46 | J11: Maddy Tobin | K11: 67.74521 | L11: 46
B12: Victoria Simpson | C12: 57:52 | D12: 45 | F12: Stephen Parker | G12: 2.1854167 | H12: 45 | J12: Max Ranson | K12: 67.219763 | L12: 45
B13: Claire Maxted | C13: 59:01 | D13: 44 | F13: Michael Flatters | G13: 2.2729167 | H13: 44 | J13: Suzanne Moon | K13: 66.797423 | L13: 44
B14: Liz Harding | C14: 59:39 | D14: 43 | F14: Mark Chandler | G14: 2.2743056 | H14: 43 | J14: Vicky Linfoot | K14: 64.30304 | L14: 43
B15: Caroline Robertson | C15: 1:01:50 | D15: 42 | F15: Neill Johnson | G15: 0.04287037 | H15: 42 | J15: Mark Popple | K15: 63.679312 | L15: 42
B16: Deborah Franklin | C16: 1:03:27 | D16: 41 | F16: Charlie Noble | G16: 0.043923611 | H16: 41 | J16: Victoria Simpson | K16: 63.28547 | L16: 41
B17: Helen Popple | C17: 1:04:43 | D17: 40 | F17: Simon Popple | G17: 0.044340278 | H17: 40 | J17: Ann Cox | K17: 63.202213 | L17: 40
B18: Sharon Plowes | C18: 1:06:19 | D18: 39 | F18: Anthony Dunk | G18: 0.044722222 | H18: 39 | J18: Stephen Parker | K18: 63.098251 | L18: 39
... B21: Helen Dunk | C21: 1:08:35 | D21: 36 | F21: Scott Linfoot | G21: 0.061944444 | H21: 36 | J21: Helen Dunk | K21: 60.570299 | L21: 36
B22: Claire Willis | C22: 1:09:53 | D22: 35 | J22: Mark Chandler | K22: 59.095194 | L22: 35
B23: Amy Hodgson | C23: 1:12:23 | D23: 34 | J23: Paula Short | K23: 58.971129 | L23: 34
B24: Jenny Marples | C24: 1:15:05 | D24: 33 | J24: Michael Flatters | K24: 58.631207 | L24: 33
B25: Caragh Johnson | C25: 1:15:50 | D25: 32 | J25: Caroline Robertson | K25: 56.976311 | L25: 32
J26: Simon Popple | K26: 56.811245 | L26: 31
J27: Anthony Dunk | K27: 54.714628 | L27: 30
J28: Caroline Butcher | K28: 54.231861 | L28: 30
J29: Claire Maxted | K29: 54.222925 | L29: 30
J30: Charlie Noble | K30: 53.721327 | L30: 30
J31: Liz Harding | K31: 53.647213 | L31: 30
J32: Neill Johnson | K32: 50.538602 | L32: 30
J33: Sharon Plowes | K33: 49.082665 | L33: 30
J34: Claire Willis | K34: 48.015128 | L34: 30
J35: Ciaran Nelson | K35: 46.380662 | L35: 30
J36: Jenny Marples | K36: 45.762977 | L36: 30
J37: Amy Hodgson | K37: 44.968898 | L37: 30
... J40: Scott Linfoot | K40: 34.412824 | L40: 30

Sheet Langtoft 10k
F2: Langtoft 10k (A)
F3: 46145
B5: Ladies' Results | F5: Men's Results | J5: Age Adjusted Championship
B6: Name | C6: Time | D6: Points | F6: Name | G6: Time | H6: Points | J6: Name | K6: % | L6: Points
B7: Jen Dancy | C7: 0.031608796 | D7: 50 | F7: Luke Harrison | G7: 0.0240625 | H7: 50 | J7: Marcus Brown | K7: 83.78 | L7: 50
B8: Claire Piercy | C8: 0.031921296 | D8: 49 | F8: Max Ranson | G8: 0.024409722 | H8: 49 | J8: Luke Harrison | K8: 81.99 | L8: 49
B9: Victoria Simpson | C9: 0.034224537 | D9: 48 | F9: Andrew Taylor | G9: 0.026180556 | H9: 48 | J9: Andrew Taylor | K9: 80.78 | L9: 48
B10: Paula Short | C10: 0.03443287 | D10: 47 | F10: Neil Lakin | G10: 0.0271875 | H10: 47 | J10: Julia Parker | K10: 79.76 | L10: 47
B11: Julia Parker | C11: 0.034618056 | D11: 46 | F11: Marcus Brown | G11: 0.027430556 | H11: 46 | J11: David Babbs | K11: 79.11 | L11: 46
B12: Cheryl Allibone | C12: 0.036388889 | D12: 45 | F12: Adam Fenn | G12: 0.027650463 | H12: 45 | J12: Claire Piercy | K12: 78.63 | L12: 45
B13: Abbie Mann | C13: 0.038148148 | D13: 44 | F13: James Kettle | G13: 0.0284375 | H13: 44 | J13: Max Ranson | K13: 76.69 | L13: 44
B14: Caroline Geddes | C14: 0.038402778 | D14: 43 | F14: Daniel Bell | G14: 0.031331019 | H14: 43 | J14: Neil Lakin | K14: 76.56 | L14: 43
B15: Ann Cox | C15: 0.040451389 | D15: 42 | F15: David Babbs | G15: 0.031840278 | H15: 42 | J15: James Kettle | K15: 75.57 | L15: 42
B16: Mandy Lawson | C16: 0.040752315 | D16: 41 | F16: Martin Candish | G16: 0.0328125 | H16: 41 | J16: Victoria Simpson | K16: 74.31 | L16: 41
B17: Vanessa Mackinnon | C17: 0.042465278 | D17: 40 | F17: Chris Gold | G17: 0.034791667 | H17: 40 | J17: Ann Cox | K17: 73.51 | L17: 40
B18: Helen Popple | C18: 0.042627315 | D18: 39 | F18: Michael Flatters | G18: 0.034918981 | H18: 39 | J18: Adam Fenn | K18: 71.39 | L18: 39
... B22: Linda Brown | C22: 0.051030093 | D22: 35 | F22: Chris Lockett | G22: 0.041793981 | H22: 35 | J22: Vanessa Mackinnon | K22: 68.96 | L22: 35
J23: Rob Glover | K23: 68.21 | L23: 34
J24: Paula Short | K24: 67.67 | L24: 33
J25: Jen Dancy | K25: 66.64 | L25: 32
J26: Martin Candish | K26: 66.03 | L26: 31
J27: Helen Popple | K27: 63.86 | L27: 30
J28: Michael Flatters | K28: 63.61 | L28: 30
J29: Simon Popple | K29: 61.66 | L29: 30
J30: Chris Gold | K30: 61.27 | L30: 30
J31: Abbie Mann | K31: 60.42 | L31: 30
J32: Chris Lockett | K32: 56.46 | L32: 30
J33: Daniel Barry | K33: 55.9 | L33: 30
J34: Caroline Geddes | K34: 55.8 | L34: 30
... J38: Linda Brown | K38: 49.84 | L38: 30

Sheet The Grim Reaper 10 Mile
F2: The Grim Reaper 10 Mile (B)
F3: 23-May-26 AM
B5: Ladies' Results | F5: Men's Results | J5: Age Adjusted Championship
B6: Name | C6: Time | D6: Points | F6: Name | G6: Time | H6: Points | J6: Name | K6: % | L6: Points
B7: Suzanne Moon | C7: 01:31:57 | D7: 50 | F7: Gareth Williams | G7: 01:13:53 | H7: 50 | J7: David Babbs | K7: 69.9 | L7: 50
B8: Laura Bailey | C8: 01:39:47 | D8: 49 | F8: Mark Popple | G8: 01:14:56 | H8: 49 | J8: Gareth Williams | K8: 66.55 | L8: 49
B9: Victoria Simpson | C9: 01:41:08 | D9: 48 | F9: David Marples | G9: 01:17:41 | H9: 48 | J9: James Kettle | K9: 64.97 | L9: 48
B10: Alison Wild | C10: 01:51:05 | D10: 47 | F10: James Kettle | G10: 01:18:14 | H10: 47 | J10: David Marples | K10: 64.88 | L10: 47
B11: Caroline Geddes | C11: 0.078819444 | D11: 46 | F11: David Babbs | G11: 0.060162037 | H11: 46 | J11: Nick Wells | K11: 60.93 | L11: 46
B12: Mala Sun | C12: 01:54:33 | D12: 45 | F12: Nick Wells | G12: 01:31:57 | H12: 45 | J12: Suzanne Moon | K12: 59.77 | L12: 45
F13: Michael Flatters | G13: 01:48:58 | H13: 44 | J13: Mark Popple | K13: 59.7 | L13: 44
F14: Chris Lockett | G14: 02:18:29 | H14: 43 | J14: Victoria Simpson | K14: 59.31 | L14: 43
J15: Laura Bailey | K15: 54.48 | L15: 42
J16: Alison Wild | K16: 54 | L16: 41
J17: Mala Sun | K17: 50.37 | L17: 40
J18: Michael Flatters | K18: 48.27 | L18: 39
J19: Caroline Geddes | K19: 44.53 | L19: 38
J20: Chris Lockett | K20: 40.46 | L20: 37

Sheet Nene Valley Trail 10 Mile
F2: Nene Valley Trail 10 Mile (B)
F3: 46186
B5: Ladies' Results | F5: Men's Results | J5: Age Adjusted Championship
B6: Name | C6: Time | D6: Points | F6: Name | G6: Time | H6: Points | J6: Name | K6: % | L6: Points
B7: Suzanne Moon | C7: 0.063726852 | D7: 50 | F7: Ben Wall | G7: 0.047685185 | H7: 50 | J7: Giles Polito | K7: 73.4 | L7: 50
B8: Claire Piercy | C8: 0.064085648 | D8: 49 | F8: Giles Polito | G8: 0.049340278 | H8: 49 | J8: Ben Wall | K8: 69.34 | L8: 49
B9: Laura Bailey | C9: 0.067407407 | D9: 48 | F9: Gareth Williams | G9: 0.053125 | H9: 48 | J9: David Babbs | K9: 67.97 | L9: 48
B10: Nicola Eastwood | C10: 0.069074074 | D10: 47 | F10: James Kettle | G10: 0.057268519 | H10: 47 | J10: Gareth Williams | K10: 64.27 | L10: 47
B11: Paula Short | C11: 0.070729167 | D11: 46 | F11: David Marples | G11: 0.057824074 | H11: 46 | J11: Claire Piercy | K11: 64.15 | L11: 46
B12: Victoria Simpson | C12: 0.071724537 | D12: 45 | F12: David Babbs | G12: 0.061875 | H12: 45 | J12: Nick Wells | K12: 62.26 | L12: 45
B13: Liz Harding | C13: 0.073819444 | D13: 44 | F13: Nick Wells | G13: 0.062488426 | H13: 44 | J13: James Kettle | K13: 61.64 | L13: 44
B14: Sharon Plowes | C14: 0.078703704 | D14: 43 | F14: Martin Candish | G14: 0.064895833 | H14: 43 | J14: Suzanne Moon | K14: 60.58 | L14: 43
B15: Caroline Geddes | C15: 0.078773148 | D15: 42 | F15: Charlie Noble | G15: 0.076099537 | H15: 42 | J15: David Marples | K15: 60.53 | L15: 42
B16: Mala Sun | C16: 0.084467593 | D16: 41 | F16: Neill Johnson | G16: 0.079282407 | H16: 41 | J16: Nicola Eastwood | K16: 59.52 | L16: 41
B17: Helen Dunk | C17: 0.0871875 | D17: 40 | F17: Anthony Dunk | G17: 0.081840278 | H17: 40 | J17: Victoria Simpson | K17: 58.08 | L17: 40
B18: Jennifer Taylor | C18: 0.087662037 | D18: 39 | F18: Michael Flatters | G18: 0.086921296 | H18: 39 | J18: Laura Bailey | K18: 56.01 | L18: 39
B19: Morag Roberts | C19: 0.13672454 | D19: 38 | F19: Matthew Swain | G19: 0.088819444 | H19: 38 | J19: Helen Dunk | K19: 55.02 | L19: 38
J20: Martin Candish | K20: 54.85 | L20: 37
J21: Paula Short | K21: 53.96 | L21: 36
J22: Charlie Noble | K22: 51.13 | L22: 35
J23: Jennifer Taylor | K23: 50.16 | L23: 34
J24: Anthony Dunk | K24: 49.86 | L24: 33
J25: Liz Harding | K25: 49.71 | L25: 32
J26: Morag Roberts | K26: 47.74 | L26: 31
J27: Mala Sun | K27: 47.44 | L27: 30
J28: Sharon Plowes | K28: 47.04 | L28: 30
J29: Neill Johnson | K29: 44.9 | L29: 30
J30: Caroline Geddes | K30: 44.76 | L30: 30
J31: Michael Flatters | K31: 42.02 | L31: 30
J32: Matthew Swain | K32: 39.08 | L32: 30

Sheet Whissendine 6ix
F2: Whissendine 6ix (A)
F3: 46206
B5: Ladies' Results | F5: Men's Results | J5: Age Adjusted Championship
B6: Name | C6: Time | D6: Points | F6: Name | G6: Time | H6: Points | J6: Name | K6: % | L6: Points
B7: Vicky Linfoot | C7: 0.031979167 | D7: 50 | F7: Luke Harrison | G7: 0.023784722 | H7: 50 | J7: Giles Polito | K7: 84.24 | L7: 50
B8: Alison Woods | C8: 0.035173611 | D8: 49 | F8: Ben Wall | G8: 0.023877315 | H8: 49 | J8: Ben Wall | K8: 81.44 | L8: 49
B9: Jennifer Taylor | C9: 0.040902778 | D9: 48 | F9: Max Ranson | G9: 0.025173611 | H9: 48 | J9: Luke Harrison | K9: 79.93 | L9: 48
B10: Amanda Longmire | C10: 0.045104167 | D10: 47 | F10: Giles Polito | G10: 0.025196759 | H10: 47 | J10: Marcus Brown | K10: 78.86 | L10: 47
F11: Matt Ginieres | G11: 0.025300926 | H11: 46 | J11: David Babbs | K11: 78.15 | L11: 46
F12: Mark Popple | G12: 0.025983796 | H12: 45 | J12: Matt Ginieres | K12: 75.71 | L12: 45
F13: Marcus Brown | G13: 0.027604167 | H13: 44 | J13: Andrew Wade | K13: 74.42 | L13: 44
F14: Neil Lakin | G14: 0.027650463 | H14: 43 | J14: Neil Lakin | K14: 72.54 | L14: 43
F15: Sam Barrett | G15: 0.027777778 | H15: 42 | J15: James Kettle | K15: 71.92 | L15: 42
F16: James Kettle | G16: 0.028796296 | H16: 41 | J16: Max Ranson | K16: 71.66 | L16: 41
F17: David Marples | G17: 0.029351852 | H17: 40 | J17: Mark Popple | K17: 70.65 | L17: 40
F18: Andrew Wade | G18: 0.030555556 | H18: 39 | J18: David Marples | K18: 69.98 | L18: 39
F19: Mo Fisher | G19: 0.030925926 | H19: 38 | J19: Vicky Linfoot | K19: 69.49 | L19: 38
F20: James Thomas | G20: 0.031157407 | H20: 37 | J20: Alison Woods | K20: 68.81 | L20: 37
F21: David Babbs | G21: 0.031412037 | H21: 36 | J21: Stuart Hodgkinson | K21: 67.74 | L21: 36
F22: Stuart Hodgkinson | G22: 0.031597222 | H22: 35 | J22: Sam Barrett | K22: 65.44 | L22: 35
... F27: Scott Linfoot | G27: 0.054756944 | H27: 30 | J27: Charlie Noble | K27: 56.83 | L27: 30
J28: Guy Gasper | K28: 55.58 | L28: 30
J29: Michael O'Connell | K29: 54.56 | L29: 30
J30: Amanda Longmire | K30: 52.97 | L30: 30
J31: Scott Linfoot | K31: 37.51 | L31: 30

Sheet Ponton Plod 10k
F2: Ponton Plod 10k (B)
F3: 46271
B5: Ladies' Results | F5: Men's Results | J5: Age Adjusted Championship
B6: Name | C6: Time | D6: Points | F6: Name | G6: Time | H6: Points | J6: Name | K6: % | L6: Points
B7: Paula Short | C7: 0.042523148 | D7: 50 | F7: Mark Popple | G7: 0.035729167 | H7: 50 | J7: Julia Parker | K7: 70.43 | L7: 50
B8: Victoria Simpson | C8: 0.042893519 | D8: 49 | F8: David Marples | G8: 0.037581019 | H8: 49 | J8: Jim Morris | K8: 68.34 | L8: 49
B9: Julia Parker | C9: 0.043055556 | D9: 48 | F9: Jim Morris | G9: 0.037604167 | H9: 48 | J9: Andrew Wade | K9: 68.2 | L9: 48
B10: Caroline Geddes | C10: 0.048831019 | D10: 47 | F10: Andrew Wade | G10: 0.038020833 | H10: 47 | J10: Victoria Simpson | K10: 65.12 | L10: 47
B11: Jenny Marples | C11: 0.058472222 | D11: 46 | F11: Michael Flatters | G11: 0.049571759 | H11: 46 | J11: David Marples | K11: 62.29 | L11: 46
J12: Paula Short | K12: 60.18 | L12: 45
J13: Mark Popple | K13: 58.52 | L13: 44
J14: Michael Flatters | K14: 49.21 | L14: 43
J15: Caroline Geddes | K15: 48.42 | L15: 42
J16: Jenny Marples | K16: 44.82 | L16: 41

Sheet Rutland Water parkrun
F2: Rutland Water parkrun (A)
F3: 46291
B5: Ladies' Results | F5: Men's Results | J5: Age Adjusted Championship
B6: Name | C6: Time | D6: Points | F6: Name | G6: Time | H6: Points | J6: Name | K6: % | L6: Points
B7: Jen Dancy | C7: 21:27 | D7: 50 | F7: Ben Wall | G7: 17:05 | H7: 50 | J7: Giles Polito | K7: 86.82 | L7: 50
B8: Suzanne Moon | C8: 21:45 | D8: 49 | F8: Giles Polito | G8: 17:42 | H8: 49 | J8: Alison Cato | K8: 85.27 | L8: 49
B9: Lesley Beckingham | C9: 23:20 | D9: 48 | F9: Max Ranson | G9: 17:46 | H9: 48 | J9: Ben Wall | K9: 81.76 | L9: 48
B10: Alison Cato | C10: 23:46 | D10: 47 | F10: Mark Popple | G10: 18:14 | H10: 47 | J10: Marcus Brown | K10: 80.93 | L10: 47
B11: Alison Woods | C11: 24:13 | D11: 46 | F11: Marcus Brown | G11: 19:19 | H11: 46 | J11: Lesley Beckingham | K11: 80.86 | L11: 46
B12: Julia Parker | C12: 24:23 | D12: 45 | F12: Neil Lakin | G12: 19:27 | H12: 45 | J12: Julia Parker | K12: 79.56 | L12: 45
B13: Caroline Geddes | C13: 25:34 | D13: 44 | F13: Andrew Shackleton | G13: 19:47 | H13: 44 | J13: Suzanne Moon | K13: 76.17 | L13: 44
B14: Cheryl Allibone | C14: 26:02 | D14: 43 | F14: Adam Fenn | G14: 20:29 | H14: 43 | J14: Liz Makin | K14: 75.81 | L14: 43
B15: Liz Makin | C15: 27:09 | D15: 42 | F15: David Marples | G15: 20:43 | H15: 42 | J15: Andrew Wade | K15: 75.72 | L15: 42
B16: Patricia Beedell | C16: 27:21 | D16: 41 | F16: Sam Barrett | G16: 20:50 | H16: 41 | J16: Neil Lakin | K16: 74.64 | L16: 41
B17: Stani Van Der Westhuizen | C17: 27:58 | D17: 40 | F17: Michael O'Connell | G17: 20:53 | H17: 40 | J17: Anthony Sharp | K17: 73.68 | L17: 40
B18: Mandy Lawson | C18: 28:31 | D18: 39 | F18: Andrew Wade | G18: 21:33 | H18: 39 | J18: Max Ranson | K18: 72.89 | L18: 39
... B27: Sarah Sharp | C27: 1:01:01 | D27: 30 | F27: Simon Popple | G27: 29:53 | H27: 30 | J27: Jen Dancy | K27: 69 | L27: 30
F28: John Gilligan | G28: 43:33 | H28: 30 | J28: Cheryl Allibone | K28: 68.63 | L28: 30
F29: Emmanuel Dupont | G29: 56:19 | H29: 30 | J29: Stephen Parker | K29: 68.47 | L29: 30
F30: Charlie Noble | G30: 58:29 | H30: 30 | J30: Adam Fenn | K30: 66.64 | L30: 30
J31: Karen Lane | K31: 65.82 | L31: 30
J32: Martin Candish | K32: 65.58 | L32: 30
J33: Patricia Beedell | K33: 65.33 | L33: 30
J34: Karen Cozens | K34: 64.1 | L34: 30
J35: Michael O'Connell | K35: 63.93 | L35: 30
J36: Helen Popple | K36: 63.39 | L36: 30
J37: Sam Barrett | K37: 62.96 | L37: 30
J38: Caroline Geddes | K38: 59.19 | L38: 30
J39: Simon Popple | K39: 59.01 | L39: 30
J40: Stani Van Der Westhuizen | K40: 58.52 | L40: 30
J41: Amanda Longmire | K41: 58.28 | L41: 30
J42: Bret Allibone | K42: 57.69 | L42: 30
... J51: Emmanuel Dupont | K51: 27.52 | L51: 30

Sheet Great Eastern Run
F2: Great Eastern Run (A)
F3: 46306
B5: Ladies' Results | F5: Men's Results | J5: Age Adjusted Championship
B6: Name | C6: Time | D6: Points | F6: Name | G6: Time | H6: Points | J6: Name | K6: % | L6: Points
B7: Claire Piercy | C7: 0.067938657 | D7: 50 | F7: Ben Wall | G7: 0.054424769 | H7: 50 | J7: Giles Polito | K7: 88.300223 | L7: 50
B8: Suzanne Moon | C8: 0.069717593 | D8: 49 | F8: Giles Polito | G8: 0.055003472 | H8: 49 | J8: Alison Cato | K8: 84.282082 | L8: 49
B9: Laura Bailey | C9: 0.070085648 | D9: 48 | F9: Nick Harding | G9: 0.057350694 | H9: 48 | J9: Ben Wall | K9: 80.613218 | L9: 48
B10: Jen Dancy | C10: 0.070537037 | D10: 47 | F10: Matt Ginieres | G10: 0.058625 | H10: 47 | J10: Claire Piercy | K10: 80.186437 | L10: 47
B11: Liz Harding | C11: 0.07427662 | D11: 46 | F11: Mark Popple | G11: 0.058743056 | H11: 46 | J11: Andrew Taylor | K11: 77.566285 | L11: 46
B12: Alison Cato | C12: 0.07428588 | D12: 45 | F12: Andrew Taylor | G12: 0.059435185 | H12: 45 | J12: Jim Morris | K12: 77.458486 | L12: 45
B13: Victoria Simpson | C13: 0.077300926 | D13: 44 | F13: Neil Lakin | G13: 0.062505787 | H13: 44 | J13: Nick Harding | K13: 77.125848 | L13: 44
B14: Alison Woods | C14: 0.077707176 | D14: 43 | F14: Adam Fenn | G14: 0.063034722 | H14: 43 | J14: Nick Wells | K14: 74.912953 | L14: 43
B15: Caroline Geddes | C15: 0.084519676 | D15: 42 | F15: Michael Carrea | G15: 0.064991898 | H15: 42 | J15: Matt Ginieres | K15: 74.243549 | L15: 42
B16: Alison Musgrave | C16: 0.085923611 | D16: 41 | F16: Henri Dobbs | G16: 0.065497685 | H16: 41 | J16: Suzanne Moon | K16: 73.375186 | L16: 41
B17: Verity Sutton-Fisher | C17: 0.086173611 | D17: 40 | F17: Jim Morris | G17: 0.066246528 | H17: 40 | J17: Neil Lakin | K17: 73.140861 | L17: 40
B18: Rebecca Candy | C18: 0.086611111 | D18: 39 | F18: James Kettle | G18: 0.067637731 | H18: 39 | J18: Michael Carrea | K18: 71.544048 | L18: 39
... B25: Caragh Johnson | C25: 0.10810301 | D25: 32 | F25: Steve Lane | G25: 0.077993056 | H25: 32 | J25: Stuart Hodgkinson | K25: 69.726687 | L25: 32
F26: James McCloskey | G26: 0.078326389 | H26: 31 | J26: Alex Shaw | K26: 69.410988 | L26: 31
F27: Rupert Clifton | G27: 0.078780093 | H27: 30 | J27: Adam Fenn | K27: 67.963483 | L27: 30
F28: Jordan Rosamond | G28: 0.082574074 | H28: 30 | J28: Steve Lane | K28: 67.05594 | L28: 30
F29: Daniel Barry | G29: 0.085724537 | H29: 30 | J29: Liz Harding | K29: 65.465271 | L29: 30
F30: Neill Johnson | G30: 0.088078704 | H30: 30 | J30: Jen Dancy | K30: 64.813599 | L30: 30
F31: Charlie Noble | G31: 0.093074074 | H31: 30 | J31: Henri Dobbs | K31: 62.784944 | L31: 30
F32: Perry Miller | G32: 0.10126042 | H32: 30 | J32: Sarah Jennings | K32: 60.844707 | L32: 30
F33: Marc Physick | G33: 0.11854167 | H33: 30 | J33: Michael O'Connell | K33: 59.830441 | L33: 30
J34: Mo Fisher | K34: 59.151501 | L34: 30
J35: Deborah Franklin | K35: 58.813292 | L35: 30
J36: Rupert Clifton | K36: 58.519435 | L36: 30
J37: Alison Wild | K37: 58.368974 | L37: 30
J38: Rebecca Candy | K38: 57.176023 | L38: 30
J39: Caroline Butcher | K39: 56.048103 | L39: 30
J40: Charlie Noble | K40: 55.65279 | L40: 30
J41: Caroline Geddes | K41: 55.279576 | L41: 30
J42: James McCloskey | K42: 55.125682 | L42: 30
J43: Verity Sutton-Fisher | K43: 54.502663 | L43: 30
J44: Mala Sun | K44: 54.34813 | L44: 30
J45: Neill Johnson | K45: 54.175641 | L45: 30
... J52: Marc Physick | K52: 44.982482 | L52: 30

Sheet Fen 10
F2: Fen 10 (A)
F3: 46320
B5: Ladies' Results | F5: Men's Results | J5: Age Adjusted Championship
B6: Name | C6: Time | D6: Points | F6: Name | G6: Time | H6: Points | J6: Name | K6: % | L6: Points

Sheet The George Munday 10k
F2: The George Munday 10k (A)
F3: 46334
B5: Ladies' Results | F5: Men's Results | J5: Age Adjusted Championship
B6: Name | C6: Time | D6: Points | F6: Name | G6: Time | H6: Points | J6: Name | K6: % | L6: Points
