Workbook

Sheet Championship positions
B8: LADIES' CHAMPIONSHIP 2026 | T8: MEN'S CHAMPIONSHIP 2026 | AL8: AGE ADJUSTED CHAMPIONSHIP 2026
B9: Name/Race No. | C9: 1. Folksworth 15 (A) | D9: 2. Dirt Run Irchester 7.5k (B) | E9: 3. Burghley 7 (A) | F9: 4. King's Cliffe Trail 10k (B) | G9: 5. Langtoft 10k (A) | H9: 6. The Grim Reaper 10 Mile (B) | I9: 7. Nene Valley Trail 10 Mile (B) | J9: 8. Whissendine 6ix (A) | K9: 9. Ponton Plod 10k (B) | L9: 10. Rutland Water parkrun (A) | M9: 11. Great Eastern Run (A) | N9: 12. Fen 10 (A) | O9: 13. The George Munday 10k (A) | P9: Total of Best 6 | Q9: No of Races (best six to count) | R9: Position | T9: Name/Race No. | U9: 1. Folksworth 15 (A) | V9: 2. Dirt Run Irchester 7.5k (B) | W9: 3. Burghley 7 (A) | X9: 4. King's Cliffe Trail 10k (B) | Y9: 5. Langtoft 10k (A) | Z9: 6. The Grim Reaper 10 Mile (B) | AA9: 7. Nene Valley Trail 10 Mile (B) | AB9: 8. Whissendine 6ix (A) | AC9: 9. Ponton Plod 10k (B) | AD9: 10. Rutland Water parkrun (A) | AE9: 11. Great Eastern Run (A) | AF9: 12. Fen 10 (A) | AG9: 13. The George Munday 10k (A) | AH9: Total of Best 6 | AI9: No of Races (best six to count) | AJ9: Position | AL9: Name/Race No. | AM9: 1. Folksworth 15 (A) | AN9: 2. Dirt Run Irchester 7.5k (B) | AO9: 3. Burghley 7 (A) | AP9: 4. King's Cliffe Trail 10k (B) | AQ9: 5. Langtoft 10k (A) | AR9: 6. The Grim Reaper 10 Mile (B) | AS9: 7. Nene Valley Trail 10 Mile (B) | AT9: 8. Whissendine 6ix (A) | AU9: 9. Ponton Plod 10k (B) | AV9: 10. Rutland Water parkrun (A) | AW9: 11. Great Eastern Run (A) | AX9: 12. Fen 10 (A) | AY9: 13. The George Munday 10k (A) | AZ9: Total of Best 6 | BA9: No of Races (best six to count) | BB9: Position
B10: Suzanne Moon | C10: =IFERROR(VLOOKUP($B10,'Folksworth 15'!$B:$D,3,FALSE),0) -> 0 | D10: =IFERROR(VLOOKUP($B10,'Dirt Run Irchester 7.5k'!$B:$D,3,FALSE),0) -> 0 | E10: =IFERROR(VLOOKUP($B10,'Burghley 7'!$B:$D,3,FALSE),0) -> 49 | F10: =IFERROR(VLOOKUP($B10,'King''s Cliffe Trail 10k'!$B:$D,3,FALSE),0) -> 49 | G10: =IFERROR(VLOOKUP($B10,'Langtoft 10k'!B:F,3,FALSE),0) -> 0 | H10: =IFERROR(VLOOKUP($B10,'The Grim Reaper 10 Mile'!$B:$D,3,FALSE),0) -> 50 | I10: =IFERROR(VLOOKUP($B10,'Nene Valley Trail 10 Mile'!B:D,3,FALSE),0) -> 50 | J10: =IFERROR(VLOOKUP($B10,'Whissendine 6ix'!$B:$D,3,FALSE),0) -> 0 | K10: =IFERROR(VLOOKUP($B10,'Ponton Plod 10k'!$B:$D,3,FALSE),0) -> 0 | L10: =IFERROR(VLOOKUP($B10,'Rutland Water parkrun'!$B:$D,3,FALSE),0) -> 49 | M10: =IFERROR(VLOOKUP($B10,'Great Eastern Run'!$B:$D,3,FALSE),0) -> 49 | N10: =IFERROR(VLOOKUP($B10,'Fen 10'!$B:$D,3,FALSE),0) -> 0 | O10: =IFERROR(VLOOKUP($B10,'The George Munday 10k'!B:E,4,FALSE),0) -> 0 | P10: =LARGE(C10:O10,1)+LARGE(C10:O10,2)+LARGE(C10:O10,3)+LARGE(C10:O10,4)+LARGE(C10:O10,5)+LARGE(C10:O10,6) -> 296 | Q10: =COUNTIF(C10:O10,">.09") -> 6 | R10: =_xlfn.RANK.EQ(P10,$P$10:$P$68,0) -> 1 | T10: Ben Wall | U10: =IFERROR(VLOOKUP($T10,'Folksworth 15'!$F:$H,3,FALSE),0) -> 49 | V10: =IFERROR(VLOOKUP($T10,'Dirt Run Irchester 7.5k'!$F:$H,3,FALSE),0) -> 0 | W10: =IFERROR(VLOOKUP($T10,'Burghley 7'!$F:$H,3,FALSE),0) -> 49 | X10: =IFERROR(VLOOKUP($T10,'King''s Cliffe Trail 10k'!$F:$H,3,FALSE),0) -> 50 | Y10: =IFERROR(VLOOKUP($T10,'Langtoft 10k'!F:H,3,FALSE),0) -> 0 | Z10: =IFERROR(VLOOKUP($T10,'The Grim Reaper 10 Mile'!$F:$H,3,FALSE),0) -> 0 | AA10: =IFERROR(VLOOKUP($T10,'Nene Valley Trail 10 Mile'!$F:$H,3,FALSE),0) -> 50 | AB10: =IFERROR(VLOOKUP($T10,'Whissendine 6ix'!$F:$H,3,FALSE),0) -> 49 | AC10: =IFERROR(VLOOKUP($T10,'Ponton Plod 10k'!$F:$H,3,FALSE),0) -> 0 | AD10: =IFERROR(VLOOKUP($T10,'Rutland Water parkrun'!$F:$H,3,FALSE),0) -> 50 | AE10: =IFERROR(VLOOKUP($T10,'Great Eastern Run'!$F:$H,3,FALSE),0) -> 50 | AF10: =IFERROR(VLOOKUP($T10,'Fen 10'!$F:$H,3,FALSE),0) -> 0 | AG10: =IFERROR(VLOOKUP($T10,'The George Munday 10k'!$G:$J,4,FALSE),0) -> 0 | AH10: =LARGE(U10:AG10,1)+LARGE(U10:AG10,2)+LARGE(U10:AG10,3)+LARGE(U10:AG10,4)+LARGE(U10:AG10,5)+LARGE(U10:AG10,6) -> 298 | AI10: =COUNTIF(U10:AG10,">.09") -> 7 | AJ10: =_xlfn.RANK.EQ(AH10,$AH$10:$AH$81,0) -> 1 | AL10: Giles Polito | AM10: =IFERROR(VLOOKUP($AL10,'Folksworth 15'!$J:$L,3,FALSE),0) -> 50 | AN10: =IFERROR(VLOOKUP($AL10,'Dirt Run Irchester 7.5k'!$J:$L,3,FALSE),0) -> 0 | AO10: =IFERROR(VLOOKUP($AL10,'Burghley 7'!$J:$L,3,FALSE),0) -> 50 | AP10: =IFERROR(VLOOKUP($AL10,'King''s Cliffe Trail 10k'!$J:$L,3,FALSE),0) -> 0 | AQ10: =IFERROR(VLOOKUP($AL10,'Langtoft 10k'!J:L,3,FALSE),0) -> 0 | AR10: =IFERROR(VLOOKUP($AL10,'The Grim Reaper 10 Mile'!$J:$L,3,FALSE),0) -> 0 | AS10: =IFERROR(VLOOKUP($AL10,'Nene Valley Trail 10 Mile'!$J:$L,3,FALSE),0) -> 50 | AT10: =IFERROR(VLOOKUP($AL10,'Whissendine 6ix'!$J:$L,3,FALSE),0) -> 50 | AU10: =IFERROR(VLOOKUP($AL10,'Ponton Plod 10k'!$J:$L,3,FALSE),0) -> 0 | AV10: =IFERROR(VLOOKUP($AL10,'Rutland Water parkrun'!$J:$L,3,FALSE),0) -> 50 | AW10: =IFERROR(VLOOKUP($AL10,'Great Eastern Run'!$J:$L,3,FALSE),0) -> 50 | AX10: =IFERROR(VLOOKUP($AL10,'Fen 10'!$J:$L,3,FALSE),0) -> 0 | AY10: =IFERROR(VLOOKUP($AL10,'The George Munday 10k'!$L:$O,4,FALSE),0) -> 0 | AZ10: =LARGE(AM10:AY10,1)+LARGE(AM10:AY10,2)+LARGE(AM10:AY10,3)+LARGE(AM10:AY10,4)+LARGE(AM10:AY10,5)+LARGE(AM10:AY10,6) -> 300 | BA10: =COUNTIF(AM10:AY10,">0.09") -> 6 | BB10: =_xlfn.RANK.EQ(AZ10,$AZ$10:$AZ$140,0) -> 1
B11: Victoria Simpson | C11: =IFERROR(VLOOKUP($B11,'Folksworth 15'!$B:$D,3,FALSE),0) -> 0 | D11: =IFERROR(VLOOKUP($B11,'Dirt Run Irchester 7.5k'!$B:$D,3,FALSE),0) -> 50 | E11: =IFERROR(VLOOKUP($B11,'Burghley 7'!$B:$D,3,FALSE),0) -> 47 | F11: =IFERROR(VLOOKUP($B11,'King''s Cliffe Trail 10k'!$B:$D,3,FALSE),0) -> 45 | G11: =IFERROR(VLOOKUP($B11,'Langtoft 10k'!B:F,3,FALSE),0) -> 48 | H11: =IFERROR(VLOOKUP($B11,'The Grim Reaper 10 Mile'!$B:$D,3,FALSE),0) -> 48 | I11: =IFERROR(VLOOKUP($B11,'Nene Valley Trail 10 Mile'!B:D,3,FALSE),0) -> 45 | J11: =IFERROR(VLOOKUP($B11,'Whissendine 6ix'!$B:$D,3,FALSE),0) -> 0 | K11: =IFERROR(VLOOKUP($B11,'Ponton Plod 10k'!$B:$D,3,FALSE),0) -> 49 | L11: =IFERROR(VLOOKUP($B11,'Rutland Water parkrun'!$B:$D,3,FALSE),0) -> 0 | M11: =IFERROR(VLOOKUP($B11,'Great Eastern Run'!$B:$D,3,FALSE),0) -> 44 | N11: =IFERROR(VLOOKUP($B11,'Fen 10'!$B:$D,3,FALSE),0) -> 0 | O11: =IFERROR(VLOOKUP($B11,'The George Munday 10k'!B:E,4,FALSE),0) -> 0 | P11: =LARGE(C11:O11,1)+LARGE(C11:O11,2)+LARGE(C11:O11,3)+LARGE(C11:O11,4)+LARGE(C11:O11,5)+LARGE(C11:O11,6) -> 287 | Q11: =COUNTIF(C11:O11,">.09") -> 8 | R11: =_xlfn.RANK.EQ(P11,$P$10:$P$68,0) -> 2 | T11: Giles Polito | U11: =IFERROR(VLOOKUP($T11,'Folksworth 15'!$F:$H,3,FALSE),0) -> 48 | V11: =IFERROR(VLOOKUP($T11,'Dirt Run Irchester 7.5k'!$F:$H,3,FALSE),0) -> 0 | W11: =IFERROR(VLOOKUP($T11,'Burghley 7'!$F:$H,3,FALSE),0) -> 47 | X11: =IFERROR(VLOOKUP($T11,'King''s Cliffe Trail 10k'!$F:$H,3,FALSE),0) -> 0 | Y11: =IFERROR(VLOOKUP($T11,'Langtoft 10k'!F:H,3,FALSE),0) -> 0 | Z11: =IFERROR(VLOOKUP($T11,'The Grim Reaper 10 Mile'!$F:$H,3,FALSE),0) -> 0 | AA11: =IFERROR(VLOOKUP($T11,'Nene Valley Trail 10 Mile'!$F:$H,3,FALSE),0) -> 49 | AB11: =IFERROR(VLOOKUP($T11,'Whissendine 6ix'!$F:$H,3,FALSE),0) -> 47 | AC11: =IFERROR(VLOOKUP($T11,'Ponton Plod 10k'!$F:$H,3,FALSE),0) -> 0 | AD11: =IFERROR(VLOOKUP($T11,'Rutland Water parkrun'!$F:$H,3,FALSE),0) -> 49 | AE11: =IFERROR(VLOOKUP($T11,'Great Eastern Run'!$F:$H,3,FALSE),0) -> 49 | AF11: =IFERROR(VLOOKUP($T11,'Fen 10'!$F:$H,3,FALSE),0) -> 0 | AG11: =IFERROR(VLOOKUP($T11,'The George Munday 10k'!$G:$J,4,FALSE),0) -> 0 | AH11: =LARGE(U11:AG11,1)+LARGE(U11:AG11,2)+LARGE(U11:AG11,3)+LARGE(U11:AG11,4)+LARGE(U11:AG11,5)+LARGE(U11:AG11,6) -> 289 | AI11: =COUNTIF(U11:AG11,">.09") -> 6 | AJ11: =_xlfn.RANK.EQ(AH11,$AH$10:$AH$81,0) -> 2 | AL11: Ben Wall | AM11: =IFERROR(VLOOKUP($AL11,'Folksworth 15'!$J:$L,3,FALSE),0) -> 46 | AN11: =IFERROR(VLOOKUP($AL11,'Dirt Run Irchester 7.5k'!$J:$L,3,FALSE),0) -> 0 | AO11: =IFERROR(VLOOKUP($AL11,'Burghley 7'!$J:$L,3,FALSE),0) -> 49 | AP11: =IFERROR(VLOOKUP($AL11,'King''s Cliffe Trail 10k'!$J:$L,3,FALSE),0) -> 50 | AQ11: =IFERROR(VLOOKUP($AL11,'Langtoft 10k'!J:L,3,FALSE),0) -> 0 | AR11: =IFERROR(VLOOKUP($AL11,'The Grim Reaper 10 Mile'!$J:$L,3,FALSE),0) -> 0 | AS11: =IFERROR(VLOOKUP($AL11,'Nene Valley Trail 10 Mile'!$J:$L,3,FALSE),0) -> 49 | AT11: =IFERROR(VLOOKUP($AL11,'Whissendine 6ix'!$J:$L,3,FALSE),0) -> 49 | AU11: =IFERROR(VLOOKUP($AL11,'Ponton Plod 10k'!$J:$L,3,FALSE),0) -> 0 | AV11: =IFERROR(VLOOKUP($AL11,'Rutland Water parkrun'!$J:$L,3,FALSE),0) -> 48 | AW11: =IFERROR(VLOOKUP($AL11,'Great Eastern Run'!$J:$L,3,FALSE),0) -> 48 | AX11: =IFERROR(VLOOKUP($AL11,'Fen 10'!$J:$L,3,FALSE),0) -> 0 | AY11: =IFERROR(VLOOKUP($AL11,'The George Munday 10k'!$L:$O,4,FALSE),0) -> 0 | AZ11: =LARGE(AM11:AY11,1)+LARGE(AM11:AY11,2)+LARGE(AM11:AY11,3)+LARGE(AM11:AY11,4)+LARGE(AM11:AY11,5)+LARGE(AM11:AY11,6) -> 293 | BA11: =COUNTIF(AM11:AY11,">0.09") -> 7 | BB11: =_xlfn.RANK.EQ(AZ11,$AZ$10:$AZ$140,0) -> 2
B12: Julia Parker | C12: =IFERROR(VLOOKUP($B12,'Folksworth 15'!$B:$D,3,FALSE),0) -> 45 | D12: =IFERROR(VLOOKUP($B12,'Dirt Run Irchester 7.5k'!$B:$D,3,FALSE),0) -> 48 | E12: =IFERROR(VLOOKUP($B12,'Burghley 7'!$B:$D,3,FALSE),0) -> 0 | F12: =IFERROR(VLOOKUP($B12,'King''s Cliffe Trail 10k'!$B:$D,3,FALSE),0) -> 47 | G12: =IFERROR(VLOOKUP($B12,'Langtoft 10k'!B:F,3,FALSE),0) -> 46 | H12: =IFERROR(VLOOKUP($B12,'The Grim Reaper 10 Mile'!$B:$D,3,FALSE),0) -> 0 | I12: =IFERROR(VLOOKUP($B12,'Nene Valley Trail 10 Mile'!B:D,3,FALSE),0) -> 0 | J12: =IFERROR(VLOOKUP($B12,'Whissendine 6ix'!$B:$D,3,FALSE),0) -> 0 | K12: =IFERROR(VLOOKUP($B12,'Ponton Plod 10k'!$B:$D,3,FALSE),0) -> 48 | L12: =IFERROR(VLOOKUP($B12,'Rutland Water parkrun'!$B:$D,3,FALSE),0) -> 45 | M12: =IFERROR(VLOOKUP($B12,'Great Eastern Run'!$B:$D,3,FALSE),0) -> 0 | N12: =IFERROR(VLOOKUP($B12,'Fen 10'!$B:$D,3,FALSE),0) -> 0 | O12: =IFERROR(VLOOKUP($B12,'The George Munday 10k'!B:E,4,FALSE),0) -> 0 | P12: =LARGE(C12:O12,1)+LARGE(C12:O12,2)+LARGE(C12:O12,3)+LARGE(C12:O12,4)+LARGE(C12:O12,5)+LARGE(C12:O12,6) -> 279 | Q12: =COUNTIF(C12:O12,">.09") -> 6 | R12: =_xlfn.RANK.EQ(P12,$P$10:$P$68,0) -> 3 | T12: Mark Popple | U12: =IFERROR(VLOOKUP($T12,'Folksworth 15'!$F:$H,3,FALSE),0) -> 0 | V12: =IFERROR(VLOOKUP($T12,'Dirt Run Irchester 7.5k'!$F:$H,3,FALSE),0) -> 0 | W12: =IFERROR(VLOOKUP($T12,'Burghley 7'!$F:$H,3,FALSE),0) -> 44 | X12: =IFERROR(VLOOKUP($T12,'King''s Cliffe Trail 10k'!$F:$H,3,FALSE),0) -> 47 | Y12: =IFERROR(VLOOKUP($T12,'Langtoft 10k'!F:H,3,FALSE),0) -> 0 | Z12: =IFERROR(VLOOKUP($T12,'The Grim Reaper 10 Mile'!$F:$H,3,FALSE),0) -> 49 | AA12: =IFERROR(VLOOKUP($T12,'Nene Valley Trail 10 Mile'!$F:$H,3,FALSE),0) -> 0 | AB12: =IFERROR(VLOOKUP($T12,'Whissendine 6ix'!$F:$H,3,FALSE),0) -> 45 | AC12: =IFERROR(VLOOKUP($T12,'Ponton Plod 10k'!$F:$H,3,FALSE),0) -> 50 | AD12: =IFERROR(VLOOKUP($T12,'Rutland Water parkrun'!$F:$H,3,FALSE),0) -> 47 | AE12: =IFERROR(VLOOKUP($T12,'Great Eastern Run'!$F:$H,3,FALSE),0) -> 46 | AF12: =IFERROR(VLOOKUP($T12,'Fen 10'!$F:$H,3,FALSE),0) -> 0 | AG12: =IFERROR(VLOOKUP($T12,'The George Munday 10k'!$G:$J,4,FALSE),0) -> 0 | AH12: =LARGE(U12:AG12,1)+LARGE(U12:AG12,2)+LARGE(U12:AG12,3)+LARGE(U12:AG12,4)+LARGE(U12:AG12,5)+LARGE(U12:AG12,6) -> 284 | AI12: =COUNTIF(U12:AG12,">.09") -> 7 | AJ12: =_xlfn.RANK.EQ(AH12,$AH$10:$AH$81,0) -> 3 | AL12: Julia Parker | AM12: =IFERROR(VLOOKUP($AL12,'Folksworth 15'!$J:$L,3,FALSE),0) -> 44 | AN12: =IFERROR(VLOOKUP($AL12,'Dirt Run Irchester 7.5k'!$J:$L,3,FALSE),0) -> 48 | AO12: =IFERROR(VLOOKUP($AL12,'Burghley 7'!$J:$L,3,FALSE),0) -> 0 | AP12: =IFERROR(VLOOKUP($AL12,'King''s Cliffe Trail 10k'!$J:$L,3,FALSE),0) -> 48 | AQ12: =IFERROR(VLOOKUP($AL12,'Langtoft 10k'!J:L,3,FALSE),0) -> 47 | AR12: =IFERROR(VLOOKUP($AL12,'The Grim Reaper 10 Mile'!$J:$L,3,FALSE),0) -> 0 | AS12: =IFERROR(VLOOKUP($AL12,'Nene Valley Trail 10 Mile'!$J:$L,3,FALSE),0) -> 0 | AT12: =IFERROR(VLOOKUP($AL12,'Whissendine 6ix'!$J:$L,3,FALSE),0) -> 0 | AU12: =IFERROR(VLOOKUP($AL12,'Ponton Plod 10k'!$J:$L,3,FALSE),0) -> 50 | AV12: =IFERROR(VLOOKUP($AL12,'Rutland Water parkrun'!$J:$L,3,FALSE),0) -> 45 | AW12: =IFERROR(VLOOKUP($AL12,'Great Eastern Run'!$J:$L,3,FALSE),0) -> 0 | AX12: =IFERROR(VLOOKUP($AL12,'Fen 10'!$J:$L,3,FALSE),0) -> 0 | AY12: =IFERROR(VLOOKUP($AL12,'The George Munday 10k'!$L:$O,4,FALSE),0) -> 0 | AZ12: =LARGE(AM12:AY12,1)+LARGE(AM12:AY12,2)+LARGE(AM12:AY12,3)+LARGE(AM12:AY12,4)+LARGE(AM12:AY12,5)+LARGE(AM12:AY12,6) -> 282 | BA12: =COUNTIF(AM12:AY12,">0.09") -> 6 | BB12: =_xlfn.RANK.EQ(AZ12,$AZ$10:$AZ$140,0) -> 3
B13: Caroline Geddes | C13: =IFERROR(VLOOKUP($B13,'Folksworth 15'!$B:$D,3,FALSE),0) -> 40 | D13: =IFERROR(VLOOKUP($B13,'Dirt Run Irchester 7.5k'!$B:$D,3,FALSE),0) -> 45 | E13: =IFERROR(VLOOKUP($B13,'Burghley 7'!$B:$D,3,FALSE),0) -> 43 | F13: =IFERROR(VLOOKUP($B13,'King''s Cliffe Trail 10k'!$B:$D,3,FALSE),0) -> 0 | G13: =IFERROR(VLOOKUP($B13,'Langtoft 10k'!B:F,3,FALSE),0) -> 43 | H13: =IFERROR(VLOOKUP($B13,'The Grim Reaper 10 Mile'!$B:$D,3,FALSE),0) -> 46 | I13: =IFERROR(VLOOKUP($B13,'Nene Valley Trail 10 Mile'!B:D,3,FALSE),0) -> 42 | J13: =IFERROR(VLOOKUP($B13,'Whissendine 6ix'!$B:$D,3,FALSE),0) -> 0 | K13: =IFERROR(VLOOKUP($B13,'Ponton Plod 10k'!$B:$D,3,FALSE),0) -> 47 | L13: =IFERROR(VLOOKUP($B13,'Rutland Water parkrun'!$B:$D,3,FALSE),0) -> 44 | M13: =IFERROR(VLOOKUP($B13,'Great Eastern Run'!$B:$D,3,FALSE),0) -> 42 | N13: =IFERROR(VLOOKUP($B13,'Fen 10'!$B:$D,3,FALSE),0) -> 0 | O13: =IFERROR(VLOOKUP($B13,'The George Munday 10k'!B:E,4,FALSE),0) -> 0 | P13: =LARGE(C13:O13,1)+LARGE(C13:O13,2)+LARGE(C13:O13,3)+LARGE(C13:O13,4)+LARGE(C13:O13,5)+LARGE(C13:O13,6) -> 268 | Q13: =COUNTIF(C13:O13,">.09") -> 9 | R13: =_xlfn.RANK.EQ(P13,$P$10:$P$68,0) -> 4 | T13: James Kettle | U13: =IFERROR(VLOOKUP($T13,'Folksworth 15'!$F:$H,3,FALSE),0) -> 0 | V13: =IFERROR(VLOOKUP($T13,'Dirt Run Irchester 7.5k'!$F:$H,3,FALSE),0) -> 49 | W13: =IFERROR(VLOOKUP($T13,'Burghley 7'!$F:$H,3,FALSE),0) -> 42 | X13: =IFERROR(VLOOKUP($T13,'King''s Cliffe Trail 10k'!$F:$H,3,FALSE),0) -> 0 | Y13: =IFERROR(VLOOKUP($T13,'Langtoft 10k'!F:H,3,FALSE),0) -> 44 | Z13: =IFERROR(VLOOKUP($T13,'The Grim Reaper 10 Mile'!$F:$H,3,FALSE),0) -> 47 | AA13: =IFERROR(VLOOKUP($T13,'Nene Valley Trail 10 Mile'!$F:$H,3,FALSE),0) -> 47 | AB13: =IFERROR(VLOOKUP($T13,'Whissendine 6ix'!$F:$H,3,FALSE),0) -> 41 | AC13: =IFERROR(VLOOKUP($T13,'Ponton Plod 10k'!$F:$H,3,FALSE),0) -> 0 | AD13: =IFERROR(VLOOKUP($T13,'Rutland Water parkrun'!$F:$H,3,FALSE),0) -> 0 | AE13: =IFERROR(VLOOKUP($T13,'Great Eastern Run'!$F:$H,3,FALSE),0) -> 39 | AF13: =IFERROR(VLOOKUP($T13,'Fen 10'!$F:$H,3,FALSE),0) -> 0 | AG13: =IFERROR(VLOOKUP($T13,'The George Munday 10k'!$G:$J,4,FALSE),0) -> 0 | AH13: =LARGE(U13:AG13,1)+LARGE(U13:AG13,2)+LARGE(U13:AG13,3)+LARGE(U13:AG13,4)+LARGE(U13:AG13,5)+LARGE(U13:AG13,6) -> 270 | AI13: =COUNTIF(U13:AG13,">.09") -> 7 | AJ13: =_xlfn.RANK.EQ(AH13,$AH$10:$AH$81,0) -> 4 | AL13: James Kettle | AM13: =IFERROR(VLOOKUP($AL13,'Folksworth 15'!$J:$L,3,FALSE),0) -> 0 | AN13: =IFERROR(VLOOKUP($AL13,'Dirt Run Irchester 7.5k'!$J:$L,3,FALSE),0) -> 46 | AO13: =IFERROR(VLOOKUP($AL13,'Burghley 7'!$J:$L,3,FALSE),0) -> 43 | AP13: =IFERROR(VLOOKUP($AL13,'King''s Cliffe Trail 10k'!$J:$L,3,FALSE),0) -> 0 | AQ13: =IFERROR(VLOOKUP($AL13,'Langtoft 10k'!J:L,3,FALSE),0) -> 42 | AR13: =IFERROR(VLOOKUP($AL13,'The Grim Reaper 10 Mile'!$J:$L,3,FALSE),0) -> 48 | AS13: =IFERROR(VLOOKUP($AL13,'Nene Valley Trail 10 Mile'!$J:$L,3,FALSE),0) -> 44 | AT13: =IFERROR(VLOOKUP($AL13,'Whissendine 6ix'!$J:$L,3,FALSE),0) -> 42 | AU13: =IFERROR(VLOOKUP($AL13,'Ponton Plod 10k'!$J:$L,3,FALSE),0) -> 0 | AV13: =IFERROR(VLOOKUP($AL13,'Rutland Water parkrun'!$J:$L,3,FALSE),0) -> 0 | AW13: =IFERROR(VLOOKUP($AL13,'Great Eastern Run'!$J:$L,3,FALSE),0) -> 33 | AX13: =IFERROR(VLOOKUP($AL13,'Fen 10'!$J:$L,3,FALSE),0) -> 0 | AY13: =IFERROR(VLOOKUP($AL13,'The George Munday 10k'!$L:$O,4,FALSE),0) -> 0 | AZ13: =LARGE(AM13:AY13,1)+LARGE(AM13:AY13,2)+LARGE(AM13:AY13,3)+LARGE(AM13:AY13,4)+LARGE(AM13:AY13,5)+LARGE(AM13:AY13,6) -> 265 | BA13: =COUNTIF(AM13:AY13,">0.09") -> 7 | BB13: =_xlfn.RANK.EQ(AZ13,$AZ$10:$AZ$140,0) -> 4
B14: Laura Bailey | C14: =IFERROR(VLOOKUP($B14,'Folksworth 15'!$B:$D,3,FALSE),0) -> 47 | D14: =IFERROR(VLOOKUP($B14,'Dirt Run Irchester 7.5k'!$B:$D,3,FALSE),0) -> 0 | E14: =IFERROR(VLOOKUP($B14,'Burghley 7'!$B:$D,3,FALSE),0) -> 48 | F14: =IFERROR(VLOOKUP($B14,'King''s Cliffe Trail 10k'!$B:$D,3,FALSE),0) -> 0 | G14: =IFERROR(VLOOKUP($B14,'Langtoft 10k'!B:F,3,FALSE),0) -> 0 | H14: =IFERROR(VLOOKUP($B14,'The Grim Reaper 10 Mile'!$B:$D,3,FALSE),0) -> 49 | I14: =IFERROR(VLOOKUP($B14,'Nene Valley Trail 10 Mile'!B:D,3,FALSE),0) -> 48 | J14: =IFERROR(VLOOKUP($B14,'Whissendine 6ix'!$B:$D,3,FALSE),0) -> 0 | K14: =IFERROR(VLOOKUP($B14,'Ponton Plod 10k'!$B:$D,3,FALSE),0) -> 0 | L14: =IFERROR(VLOOKUP($B14,'Rutland Water parkrun'!$B:$D,3,FALSE),0) -> 0 | M14: =IFERROR(VLOOKUP($B14,'Great Eastern Run'!$B:$D,3,FALSE),0) -> 48 | N14: =IFERROR(VLOOKUP($B14,'Fen 10'!$B:$D,3,FALSE),0) -> 0 | O14: =IFERROR(VLOOKUP($B14,'The George Munday 10k'!B:E,4,FALSE),0) -> 0 | P14: =LARGE(C14:O14,1)+LARGE(C14:O14,2)+LARGE(C14:O14,3)+LARGE(C14:O14,4)+LARGE(C14:O14,5)+LARGE(C14:O14,6) -> 240 | Q14: =COUNTIF(C14:O14,">.09") -> 5 | R14: =_xlfn.RANK.EQ(P14,$P$10:$P$68,0) -> 5 | T14: Michael Flatters | U14: =IFERROR(VLOOKUP($T14,'Folksworth 15'!$F:$H,3,FALSE),0) -> 35 | V14: =IFERROR(VLOOKUP($T14,'Dirt Run Irchester 7.5k'!$F:$H,3,FALSE),0) -> 46 | W14: =IFERROR(VLOOKUP($T14,'Burghley 7'!$F:$H,3,FALSE),0) -> 30 | X14: =IFERROR(VLOOKUP($T14,'King''s Cliffe Trail 10k'!$F:$H,3,FALSE),0) -> 44 | Y14: =IFERROR(VLOOKUP($T14,'Langtoft 10k'!F:H,3,FALSE),0) -> 39 | Z14: =IFERROR(VLOOKUP($T14,'The Grim Reaper 10 Mile'!$F:$H,3,FALSE),0) -> 44 | AA14: =IFERROR(VLOOKUP($T14,'Nene Valley Trail 10 Mile'!$F:$H,3,FALSE),0) -> 39 | AB14: =IFERROR(VLOOKUP($T14,'Whissendine 6ix'!$F:$H,3,FALSE),0) -> 0 | AC14: =IFERROR(VLOOKUP($T14,'Ponton Plod 10k'!$F:$H,3,FALSE),0) -> 46 | AD14: =IFERROR(VLOOKUP($T14,'Rutland Water parkrun'!$F:$H,3,FALSE),0) -> 0 | AE14: =IFERROR(VLOOKUP($T14,'Great Eastern Run'!$F:$H,3,FALSE),0) -> 0 | AF14: =IFERROR(VLOOKUP($T14,'Fen 10'!$F:$H,3,FALSE),0) -> 0 | AG14: =IFERROR(VLOOKUP($T14,'The George Munday 10k'!$G:$J,4,FALSE),0) -> 0 | AH14: =LARGE(U14:AG14,1)+LARGE(U14:AG14,2)+LARGE(U14:AG14,3)+LARGE(U14:AG14,4)+LARGE(U14:AG14,5)+LARGE(U14:AG14,6) -> 258 | AI14: =COUNTIF(U14:AG14,">.09") -> 8 | AJ14: =_xlfn.RANK.EQ(AH14,$AH$10:$AH$81,0) -> 5 | AL14: Victoria Simpson | AM14: =IFERROR(VLOOKUP($AL14,'Folksworth 15'!$J:$L,3,FALSE),0) -> 0 | AN14: =IFERROR(VLOOKUP($AL14,'Dirt Run Irchester 7.5k'!$J:$L,3,FALSE),0) -> 49 | AO14: =IFERROR(VLOOKUP($AL14,'Burghley 7'!$J:$L,3,FALSE),0) -> 39 | AP14: =IFERROR(VLOOKUP($AL14,'King''s Cliffe Trail 10k'!$J:$L,3,FALSE),0) -> 41 | AQ14: =IFERROR(VLOOKUP($AL14,'Langtoft 10k'!J:L,3,FALSE),0) -> 41 | AR14: =IFERROR(VLOOKUP($AL14,'The Grim Reaper 10 Mile'!$J:$L,3,FALSE),0) -> 43 | AS14: =IFERROR(VLOOKUP($AL14,'Nene Valley Trail 10 Mile'!$J:$L,3,FALSE),0) -> 40 | AT14: =IFERROR(VLOOKUP($AL14,'Whissendine 6ix'!$J:$L,3,FALSE),0) -> 0 | AU14: =IFERROR(VLOOKUP($AL14,'Ponton Plod 10k'!$J:$L,3,FALSE),0) -> 47 | AV14: =IFERROR(VLOOKUP($AL14,'Rutland Water parkrun'!$J:$L,3,FALSE),0) -> 0 | AW14: =IFERROR(VLOOKUP($AL14,'Great Eastern Run'!$J:$L,3,FALSE),0) -> 38 | AX14: =IFERROR(VLOOKUP($AL14,'Fen 10'!$J:$L,3,FALSE),0) -> 0 | AY14: =IFERROR(VLOOKUP($AL14,'The George Munday 10k'!$L:$O,4,FALSE),0) -> 0 | AZ14: =LARGE(AM14:AY14,1)+LARGE(AM14:AY14,2)+LARGE(AM14:AY14,3)+LARGE(AM14:AY14,4)+LARGE(AM14:AY14,5)+LARGE(AM14:AY14,6) -> 261 | BA14: =COUNTIF(AM14:AY14,">0.09") -> 8 | BB14: =_xlfn.RANK.EQ(AZ14,$AZ$10:$AZ$140,0) -> 5
B15: Paula Short | C15: =IFERROR(VLOOKUP($B15,'Folksworth 15'!$B:$D,3,FALSE),0) -> 0 | D15: =IFERROR(VLOOKUP($B15,'Dirt Run Irchester 7.5k'!$B:$D,3,FALSE),0) -> 49 | E15: =IFERROR(VLOOKUP($B15,'Burghley 7'!$B:$D,3,FALSE),0) -> 0 | F15: =IFERROR(VLOOKUP($B15,'King''s Cliffe Trail 10k'!$B:$D,3,FALSE),0) -> 46 | G15: =IFERROR(VLOOKUP($B15,'Langtoft 10k'!B:F,3,FALSE),0) -> 47 | H15: =IFERROR(VLOOKUP($B15,'The Grim Reaper 10 Mile'!$B:$D,3,FALSE),0) -> 0 | I15: =IFERROR(VLOOKUP($B15,'Nene Valley Trail 10 Mile'!B:D,3,FALSE),0) -> 46 | J15: =IFERROR(VLOOKUP($B15,'Whissendine 6ix'!$B:$D,3,FALSE),0) -> 0 | K15: =IFERROR(VLOOKUP($B15,'Ponton Plod 10k'!$B:$D,3,FALSE),0) -> 50 | L15: =IFERROR(VLOOKUP($B15,'Rutland Water parkrun'!$B:$D,3,FALSE),0) -> 0 | M15: =IFERROR(VLOOKUP($B15,'Great Eastern Run'!$B:$D,3,FALSE),0) -> 0 | N15: =IFERROR(VLOOKUP($B15,'Fen 10'!$B:$D,3,FALSE),0) -> 0 | O15: =IFERROR(VLOOKUP($B15,'The George Munday 10k'!B:E,4,FALSE),0) -> 0 | P15: =LARGE(C15:O15,1)+LARGE(C15:O15,2)+LARGE(C15:O15,3)+LARGE(C15:O15,4)+LARGE(C15:O15,5)+LARGE(C15:O15,6) -> 238 | Q15: =COUNTIF(C15:O15,">.09") -> 5 | R15: =_xlfn.RANK.EQ(P15,$P$10:$P$68,0) -> 6 | T15: Luke Harrison | U15: =IFERROR(VLOOKUP($T15,'Folksworth 15'!$F:$H,3,FALSE),0) -> 50 | V15: =IFERROR(VLOOKUP($T15,'Dirt Run Irchester 7.5k'!$F:$H,3,FALSE),0) -> 0 | W15: =IFERROR(VLOOKUP($T15,'Burghley 7'!$F:$H,3,FALSE),0) -> 50 | X15: =IFERROR(VLOOKUP($T15,'King''s Cliffe Trail 10k'!$F:$H,3,FALSE),0) -> 49 | Y15: =IFERROR(VLOOKUP($T15,'Langtoft 10k'!F:H,3,FALSE),0) -> 50 | Z15: =IFERROR(VLOOKUP($T15,'The Grim Reaper 10 Mile'!$F:$H,3,FALSE),0) -> 0 | AA15: =IFERROR(VLOOKUP($T15,'Nene Valley Trail 10 Mile'!$F:$H,3,FALSE),0) -> 0 | AB15: =IFERROR(VLOOKUP($T15,'Whissendine 6ix'!$F:$H,3,FALSE),0) -> 50 | AC15: =IFERROR(VLOOKUP($T15,'Ponton Plod 10k'!$F:$H,3,FALSE),0) -> 0 | AD15: =IFERROR(VLOOKUP($T15,'Rutland Water parkrun'!$F:$H,3,FALSE),0) -> 0 | AE15: =IFERROR(VLOOKUP($T15,'Great Eastern Run'!$F:$H,3,FALSE),0) -> 0 | AF15: =IFERROR(VLOOKUP($T15,'Fen 10'!$F:$H,3,FALSE),0) -> 0 | AG15: =IFERROR(VLOOKUP($T15,'The George Munday 10k'!$G:$J,4,FALSE),0) -> 0 | AH15: =LARGE(U15:AG15,1)+LARGE(U15:AG15,2)+LARGE(U15:AG15,3)+LARGE(U15:AG15,4)+LARGE(U15:AG15,5)+LARGE(U15:AG15,6) -> 249 | AI15: =COUNTIF(U15:AG15,">.09") -> 5 | AJ15: =_xlfn.RANK.EQ(AH15,$AH$10:$AH$81,0) -> 6 | AL15: Suzanne Moon | AM15: =IFERROR(VLOOKUP($AL15,'Folksworth 15'!$J:$L,3,FALSE),0) -> 0 | AN15: =IFERROR(VLOOKUP($AL15,'Dirt Run Irchester 7.5k'!$J:$L,3,FALSE),0) -> 0 | AO15: =IFERROR(VLOOKUP($AL15,'Burghley 7'!$J:$L,3,FALSE),0) -> 37 | AP15: =IFERROR(VLOOKUP($AL15,'King''s Cliffe Trail 10k'!$J:$L,3,FALSE),0) -> 44 | AQ15: =IFERROR(VLOOKUP($AL15,'Langtoft 10k'!J:L,3,FALSE),0) -> 0 | AR15: =IFERROR(VLOOKUP($AL15,'The Grim Reaper 10 Mile'!$J:$L,3,FALSE),0) -> 45 | AS15: =IFERROR(VLOOKUP($AL15,'Nene Valley Trail 10 Mile'!$J:$L,3,FALSE),0) -> 43 | AT15: =IFERROR(VLOOKUP($AL15,'Whissendine 6ix'!$J:$L,3,FALSE),0) -> 0 | AU15: =IFERROR(VLOOKUP($AL15,'Ponton Plod 10k'!$J:$L,3,FALSE),0) -> 0 | AV15: =IFERROR(VLOOKUP($AL15,'Rutland Water parkrun'!$J:$L,3,FALSE),0) -> 44 | AW15: =IFERROR(VLOOKUP($AL15,'Great Eastern Run'!$J:$L,3,FALSE),0) -> 41 | AX15: =IFERROR(VLOOKUP($AL15,'Fen 10'!$J:$L,3,FALSE),0) -> 0 | AY15: =IFERROR(VLOOKUP($AL15,'The George Munday 10k'!$L:$O,4,FALSE),0) -> 0 | AZ15: =LARGE(AM15:AY15,1)+LARGE(AM15:AY15,2)+LARGE(AM15:AY15,3)+LARGE(AM15:AY15,4)+LARGE(AM15:AY15,5)+LARGE(AM15:AY15,6) -> 254 | BA15: =COUNTIF(AM15:AY15,">0.09") -> 6 | BB15: =_xlfn.RANK.EQ(AZ15,$AZ$10:$AZ$140,0) -> 6
B16: Mala Sun | C16: =IFERROR(VLOOKUP($B16,'Folksworth 15'!$B:$D,3,FALSE),0) -> 37 | D16: =IFERROR(VLOOKUP($B16,'Dirt Run Irchester 7.5k'!$B:$D,3,FALSE),0) -> 0 | E16: =IFERROR(VLOOKUP($B16,'Burghley 7'!$B:$D,3,FALSE),0) -> 38 | F16: =IFERROR(VLOOKUP($B16,'King''s Cliffe Trail 10k'!$B:$D,3,FALSE),0) -> 0 | G16: =IFERROR(VLOOKUP($B16,'Langtoft 10k'!B:F,3,FALSE),0) -> 38 | H16: =IFERROR(VLOOKUP($B16,'The Grim Reaper 10 Mile'!$B:$D,3,FALSE),0) -> 45 | I16: =IFERROR(VLOOKUP($B16,'Nene Valley Trail 10 Mile'!B:D,3,FALSE),0) -> 41 | J16: =IFERROR(VLOOKUP($B16,'Whissendine 6ix'!$B:$D,3,FALSE),0) -> 0 | K16: =IFERROR(VLOOKUP($B16,'Ponton Plod 10k'!$B:$D,3,FALSE),0) -> 0 | L16: =IFERROR(VLOOKUP($B16,'Rutland Water parkrun'!$B:$D,3,FALSE),0) -> 0 | M16: =IFERROR(VLOOKUP($B16,'Great Eastern Run'!$B:$D,3,FALSE),0) -> 35 | N16: =IFERROR(VLOOKUP($B16,'Fen 10'!$B:$D,3,FALSE),0) -> 0 | O16: =IFERROR(VLOOKUP($B16,'The George Munday 10k'!B:E,4,FALSE),0) -> 0 | P16: =LARGE(C16:O16,1)+LARGE(C16:O16,2)+LARGE(C16:O16,3)+LARGE(C16:O16,4)+LARGE(C16:O16,5)+LARGE(C16:O16,6) -> 234 | Q16: =COUNTIF(C16:O16,">.09") -> 6 | R16: =_xlfn.RANK.EQ(P16,$P$10:$P$68,0) -> 7 | T16: Martin Candish | U16: =IFERROR(VLOOKUP($T16,'Folksworth 15'!$F:$H,3,FALSE),0) -> 41 | V16: =IFERROR(VLOOKUP($T16,'Dirt Run Irchester 7.5k'!$F:$H,3,FALSE),0) -> 48 | W16: =IFERROR(VLOOKUP($T16,'Burghley 7'!$F:$H,3,FALSE),0) -> 0 | X16: =IFERROR(VLOOKUP($T16,'King''s Cliffe Trail 10k'!$F:$H,3,FALSE),0) -> 0 | Y16: =IFERROR(VLOOKUP($T16,'Langtoft 10k'!F:H,3,FALSE),0) -> 41 | Z16: =IFERROR(VLOOKUP($T16,'The Grim Reaper 10 Mile'!$F:$H,3,FALSE),0) -> 0 | AA16: =IFERROR(VLOOKUP($T16,'Nene Valley Trail 10 Mile'!$F:$H,3,FALSE),0) -> 43 | AB16: =IFERROR(VLOOKUP($T16,'Whissendine 6ix'!$F:$H,3,FALSE),0) -> 34 | AC16: =IFERROR(VLOOKUP($T16,'Ponton Plod 10k'!$F:$H,3,FALSE),0) -> 0 | AD16: =IFERROR(VLOOKUP($T16,'Rutland Water parkrun'!$F:$H,3,FALSE),0) -> 36 | AE16: =IFERROR(VLOOKUP($T16,'Great Eastern Run'!$F:$H,3,FALSE),0) -> 0 | AF16: =IFERROR(VLOOKUP($T16,'Fen 10'!$F:$H,3,FALSE),0) -> 0 | AG16: =IFERROR(VLOOKUP($T16,'The George Munday 10k'!$G:$J,4,FALSE),0) -> 0 | AH16: =LARGE(U16:AG16,1)+LARGE(U16:AG16,2)+LARGE(U16:AG16,3)+LARGE(U16:AG16,4)+LARGE(U16:AG16,5)+LARGE(U16:AG16,6) -> 243 | AI16: =COUNTIF(U16:AG16,">.09") -> 6 | AJ16: =_xlfn.RANK.EQ(AH16,$AH$10:$AH$81,0) -> 7 | AL16: Luke Harrison | AM16: =IFERROR(VLOOKUP($AL16,'Folksworth 15'!$J:$L,3,FALSE),0) -> 49 | AN16: =IFERROR(VLOOKUP($AL16,'Dirt Run Irchester 7.5k'!$J:$L,3,FALSE),0) -> 0 | AO16: =IFERROR(VLOOKUP($AL16,'Burghley 7'!$J:$L,3,FALSE),0) -> 48 | AP16: =IFERROR(VLOOKUP($AL16,'King''s Cliffe Trail 10k'!$J:$L,3,FALSE),0) -> 49 | AQ16: =IFERROR(VLOOKUP($AL16,'Langtoft 10k'!J:L,3,FALSE),0) -> 49 | AR16: =IFERROR(VLOOKUP($AL16,'The Grim Reaper 10 Mile'!$J:$L,3,FALSE),0) -> 0 | AS16: =IFERROR(VLOOKUP($AL16,'Nene Valley Trail 10 Mile'!$J:$L,3,FALSE),0) -> 0 | AT16: =IFERROR(VLOOKUP($AL16,'Whissendine 6ix'!$J:$L,3,FALSE),0) -> 48 | AU16: =IFERROR(VLOOKUP($AL16,'Ponton Plod 10k'!$J:$L,3,FALSE),0) -> 0 | AV16: =IFERROR(VLOOKUP($AL16,'Rutland Water parkrun'!$J:$L,3,FALSE),0) -> 0 | AW16: =IFERROR(VLOOKUP($AL16,'Great Eastern Run'!$J:$L,3,FALSE),0) -> 0 | AX16: =IFERROR(VLOOKUP($AL16,'Fen 10'!$J:$L,3,FALSE),0) -> 0 | AY16: =IFERROR(VLOOKUP($AL16,'The George Munday 10k'!$L:$O,4,FALSE),0) -> 0 | AZ16: =LARGE(AM16:AY16,1)+LARGE(AM16:AY16,2)+LARGE(AM16:AY16,3)+LARGE(AM16:AY16,4)+LARGE(AM16:AY16,5)+LARGE(AM16:AY16,6) -> 243 | BA16: =COUNTIF(AM16:AY16,">0.09") -> 5 | BB16: =_xlfn.RANK.EQ(AZ16,$AZ$10:$AZ$140,0) -> 7
B17: Alison Woods | C17: =IFERROR(VLOOKUP($B17,'Folksworth 15'!$B:$D,3,FALSE),0) -> 43 | D17: =IFERROR(VLOOKUP($B17,'Dirt Run Irchester 7.5k'!$B:$D,3,FALSE),0) -> 0 | E17: =IFERROR(VLOOKUP($B17,'Burghley 7'!$B:$D,3,FALSE),0) -> 46 | F17: =IFERROR(VLOOKUP($B17,'King''s Cliffe Trail 10k'!$B:$D,3,FALSE),0) -> 0 | G17: =IFERROR(VLOOKUP($B17,'Langtoft 10k'!B:F,3,FALSE),0) -> 0 | H17: =IFERROR(VLOOKUP($B17,'The Grim Reaper 10 Mile'!$B:$D,3,FALSE),0) -> 0 | I17: =IFERROR(VLOOKUP($B17,'Nene Valley Trail 10 Mile'!B:D,3,FALSE),0) -> 0 | J17: =IFERROR(VLOOKUP($B17,'Whissendine 6ix'!$B:$D,3,FALSE),0) -> 49 | K17: =IFERROR(VLOOKUP($B17,'Ponton Plod 10k'!$B:$D,3,FALSE),0) -> 0 | L17: =IFERROR(VLOOKUP($B17,'Rutland Water parkrun'!$B:$D,3,FALSE),0) -> 46 | M17: =IFERROR(VLOOKUP($B17,'Great Eastern Run'!$B:$D,3,FALSE),0) -> 43 | N17: =IFERROR(VLOOKUP($B17,'Fen 10'!$B:$D,3,FALSE),0) -> 0 | O17: =IFERROR(VLOOKUP($B17,'The George Munday 10k'!B:E,4,FALSE),0) -> 0 | P17: =LARGE(C17:O17,1)+LARGE(C17:O17,2)+LARGE(C17:O17,3)+LARGE(C17:O17,4)+LARGE(C17:O17,5)+LARGE(C17:O17,6) -> 227 | Q17: =COUNTIF(C17:O17,">.09") -> 5 | R17: =_xlfn.RANK.EQ(P17,$P$10:$P$68,0) -> 8 | T17: Max Ranson | U17: =IFERROR(VLOOKUP($T17,'Folksworth 15'!$F:$H,3,FALSE),0) -> 0 | V17: =IFERROR(VLOOKUP($T17,'Dirt Run Irchester 7.5k'!$F:$H,3,FALSE),0) -> 0 | W17: =IFERROR(VLOOKUP($T17,'Burghley 7'!$F:$H,3,FALSE),0) -> 48 | X17: =IFERROR(VLOOKUP($T17,'King''s Cliffe Trail 10k'!$F:$H,3,FALSE),0) -> 48 | Y17: =IFERROR(VLOOKUP($T17,'Langtoft 10k'!F:H,3,FALSE),0) -> 49 | Z17: =IFERROR(VLOOKUP($T17,'The Grim Reaper 10 Mile'!$F:$H,3,FALSE),0) -> 0 | AA17: =IFERROR(VLOOKUP($T17,'Nene Valley Trail 10 Mile'!$F:$H,3,FALSE),0) -> 0 | AB17: =IFERROR(VLOOKUP($T17,'Whissendine 6ix'!$F:$H,3,FALSE),0) -> 48 | AC17: =IFERROR(VLOOKUP($T17,'Ponton Plod 10k'!$F:$H,3,FALSE),0) -> 0 | AD17: =IFERROR(VLOOKUP($T17,'Rutland Water parkrun'!$F:$H,3,FALSE),0) -> 48 | AE17: =IFERROR(VLOOKUP($T17,'Great Eastern Run'!$F:$H,3,FALSE),0) -> 0 | AF17: =IFERROR(VLOOKUP($T17,'Fen 10'!$F:$H,3,FALSE),0) -> 0 | AG17: =IFERROR(VLOOKUP($T17,'The George Munday 10k'!$G:$J,4,FALSE),0) -> 0 | AH17: =LARGE(U17:AG17,1)+LARGE(U17:AG17,2)+LARGE(U17:AG17,3)+LARGE(U17:AG17,4)+LARGE(U17:AG17,5)+LARGE(U17:AG17,6) -> 241 | AI17: =COUNTIF(U17:AG17,">.09") -> 5 | AJ17: =_xlfn.RANK.EQ(AH17,$AH$10:$AH$81,0) -> 8 | AL17: Mark Popple | AM17: =IFERROR(VLOOKUP($AL17,'Folksworth 15'!$J:$L,3,FALSE),0) -> 0 | AN17: =IFERROR(VLOOKUP($AL17,'Dirt Run Irchester 7.5k'!$J:$L,3,FALSE),0) -> 0 | AO17: =IFERROR(VLOOKUP($AL17,'Burghley 7'!$J:$L,3,FALSE),0) -> 36 | AP17: =IFERROR(VLOOKUP($AL17,'King''s Cliffe Trail 10k'!$J:$L,3,FALSE),0) -> 42 | AQ17: =IFERROR(VLOOKUP($AL17,'Langtoft 10k'!J:L,3,FALSE),0) -> 0 | AR17: =IFERROR(VLOOKUP($AL17,'The Grim Reaper 10 Mile'!$J:$L,3,FALSE),0) -> 44 | AS17: =IFERROR(VLOOKUP($AL17,'Nene Valley Trail 10 Mile'!$J:$L,3,FALSE),0) -> 0 | AT17: =IFERROR(VLOOKUP($AL17,'Whissendine 6ix'!$J:$L,3,FALSE),0) -> 40 | AU17: =IFERROR(VLOOKUP($AL17,'Ponton Plod 10k'!$J:$L,3,FALSE),0) -> 44 | AV17: =IFERROR(VLOOKUP($AL17,'Rutland Water parkrun'!$J:$L,3,FALSE),0) -> 37 | AW17: =IFERROR(VLOOKUP($AL17,'Great Eastern Run'!$J:$L,3,FALSE),0) -> 35 | AX17: =IFERROR(VLOOKUP($AL17,'Fen 10'!$J:$L,3,FALSE),0) -> 0 | AY17: =IFERROR(VLOOKUP($AL17,'The George Munday 10k'!$L:$O,4,FALSE),0) -> 0 | AZ17: =LARGE(AM17:AY17,1)+LARGE(AM17:AY17,2)+LARGE(AM17:AY17,3)+LARGE(AM17:AY17,4)+LARGE(AM17:AY17,5)+LARGE(AM17:AY17,6) -> 243 | BA17: =COUNTIF(AM17:AY17,">0.09") -> 7 | BB17: =_xlfn.RANK.EQ(AZ17,$AZ$10:$AZ$140,0) -> 7
B18: Cheryl Allibone | C18: =IFERROR(VLOOKUP($B18,'Folksworth 15'!$B:$D,3,FALSE),0) -> 41 | D18: =IFERROR(VLOOKUP($B18,'Dirt Run Irchester 7.5k'!$B:$D,3,FALSE),0) -> 47 | E18: =IFERROR(VLOOKUP($B18,'Burghley 7'!$B:$D,3,FALSE),0) -> 45 | F18: =IFERROR(VLOOKUP($B18,'King''s Cliffe Trail 10k'!$B:$D,3,FALSE),0) -> 0 | G18: =IFERROR(VLOOKUP($B18,'Langtoft 10k'!B:F,3,FALSE),0) -> 45 | H18: =IFERROR(VLOOKUP($B18,'The Grim Reaper 10 Mile'!$B:$D,3,FALSE),0) -> 0 | I18: =IFERROR(VLOOKUP($B18,'Nene Valley Trail 10 Mile'!B:D,3,FALSE),0) -> 0 | J18: =IFERROR(VLOOKUP($B18,'Whissendine 6ix'!$B:$D,3,FALSE),0) -> 0 | K18: =IFERROR(VLOOKUP($B18,'Ponton Plod 10k'!$B:$D,3,FALSE),0) -> 0 | L18: =IFERROR(VLOOKUP($B18,'Rutland Water parkrun'!$B:$D,3,FALSE),0) -> 43 | M18: =IFERROR(VLOOKUP($B18,'Great Eastern Run'!$B:$D,3,FALSE),0) -> 0 | N18: =IFERROR(VLOOKUP($B18,'Fen 10'!$B:$D,3,FALSE),0) -> 0 | O18: =IFERROR(VLOOKUP($B18,'The George Munday 10k'!B:E,4,FALSE),0) -> 0 | P18: =LARGE(C18:O18,1)+LARGE(C18:O18,2)+LARGE(C18:O18,3)+LARGE(C18:O18,4)+LARGE(C18:O18,5)+LARGE(C18:O18,6) -> 221 | Q18: =COUNTIF(C18:O18,">.09") -> 5 | R18: =_xlfn.RANK.EQ(P18,$P$10:$P$68,0) -> 9 | T18: David Marples | U18: =IFERROR(VLOOKUP($T18,'Folksworth 15'!$F:$H,3,FALSE),0) -> 0 | V18: =IFERROR(VLOOKUP($T18,'Dirt Run Irchester 7.5k'!$F:$H,3,FALSE),0) -> 0 | W18: =IFERROR(VLOOKUP($T18,'Burghley 7'!$F:$H,3,FALSE),0) -> 0 | X18: =IFERROR(VLOOKUP($T18,'King''s Cliffe Trail 10k'!$F:$H,3,FALSE),0) -> 0 | Y18: =IFERROR(VLOOKUP($T18,'Langtoft 10k'!F:H,3,FALSE),0) -> 0 | Z18: =IFERROR(VLOOKUP($T18,'The Grim Reaper 10 Mile'!$F:$H,3,FALSE),0) -> 48 | AA18: =IFERROR(VLOOKUP($T18,'Nene Valley Trail 10 Mile'!$F:$H,3,FALSE),0) -> 46 | AB18: =IFERROR(VLOOKUP($T18,'Whissendine 6ix'!$F:$H,3,FALSE),0) -> 40 | AC18: =IFERROR(VLOOKUP($T18,'Ponton Plod 10k'!$F:$H,3,FALSE),0) -> 49 | AD18: =IFERROR(VLOOKUP($T18,'Rutland Water parkrun'!$F:$H,3,FALSE),0) -> 42 | AE18: =IFERROR(VLOOKUP($T18,'Great Eastern Run'!$F:$H,3,FALSE),0) -> 0 | AF18: =IFERROR(VLOOKUP($T18,'Fen 10'!$F:$H,3,FALSE),0) -> 0 | AG18: =IFERROR(VLOOKUP($T18,'The George Munday 10k'!$G:$J,4,FALSE),0) -> 0 | AH18: =LARGE(U18:AG18,1)+LARGE(U18:AG18,2)+LARGE(U18:AG18,3)+LARGE(U18:AG18,4)+LARGE(U18:AG18,5)+LARGE(U18:AG18,6) -> 225 | AI18: =COUNTIF(U18:AG18,">.09") -> 5 | AJ18: =_xlfn.RANK.EQ(AH18,$AH$10:$AH$81,0) -> 9 | AL18: Marcus Brown | AM18: =IFERROR(VLOOKUP($AL18,'Folksworth 15'!$J:$L,3,FALSE),0) -> 0 | AN18: =IFERROR(VLOOKUP($AL18,'Dirt Run Irchester 7.5k'!$J:$L,3,FALSE),0) -> 0 | AO18: =IFERROR(VLOOKUP($AL18,'Burghley 7'!$J:$L,3,FALSE),0) -> 46 | AP18: =IFERROR(VLOOKUP($AL18,'King''s Cliffe Trail 10k'!$J:$L,3,FALSE),0) -> 0 | AQ18: =IFERROR(VLOOKUP($AL18,'Langtoft 10k'!J:L,3,FALSE),0) -> 50 | AR18: =IFERROR(VLOOKUP($AL18,'The Grim Reaper 10 Mile'!$J:$L,3,FALSE),0) -> 0 | AS18: =IFERROR(VLOOKUP($AL18,'Nene Valley Trail 10 Mile'!$J:$L,3,FALSE),0) -> 0 | AT18: =IFERROR(VLOOKUP($AL18,'Whissendine 6ix'!$J:$L,3,FALSE),0) -> 47 | AU18: =IFERROR(VLOOKUP($AL18,'Ponton Plod 10k'!$J:$L,3,FALSE),0) -> 0 | AV18: =IFERROR(VLOOKUP($AL18,'Rutland Water parkrun'!$J:$L,3,FALSE),0) -> 47 | AW18: =IFERROR(VLOOKUP($AL18,'Great Eastern Run'!$J:$L,3,FALSE),0) -> 36 | AX18: =IFERROR(VLOOKUP($AL18,'Fen 10'!$J:$L,3,FALSE),0) -> 0 | AY18: =IFERROR(VLOOKUP($AL18,'The George Munday 10k'!$L:$O,4,FALSE),0) -> 0 | AZ18: =LARGE(AM18:AY18,1)+LARGE(AM18:AY18,2)+LARGE(AM18:AY18,3)+LARGE(AM18:AY18,4)+LARGE(AM18:AY18,5)+LARGE(AM18:AY18,6) -> 226 | BA18: =COUNTIF(AM18:AY18,">0.09") -> 5 | BB18: =_xlfn.RANK.EQ(AZ18,$AZ$10:$AZ$140,0) -> 9
B19: Claire Piercy | C19: =IFERROR(VLOOKUP($B19,'Folksworth 15'!$B:$D,3,FALSE),0) -> 50 | D19: =IFERROR(VLOOKUP($B19,'Dirt Run Irchester 7.5k'!$B:$D,3,FALSE),0) -> 0 | E19: =IFERROR(VLOOKUP($B19,'Burghley 7'!$B:$D,3,FALSE),0) -> 0 | F19: =IFERROR(VLOOKUP($B19,'King''s Cliffe Trail 10k'!$B:$D,3,FALSE),0) -> 0 | G19: =IFERROR(VLOOKUP($B19,'Langtoft 10k'!B:F,3,FALSE),0) -> 49 | H19: =IFERROR(VLOOKUP($B19,'The Grim Reaper 10 Mile'!$B:$D,3,FALSE),0) -> 0 | I19: =IFERROR(VLOOKUP($B19,'Nene Valley Trail 10 Mile'!B:D,3,FALSE),0) -> 49 | J19: =IFERROR(VLOOKUP($B19,'Whissendine 6ix'!$B:$D,3,FALSE),0) -> 0 | K19: =IFERROR(VLOOKUP($B19,'Ponton Plod 10k'!$B:$D,3,FALSE),0) -> 0 | L19: =IFERROR(VLOOKUP($B19,'Rutland Water parkrun'!$B:$D,3,FALSE),0) -> 0 | M19: =IFERROR(VLOOKUP($B19,'Great Eastern Run'!$B:$D,3,FALSE),0) -> 50 | N19: =IFERROR(VLOOKUP($B19,'Fen 10'!$B:$D,3,FALSE),0) -> 0 | O19: =IFERROR(VLOOKUP($B19,'The George Munday 10k'!B:E,4,FALSE),0) -> 0 | P19: =LARGE(C19:O19,1)+LARGE(C19:O19,2)+LARGE(C19:O19,3)+LARGE(C19:O19,4)+LARGE(C19:O19,5)+LARGE(C19:O19,6) -> 198 | Q19: =COUNTIF(C19:O19,">.09") -> 4 | R19: =_xlfn.RANK.EQ(P19,$P$10:$P$68,0) -> 10 | T19: Neil Lakin | U19: =IFERROR(VLOOKUP($T19,'Folksworth 15'!$F:$H,3,FALSE),0) -> 46 | V19: =IFERROR(VLOOKUP($T19,'Dirt Run Irchester 7.5k'!$F:$H,3,FALSE),0) -> 0 | W19: =IFERROR(VLOOKUP($T19,'Burghley 7'!$F:$H,3,FALSE),0) -> 0 | X19: =IFERROR(VLOOKUP($T19,'King''s Cliffe Trail 10k'!$F:$H,3,FALSE),0) -> 0 | Y19: =IFERROR(VLOOKUP($T19,'Langtoft 10k'!F:H,3,FALSE),0) -> 47 | Z19: =IFERROR(VLOOKUP($T19,'The Grim Reaper 10 Mile'!$F:$H,3,FALSE),0) -> 0 | AA19: =IFERROR(VLOOKUP($T19,'Nene Valley Trail 10 Mile'!$F:$H,3,FALSE),0) -> 0 | AB19: =IFERROR(VLOOKUP($T19,'Whissendine 6ix'!$F:$H,3,FALSE),0) -> 43 | AC19: =IFERROR(VLOOKUP($T19,'Ponton Plod 10k'!$F:$H,3,FALSE),0) -> 0 | AD19: =IFERROR(VLOOKUP($T19,'Rutland Water parkrun'!$F:$H,3,FALSE),0) -> 45 | AE19: =IFERROR(VLOOKUP($T19,'Great Eastern Run'!$F:$H,3,FALSE),0) -> 44 | AF19: =IFERROR(VLOOKUP($T19,'Fen 10'!$F:$H,3,FALSE),0) -> 0 | AG19: =IFERROR(VLOOKUP($T19,'The George Munday 10k'!$G:$J,4,FALSE),0) -> 0 | AH19: =LARGE(U19:AG19,1)+LARGE(U19:AG19,2)+LARGE(U19:AG19,3)+LARGE(U19:AG19,4)+LARGE(U19:AG19,5)+LARGE(U19:AG19,6) -> 225 | AI19: =COUNTIF(U19:AG19,">.09") -> 5 | AJ19: =_xlfn.RANK.EQ(AH19,$AH$10:$AH$81,0) -> 9 | AL19: Nick Wells | AM19: =IFERROR(VLOOKUP($AL19,'Folksworth 15'!$J:$L,3,FALSE),0) -> 0 | AN19: =IFERROR(VLOOKUP($AL19,'Dirt Run Irchester 7.5k'!$J:$L,3,FALSE),0) -> 0 | AO19: =IFERROR(VLOOKUP($AL19,'Burghley 7'!$J:$L,3,FALSE),0) -> 38 | AP19: =IFERROR(VLOOKUP($AL19,'King''s Cliffe Trail 10k'!$J:$L,3,FALSE),0) -> 47 | AQ19: =IFERROR(VLOOKUP($AL19,'Langtoft 10k'!J:L,3,FALSE),0) -> 0 | AR19: =IFERROR(VLOOKUP($AL19,'The Grim Reaper 10 Mile'!$J:$L,3,FALSE),0) -> 46 | AS19: =IFERROR(VLOOKUP($AL19,'Nene Valley Trail 10 Mile'!$J:$L,3,FALSE),0) -> 45 | AT19: =IFERROR(VLOOKUP($AL19,'Whissendine 6ix'!$J:$L,3,FALSE),0) -> 0 | AU19: =IFERROR(VLOOKUP($AL19,'Ponton Plod 10k'!$J:$L,3,FALSE),0) -> 0 | AV19: =IFERROR(VLOOKUP($AL19,'Rutland Water parkrun'!$J:$L,3,FALSE),0) -> 0 | AW19: =IFERROR(VLOOKUP($AL19,'Great Eastern Run'!$J:$L,3,FALSE),0) -> 43 | AX19: =IFERROR(VLOOKUP($AL19,'Fen 10'!$J:$L,3,FALSE),0) -> 0 | AY19: =IFERROR(VLOOKUP($AL19,'The George Munday 10k'!$L:$O,4,FALSE),0) -> 0 | AZ19: =LARGE(AM19:AY19,1)+LARGE(AM19:AY19,2)+LARGE(AM19:AY19,3)+LARGE(AM19:AY19,4)+LARGE(AM19:AY19,5)+LARGE(AM19:AY19,6) -> 219 | BA19: =COUNTIF(AM19:AY19,">0.09") -> 5 | BB19: =_xlfn.RANK.EQ(AZ19,$AZ$10:$AZ$140,0) -> 10
B20: Helen Popple | C20: =IFERROR(VLOOKUP($B20,'Folksworth 15'!$B:$D,3,FALSE),0) -> 0 | D20: =IFERROR(VLOOKUP($B20,'Dirt Run Irchester 7.5k'!$B:$D,3,FALSE),0) -> 0 | E20: =IFERROR(VLOOKUP($B20,'Burghley 7'!$B:$D,3,FALSE),0) -> 41 | F20: =IFERROR(VLOOKUP($B20,'King''s Cliffe Trail 10k'!$B:$D,3,FALSE),0) -> 40 | G20: =IFERROR(VLOOKUP($B20,'Langtoft 10k'!B:F,3,FALSE),0) -> 39 | H20: =IFERROR(VLOOKUP($B20,'The Grim Reaper 10 Mile'!$B:$D,3,FALSE),0) -> 0 | I20: =IFERROR(VLOOKUP($B20,'Nene Valley Trail 10 Mile'!B:D,3,FALSE),0) -> 0 | J20: =IFERROR(VLOOKUP($B20,'Whissendine 6ix'!$B:$D,3,FALSE),0) -> 0 | K20: =IFERROR(VLOOKUP($B20,'Ponton Plod 10k'!$B:$D,3,FALSE),0) -> 0 | L20: =IFERROR(VLOOKUP($B20,'Rutland Water parkrun'!$B:$D,3,FALSE),0) -> 37 | M20: =IFERROR(VLOOKUP($B20,'Great Eastern Run'!$B:$D,3,FALSE),0) -> 0 | N20: =IFERROR(VLOOKUP($B20,'Fen 10'!$B:$D,3,FALSE),0) -> 0 | O20: =IFERROR(VLOOKUP($B20,'The George Munday 10k'!B:E,4,FALSE),0) -> 0 | P20: =LARGE(C20:O20,1)+LARGE(C20:O20,2)+LARGE(C20:O20,3)+LARGE(C20:O20,4)+LARGE(C20:O20,5)+LARGE(C20:O20,6) -> 157 | Q20: =COUNTIF(C20:O20,">.09") -> 4 | R20: =_xlfn.RANK.EQ(P20,$P$10:$P$68,0) -> 11 | T20: Marcus Brown | U20: =IFERROR(VLOOKUP($T20,'Folksworth 15'!$F:$H,3,FALSE),0) -> 0 | V20: =IFERROR(VLOOKUP($T20,'Dirt Run Irchester 7.5k'!$F:$H,3,FALSE),0) -> 0 | W20: =IFERROR(VLOOKUP($T20,'Burghley 7'!$F:$H,3,FALSE),0) -> 40 | X20: =IFERROR(VLOOKUP($T20,'King''s Cliffe Trail 10k'!$F:$H,3,FALSE),0) -> 0 | Y20: =IFERROR(VLOOKUP($T20,'Langtoft 10k'!F:H,3,FALSE),0) -> 46 | Z20: =IFERROR(VLOOKUP($T20,'The Grim Reaper 10 Mile'!$F:$H,3,FALSE),0) -> 0 | AA20: =IFERROR(VLOOKUP($T20,'Nene Valley Trail 10 Mile'!$F:$H,3,FALSE),0) -> 0 | AB20: =IFERROR(VLOOKUP($T20,'Whissendine 6ix'!$F:$H,3,FALSE),0) -> 44 | AC20: =IFERROR(VLOOKUP($T20,'Ponton Plod 10k'!$F:$H,3,FALSE),0) -> 0 | AD20: =IFERROR(VLOOKUP($T20,'Rutland Water parkrun'!$F:$H,3,FALSE),0) -> 46 | AE20: =IFERROR(VLOOKUP($T20,'Great Eastern Run'!$F:$H,3,FALSE),0) -> 36 | AF20: =IFERROR(VLOOKUP($T20,'Fen 10'!$F:$H,3,FALSE),0) -> 0 | AG20: =IFERROR(VLOOKUP($T20,'The George Munday 10k'!$G:$J,4,FALSE),0) -> 0 | AH20: =LARGE(U20:AG20,1)+LARGE(U20:AG20,2)+LARGE(U20:AG20,3)+LARGE(U20:AG20,4)+LARGE(U20:AG20,5)+LARGE(U20:AG20,6) -> 212 | AI20: =COUNTIF(U20:AG20,">.09") -> 5 | AJ20: =_xlfn.RANK.EQ(AH20,$AH$10:$AH$81,0) -> 11 | AL20: Michael Flatters | AM20: =IFERROR(VLOOKUP($AL20,'Folksworth 15'!$J:$L,3,FALSE),0) -> 30 | AN20: =IFERROR(VLOOKUP($AL20,'Dirt Run Irchester 7.5k'!$J:$L,3,FALSE),0) -> 42 | AO20: =IFERROR(VLOOKUP($AL20,'Burghley 7'!$J:$L,3,FALSE),0) -> 30 | AP20: =IFERROR(VLOOKUP($AL20,'King''s Cliffe Trail 10k'!$J:$L,3,FALSE),0) -> 33 | AQ20: =IFERROR(VLOOKUP($AL20,'Langtoft 10k'!J:L,3,FALSE),0) -> 30 | AR20: =IFERROR(VLOOKUP($AL20,'The Grim Reaper 10 Mile'!$J:$L,3,FALSE),0) -> 39 | AS20: =IFERROR(VLOOKUP($AL20,'Nene Valley Trail 10 Mile'!$J:$L,3,FALSE),0) -> 30 | AT20: =IFERROR(VLOOKUP($AL20,'Whissendine 6ix'!$J:$L,3,FALSE),0) -> 0 | AU20: =IFERROR(VLOOKUP($AL20,'Ponton Plod 10k'!$J:$L,3,FALSE),0) -> 43 | AV20: =IFERROR(VLOOKUP($AL20,'Rutland Water parkrun'!$J:$L,3,FALSE),0) -> 0 | AW20: =IFERROR(VLOOKUP($AL20,'Great Eastern Run'!$J:$L,3,FALSE),0) -> 0 | AX20: =IFERROR(VLOOKUP($AL20,'Fen 10'!$J:$L,3,FALSE),0) -> 0 | AY20: =IFERROR(VLOOKUP($AL20,'The George Munday 10k'!$L:$O,4,FALSE),0) -> 0 | AZ20: =LARGE(AM20:AY20,1)+LARGE(AM20:AY20,2)+LARGE(AM20:AY20,3)+LARGE(AM20:AY20,4)+LARGE(AM20:AY20,5)+LARGE(AM20:AY20,6) -> 217 | BA20: =COUNTIF(AM20:AY20,">0.09") -> 8 | BB20: =_xlfn.RANK.EQ(AZ20,$AZ$10:$AZ$140,0) -> 11
B21: Jen Dancy | C21: =IFERROR(VLOOKUP($B21,'Folksworth 15'!$B:$D,3,FALSE),0) -> 0 | D21: =IFERROR(VLOOKUP($B21,'Dirt Run Irchester 7.5k'!$B:$D,3,FALSE),0) -> 0 | E21: =IFERROR(VLOOKUP($B21,'Burghley 7'!$B:$D,3,FALSE),0) -> 0 | F21: =IFERROR(VLOOKUP($B21,'King''s Cliffe Trail 10k'!$B:$D,3,FALSE),0) -> 0 | G21: =IFERROR(VLOOKUP($B21,'Langtoft 10k'!B:F,3,FALSE),0) -> 50 | H21: =IFERROR(VLOOKUP($B21,'The Grim Reaper 10 Mile'!$B:$D,3,FALSE),0) -> 0 | I21: =IFERROR(VLOOKUP($B21,'Nene Valley Trail 10 Mile'!B:D,3,FALSE),0) -> 0 | J21: =IFERROR(VLOOKUP($B21,'Whissendine 6ix'!$B:$D,3,FALSE),0) -> 0 | K21: =IFERROR(VLOOKUP($B21,'Ponton Plod 10k'!$B:$D,3,FALSE),0) -> 0 | L21: =IFERROR(VLOOKUP($B21,'Rutland Water parkrun'!$B:$D,3,FALSE),0) -> 50 | M21: =IFERROR(VLOOKUP($B21,'Great Eastern Run'!$B:$D,3,FALSE),0) -> 47 | N21: =IFERROR(VLOOKUP($B21,'Fen 10'!$B:$D,3,FALSE),0) -> 0 | O21: =IFERROR(VLOOKUP($B21,'The George Munday 10k'!B:E,4,FALSE),0) -> 0 | P21: =LARGE(C21:O21,1)+LARGE(C21:O21,2)+LARGE(C21:O21,3)+LARGE(C21:O21,4)+LARGE(C21:O21,5)+LARGE(C21:O21,6) -> 147 | Q21: =COUNTIF(C21:O21,">.09") -> 3 | R21: =_xlfn.RANK.EQ(P21,$P$10:$P$68,0) -> 12 | T21: Nick Wells | U21: =IFERROR(VLOOKUP($T21,'Folksworth 15'!$F:$H,3,FALSE),0) -> 0 | V21: =IFERROR(VLOOKUP($T21,'Dirt Run Irchester 7.5k'!$F:$H,3,FALSE),0) -> 0 | W21: =IFERROR(VLOOKUP($T21,'Burghley 7'!$F:$H,3,FALSE),0) -> 35 | X21: =IFERROR(VLOOKUP($T21,'King''s Cliffe Trail 10k'!$F:$H,3,FALSE),0) -> 46 | Y21: =IFERROR(VLOOKUP($T21,'Langtoft 10k'!F:H,3,FALSE),0) -> 0 | Z21: =IFERROR(VLOOKUP($T21,'The Grim Reaper 10 Mile'!$F:$H,3,FALSE),0) -> 45 | AA21: =IFERROR(VLOOKUP($T21,'Nene Valley Trail 10 Mile'!$F:$H,3,FALSE),0) -> 44 | AB21: =IFERROR(VLOOKUP($T21,'Whissendine 6ix'!$F:$H,3,FALSE),0) -> 0 | AC21: =IFERROR(VLOOKUP($T21,'Ponton Plod 10k'!$F:$H,3,FALSE),0) -> 0 | AD21: =IFERROR(VLOOKUP($T21,'Rutland Water parkrun'!$F:$H,3,FALSE),0) -> 0 | AE21: =IFERROR(VLOOKUP($T21,'Great Eastern Run'!$F:$H,3,FALSE),0) -> 37 | AF21: =IFERROR(VLOOKUP($T21,'Fen 10'!$F:$H,3,FALSE),0) -> 0 | AG21: =IFERROR(VLOOKUP($T21,'The George Munday 10k'!$G:$J,4,FALSE),0) -> 0 | AH21: =LARGE(U21:AG21,1)+LARGE(U21:AG21,2)+LARGE(U21:AG21,3)+LARGE(U21:AG21,4)+LARGE(U21:AG21,5)+LARGE(U21:AG21,6) -> 207 | AI21: =COUNTIF(U21:AG21,">.09") -> 5 | AJ21: =_xlfn.RANK.EQ(AH21,$AH$10:$AH$81,0) -> 12 | AL21: Max Ranson | AM21: =IFERROR(VLOOKUP($AL21,'Folksworth 15'!$J:$L,3,FALSE),0) -> 0 | AN21: =IFERROR(VLOOKUP($AL21,'Dirt Run Irchester 7.5k'!$J:$L,3,FALSE),0) -> 0 | AO21: =IFERROR(VLOOKUP($AL21,'Burghley 7'!$J:$L,3,FALSE),0) -> 44 | AP21: =IFERROR(VLOOKUP($AL21,'King''s Cliffe Trail 10k'!$J:$L,3,FALSE),0) -> 45 | AQ21: =IFERROR(VLOOKUP($AL21,'Langtoft 10k'!J:L,3,FALSE),0) -> 44 | AR21: =IFERROR(VLOOKUP($AL21,'The Grim Reaper 10 Mile'!$J:$L,3,FALSE),0) -> 0 | AS21: =IFERROR(VLOOKUP($AL21,'Nene Valley Trail 10 Mile'!$J:$L,3,FALSE),0) -> 0 | AT21: =IFERROR(VLOOKUP($AL21,'Whissendine 6ix'!$J:$L,3,FALSE),0) -> 41 | AU21: =IFERROR(VLOOKUP($AL21,'Ponton Plod 10k'!$J:$L,3,FALSE),0) -> 0 | AV21: =IFERROR(VLOOKUP($AL21,'Rutland Water parkrun'!$J:$L,3,FALSE),0) -> 39 | AW21: =IFERROR(VLOOKUP($AL21,'Great Eastern Run'!$J:$L,3,FALSE),0) -> 0 | AX21: =IFERROR(VLOOKUP($AL21,'Fen 10'!$J:$L,3,FALSE),0) -> 0 | AY21: =IFERROR(VLOOKUP($AL21,'The George Munday 10k'!$L:$O,4,FALSE),0) -> 0 | AZ21: =LARGE(AM21:AY21,1)+LARGE(AM21:AY21,2)+LARGE(AM21:AY21,3)+LARGE(AM21:AY21,4)+LARGE(AM21:AY21,5)+LARGE(AM21:AY21,6) -> 213 | BA21: =COUNTIF(AM21:AY21,">0.09") -> 5 | BB21: =_xlfn.RANK.EQ(AZ21,$AZ$10:$AZ$140,0) -> 12
... B68: Sarah Sharp | C68: =IFERROR(VLOOKUP($B68,'Folksworth 15'!$B:$D,3,FALSE),0) -> 0 | D68: =IFERROR(VLOOKUP($B68,'Dirt Run Irchester 7.5k'!$B:$D,3,FALSE),0) -> 0 | E68: =IFERROR(VLOOKUP($B68,'Burghley 7'!$B:$D,3,FALSE),0) -> 0 | F68: =IFERROR(VLOOKUP($B68,'King''s Cliffe Trail 10k'!$B:$D,3,FALSE),0) -> 0 | G68: =IFERROR(VLOOKUP($B68,'Langtoft 10k'!B:F,3,FALSE),0) -> 0 | H68: =IFERROR(VLOOKUP($B68,'The Grim Reaper 10 Mile'!$B:$D,3,FALSE),0) -> 0 | I68: =IFERROR(VLOOKUP($B68,'Nene Valley Trail 10 Mile'!B:D,3,FALSE),0) -> 0 | J68: =IFERROR(VLOOKUP($B68,'Whissendine 6ix'!$B:$D,3,FALSE),0) -> 0 | K68: =IFERROR(VLOOKUP($B68,'Ponton Plod 10k'!$B:$D,3,FALSE),0) -> 0 | L68: =IFERROR(VLOOKUP($B68,'Rutland Water parkrun'!$B:$D,3,FALSE),0) -> 30 | M68: =IFERROR(VLOOKUP($B68,'Great Eastern Run'!$B:$D,3,FALSE),0) -> 0 | N68: =IFERROR(VLOOKUP($B68,'Fen 10'!$B:$D,3,FALSE),0) -> 0 | O68: =IFERROR(VLOOKUP($B68,'The George Munday 10k'!B:E,4,FALSE),0) -> 0 | P68: =LARGE(C68:O68,1)+LARGE(C68:O68,2)+LARGE(C68:O68,3)+LARGE(C68:O68,4)+LARGE(C68:O68,5)+LARGE(C68:O68,6) -> 30 | Q68: =COUNTIF(C68:O68,">.09") -> 1 | R68: =_xlfn.RANK.EQ(P68,$P$10:$P$68,0) -> 59 | T68: Bret Allibone | U68: =IFERROR(VLOOKUP($T68,'Folksworth 15'!$F:$H,3,FALSE),0) -> 0 | V68: =IFERROR(VLOOKUP($T68,'Dirt Run Irchester 7.5k'!$F:$H,3,FALSE),0) -> 0 | W68: =IFERROR(VLOOKUP($T68,'Burghley 7'!$F:$H,3,FALSE),0) -> 0 | X68: =IFERROR(VLOOKUP($T68,'King''s Cliffe Trail 10k'!$F:$H,3,FALSE),0) -> 0 | Y68: =IFERROR(VLOOKUP($T68,'Langtoft 10k'!F:H,3,FALSE),0) -> 0 | Z68: =IFERROR(VLOOKUP($T68,'The Grim Reaper 10 Mile'!$F:$H,3,FALSE),0) -> 0 | AA68: =IFERROR(VLOOKUP($T68,'Nene Valley Trail 10 Mile'!$F:$H,3,FALSE),0) -> 0 | AB68: =IFERROR(VLOOKUP($T68,'Whissendine 6ix'!$F:$H,3,FALSE),0) -> 0 | AC68: =IFERROR(VLOOKUP($T68,'Ponton Plod 10k'!$F:$H,3,FALSE),0) -> 0 | AD68: =IFERROR(VLOOKUP($T68,'Rutland Water parkrun'!$F:$H,3,FALSE),0) -> 32 | AE68: =IFERROR(VLOOKUP($T68,'Great Eastern Run'!$F:$H,3,FALSE),0) -> 0 | AF68: =IFERROR(VLOOKUP($T68,'Fen 10'!$F:$H,3,FALSE),0) -> 0 | AG68: =IFERROR(VLOOKUP($T68,'The George Munday 10k'!$G:$J,4,FALSE),0) -> 0 | AH68: =LARGE(U68:AG68,1)+LARGE(U68:AG68,2)+LARGE(U68:AG68,3)+LARGE(U68:AG68,4)+LARGE(U68:AG68,5)+LARGE(U68:AG68,6) -> 32 | AI68: =COUNTIF(U68:AG68,">.09") -> 1 | AJ68: =_xlfn.RANK.EQ(AH68,$AH$10:$AH$81,0) -> 59 | AL68: Mark Chandler | AM68: =IFERROR(VLOOKUP($AL68,'Folksworth 15'!$J:$L,3,FALSE),0) -> 0 | AN68: =IFERROR(VLOOKUP($AL68,'Dirt Run Irchester 7.5k'!$J:$L,3,FALSE),0) -> 0 | AO68: =IFERROR(VLOOKUP($AL68,'Burghley 7'!$J:$L,3,FALSE),0) -> 30 | AP68: =IFERROR(VLOOKUP($AL68,'King''s Cliffe Trail 10k'!$J:$L,3,FALSE),0) -> 35 | AQ68: =IFERROR(VLOOKUP($AL68,'Langtoft 10k'!J:L,3,FALSE),0) -> 0 | AR68: =IFERROR(VLOOKUP($AL68,'The Grim Reaper 10 Mile'!$J:$L,3,FALSE),0) -> 0 | AS68: =IFERROR(VLOOKUP($AL68,'Nene Valley Trail 10 Mile'!$J:$L,3,FALSE),0) -> 0 | AT68: =IFERROR(VLOOKUP($AL68,'Whissendine 6ix'!$J:$L,3,FALSE),0) -> 0 | AU68: =IFERROR(VLOOKUP($AL68,'Ponton Plod 10k'!$J:$L,3,FALSE),0) -> 0 | AV68: =IFERROR(VLOOKUP($AL68,'Rutland Water parkrun'!$J:$L,3,FALSE),0) -> 0 | AW68: =IFERROR(VLOOKUP($AL68,'Great Eastern Run'!$J:$L,3,FALSE),0) -> 0 | AX68: =IFERROR(VLOOKUP($AL68,'Fen 10'!$J:$L,3,FALSE),0) -> 0 | AY68: =IFERROR(VLOOKUP($AL68,'The George Munday 10k'!$L:$O,4,FALSE),0) -> 0 | AZ68: =LARGE(AM68:AY68,1)+LARGE(AM68:AY68,2)+LARGE(AM68:AY68,3)+LARGE(AM68:AY68,4)+LARGE(AM68:AY68,5)+LARGE(AM68:AY68,6) -> 65 | BA68: =COUNTIF(AM68:AY68,">0.09") -> 2 | BB68: =_xlfn.RANK.EQ(AZ68,$AZ$10:$AZ$140,0) -> 59
T69: Andy Tobin | U69: =IFERROR(VLOOKUP($T69,'Folksworth 15'!$F:$H,3,FALSE),0) -> 0 | V69: =IFERROR(VLOOKUP($T69,'Dirt Run Irchester 7.5k'!$F:$H,3,FALSE),0) -> 0 | W69: =IFERROR(VLOOKUP($T69,'Burghley 7'!$F:$H,3,FALSE),0) -> 31 | X69: =IFERROR(VLOOKUP($T69,'King''s Cliffe Trail 10k'!$F:$H,3,FALSE),0) -> 0 | Y69: =IFERROR(VLOOKUP($T69,'Langtoft 10k'!F:H,3,FALSE),0) -> 0 | Z69: =IFERROR(VLOOKUP($T69,'The Grim Reaper 10 Mile'!$F:$H,3,FALSE),0) -> 0 | AA69: =IFERROR(VLOOKUP($T69,'Nene Valley Trail 10 Mile'!$F:$H,3,FALSE),0) -> 0 | AB69: =IFERROR(VLOOKUP($T69,'Whissendine 6ix'!$F:$H,3,FALSE),0) -> 0 | AC69: =IFERROR(VLOOKUP($T69,'Ponton Plod 10k'!$F:$H,3,FALSE),0) -> 0 | AD69: =IFERROR(VLOOKUP($T69,'Rutland Water parkrun'!$F:$H,3,FALSE),0) -> 0 | AE69: =IFERROR(VLOOKUP($T69,'Great Eastern Run'!$F:$H,3,FALSE),0) -> 0 | AF69: =IFERROR(VLOOKUP($T69,'Fen 10'!$F:$H,3,FALSE),0) -> 0 | AG69: =IFERROR(VLOOKUP($T69,'The George Munday 10k'!$G:$J,4,FALSE),0) -> 0 | AH69: =LARGE(U69:AG69,1)+LARGE(U69:AG69,2)+LARGE(U69:AG69,3)+LARGE(U69:AG69,4)+LARGE(U69:AG69,5)+LARGE(U69:AG69,6) -> 31 | AI69: =COUNTIF(U69:AG69,">.09") -> 1 | AJ69: =_xlfn.RANK.EQ(AH69,$AH$10:$AH$81,0) -> 60 | AL69: Alex Shaw | AM69: =IFERROR(VLOOKUP($AL69,'Folksworth 15'!$J:$L,3,FALSE),0) -> 33 | AN69: =IFERROR(VLOOKUP($AL69,'Dirt Run Irchester 7.5k'!$J:$L,3,FALSE),0) -> 0 | AO69: =IFERROR(VLOOKUP($AL69,'Burghley 7'!$J:$L,3,FALSE),0) -> 0 | AP69: =IFERROR(VLOOKUP($AL69,'King''s Cliffe Trail 10k'!$J:$L,3,FALSE),0) -> 0 | AQ69: =IFERROR(VLOOKUP($AL69,'Langtoft 10k'!J:L,3,FALSE),0) -> 0 | AR69: =IFERROR(VLOOKUP($AL69,'The Grim Reaper 10 Mile'!$J:$L,3,FALSE),0) -> 0 | AS69: =IFERROR(VLOOKUP($AL69,'Nene Valley Trail 10 Mile'!$J:$L,3,FALSE),0) -> 0 | AT69: =IFERROR(VLOOKUP($AL69,'Whissendine 6ix'!$J:$L,3,FALSE),0) -> 0 | AU69: =IFERROR(VLOOKUP($AL69,'Ponton Plod 10k'!$J:$L,3,FALSE),0) -> 0 | AV69: =IFERROR(VLOOKUP($AL69,'Rutland Water parkrun'!$J:$L,3,FALSE),0) -> 0 | AW69: =IFERROR(VLOOKUP($AL69,'Great Eastern Run'!$J:$L,3,FALSE),0) -> 31 | AX69: =IFERROR(VLOOKUP($AL69,'Fen 10'!$J:$L,3,FALSE),0) -> 0 | AY69: =IFERROR(VLOOKUP($AL69,'The George Munday 10k'!$L:$O,4,FALSE),0) -> 0 | AZ69: =LARGE(AM69:AY69,1)+LARGE(AM69:AY69,2)+LARGE(AM69:AY69,3)+LARGE(AM69:AY69,4)+LARGE(AM69:AY69,5)+LARGE(AM69:AY69,6) -> 64 | BA69: =COUNTIF(AM69:AY69,">0.09") -> 2 | BB69: =_xlfn.RANK.EQ(AZ69,$AZ$10:$AZ$140,0) -> 60
T70: Guy Gasper | U70: =IFERROR(VLOOKUP($T70,'Folksworth 15'!$F:$H,3,FALSE),0) -> 0 | V70: =IFERROR(VLOOKUP($T70,'Dirt Run Irchester 7.5k'!$F:$H,3,FALSE),0) -> 0 | W70: =IFERROR(VLOOKUP($T70,'Burghley 7'!$F:$H,3,FALSE),0) -> 0 | X70: =IFERROR(VLOOKUP($T70,'King''s Cliffe Trail 10k'!$F:$H,3,FALSE),0) -> 0 | Y70: =IFERROR(VLOOKUP($T70,'Langtoft 10k'!F:H,3,FALSE),0) -> 0 | Z70: =IFERROR(VLOOKUP($T70,'The Grim Reaper 10 Mile'!$F:$H,3,FALSE),0) -> 0 | AA70: =IFERROR(VLOOKUP($T70,'Nene Valley Trail 10 Mile'!$F:$H,3,FALSE),0) -> 0 | AB70: =IFERROR(VLOOKUP($T70,'Whissendine 6ix'!$F:$H,3,FALSE),0) -> 31 | AC70: =IFERROR(VLOOKUP($T70,'Ponton Plod 10k'!$F:$H,3,FALSE),0) -> 0 | AD70: =IFERROR(VLOOKUP($T70,'Rutland Water parkrun'!$F:$H,3,FALSE),0) -> 0 | AE70: =IFERROR(VLOOKUP($T70,'Great Eastern Run'!$F:$H,3,FALSE),0) -> 0 | AF70: =IFERROR(VLOOKUP($T70,'Fen 10'!$F:$H,3,FALSE),0) -> 0 | AG70: =IFERROR(VLOOKUP($T70,'The George Munday 10k'!$G:$J,4,FALSE),0) -> 0 | AH70: =LARGE(U70:AG70,1)+LARGE(U70:AG70,2)+LARGE(U70:AG70,3)+LARGE(U70:AG70,4)+LARGE(U70:AG70,5)+LARGE(U70:AG70,6) -> 31 | AI70: =COUNTIF(U70:AG70,">.09") -> 1 | AJ70: =_xlfn.RANK.EQ(AH70,$AH$10:$AH$81,0) -> 60 | AL70: Anthony Dunk | AM70: =IFERROR(VLOOKUP($AL70,'Folksworth 15'!$J:$L,3,FALSE),0) -> 0 | AN70: =IFERROR(VLOOKUP($AL70,'Dirt Run Irchester 7.5k'!$J:$L,3,FALSE),0) -> 0 | AO70: =IFERROR(VLOOKUP($AL70,'Burghley 7'!$J:$L,3,FALSE),0) -> 0 | AP70: =IFERROR(VLOOKUP($AL70,'King''s Cliffe Trail 10k'!$J:$L,3,FALSE),0) -> 30 | AQ70: =IFERROR(VLOOKUP($AL70,'Langtoft 10k'!J:L,3,FALSE),0) -> 0 | AR70: =IFERROR(VLOOKUP($AL70,'The Grim Reaper 10 Mile'!$J:$L,3,FALSE),0) -> 0 | AS70: =IFERROR(VLOOKUP($AL70,'Nene Valley Trail 10 Mile'!$J:$L,3,FALSE),0) -> 33 | AT70: =IFERROR(VLOOKUP($AL70,'Whissendine 6ix'!$J:$L,3,FALSE),0) -> 0 | AU70: =IFERROR(VLOOKUP($AL70,'Ponton Plod 10k'!$J:$L,3,FALSE),0) -> 0 | AV70: =IFERROR(VLOOKUP($AL70,'Rutland Water parkrun'!$J:$L,3,FALSE),0) -> 0 | AW70: =IFERROR(VLOOKUP($AL70,'Great Eastern Run'!$J:$L,3,FALSE),0) -> 0 | AX70: =IFERROR(VLOOKUP($AL70,'Fen 10'!$J:$L,3,FALSE),0) -> 0 | AY70: =IFERROR(VLOOKUP($AL70,'The George Munday 10k'!$L:$O,4,FALSE),0) -> 0 | AZ70: =LARGE(AM70:AY70,1)+LARGE(AM70:AY70,2)+LARGE(AM70:AY70,3)+LARGE(AM70:AY70,4)+LARGE(AM70:AY70,5)+LARGE(AM70:AY70,6) -> 63 | BA70: =COUNTIF(AM70:AY70,">0.09") -> 2 | BB70: =_xlfn.RANK.EQ(AZ70,$AZ$10:$AZ$140,0) -> 61
T71: Darren Scott | U71: =IFERROR(VLOOKUP($T71,'Folksworth 15'!$F:$H,3,FALSE),0) -> 0 | V71: =IFERROR(VLOOKUP($T71,'Dirt Run Irchester 7.5k'!$F:$H,3,FALSE),0) -> 0 | W71: =IFERROR(VLOOKUP($T71,'Burghley 7'!$F:$H,3,FALSE),0) -> 30 | X71: =IFERROR(VLOOKUP($T71,'King''s Cliffe Trail 10k'!$F:$H,3,FALSE),0) -> 0 | Y71: =IFERROR(VLOOKUP($T71,'Langtoft 10k'!F:H,3,FALSE),0) -> 0 | Z71: =IFERROR(VLOOKUP($T71,'The Grim Reaper 10 Mile'!$F:$H,3,FALSE),0) -> 0 | AA71: =IFERROR(VLOOKUP($T71,'Nene Valley Trail 10 Mile'!$F:$H,3,FALSE),0) -> 0 | AB71: =IFERROR(VLOOKUP($T71,'Whissendine 6ix'!$F:$H,3,FALSE),0) -> 0 | AC71: =IFERROR(VLOOKUP($T71,'Ponton Plod 10k'!$F:$H,3,FALSE),0) -> 0 | AD71: =IFERROR(VLOOKUP($T71,'Rutland Water parkrun'!$F:$H,3,FALSE),0) -> 0 | AE71: =IFERROR(VLOOKUP($T71,'Great Eastern Run'!$F:$H,3,FALSE),0) -> 0 | AF71: =IFERROR(VLOOKUP($T71,'Fen 10'!$F:$H,3,FALSE),0) -> 0 | AG71: =IFERROR(VLOOKUP($T71,'The George Munday 10k'!$G:$J,4,FALSE),0) -> 0 | AH71: =LARGE(U71:AG71,1)+LARGE(U71:AG71,2)+LARGE(U71:AG71,3)+LARGE(U71:AG71,4)+LARGE(U71:AG71,5)+LARGE(U71:AG71,6) -> 30 | AI71: =COUNTIF(U71:AG71,">.09") -> 1 | AJ71: =_xlfn.RANK.EQ(AH71,$AH$10:$AH$81,0) -> 62 | AL71: Abbie Mann | AM71: =IFERROR(VLOOKUP($AL71,'Folksworth 15'!$J:$L,3,FALSE),0) -> 0 | AN71: =IFERROR(VLOOKUP($AL71,'Dirt Run Irchester 7.5k'!$J:$L,3,FALSE),0) -> 0 | AO71: =IFERROR(VLOOKUP($AL71,'Burghley 7'!$J:$L,3,FALSE),0) -> 30 | AP71: =IFERROR(VLOOKUP($AL71,'King''s Cliffe Trail 10k'!$J:$L,3,FALSE),0) -> 0 | AQ71: =IFERROR(VLOOKUP($AL71,'Langtoft 10k'!J:L,3,FALSE),0) -> 30 | AR71: =IFERROR(VLOOKUP($AL71,'The Grim Reaper 10 Mile'!$J:$L,3,FALSE),0) -> 0 | AS71: =IFERROR(VLOOKUP($AL71,'Nene Valley Trail 10 Mile'!$J:$L,3,FALSE),0) -> 0 | AT71: =IFERROR(VLOOKUP($AL71,'Whissendine 6ix'!$J:$L,3,FALSE),0) -> 0 | AU71: =IFERROR(VLOOKUP($AL71,'Ponton Plod 10k'!$J:$L,3,FALSE),0) -> 0 | AV71: =IFERROR(VLOOKUP($AL71,'Rutland Water parkrun'!$J:$L,3,FALSE),0) -> 0 | AW71: =IFERROR(VLOOKUP($AL71,'Great Eastern Run'!$J:$L,3,FALSE),0) -> 0 | AX71: =IFERROR(VLOOKUP($AL71,'Fen 10'!$J:$L,3,FALSE),0) -> 0 | AY71: =IFERROR(VLOOKUP($AL71,'The George Munday 10k'!$L:$O,4,FALSE),0) -> 0 | AZ71: =LARGE(AM71:AY71,1)+LARGE(AM71:AY71,2)+LARGE(AM71:AY71,3)+LARGE(AM71:AY71,4)+LARGE(AM71:AY71,5)+LARGE(AM71:AY71,6) -> 60 | BA71: =COUNTIF(AM71:AY71,">0.09") -> 2 | BB71: =_xlfn.RANK.EQ(AZ71,$AZ$10:$AZ$140,0) -> 62
T72: David Ogg | U72: =IFERROR(VLOOKUP($T72,'Folksworth 15'!$F:$H,3,FALSE),0) -> 0 | V72: =IFERROR(VLOOKUP($T72,'Dirt Run Irchester 7.5k'!$F:$H,3,FALSE),0) -> 0 | W72: =IFERROR(VLOOKUP($T72,'Burghley 7'!$F:$H,3,FALSE),0) -> 30 | X72: =IFERROR(VLOOKUP($T72,'King''s Cliffe Trail 10k'!$F:$H,3,FALSE),0) -> 0 | Y72: =IFERROR(VLOOKUP($T72,'Langtoft 10k'!F:H,3,FALSE),0) -> 0 | Z72: =IFERROR(VLOOKUP($T72,'The Grim Reaper 10 Mile'!$F:$H,3,FALSE),0) -> 0 | AA72: =IFERROR(VLOOKUP($T72,'Nene Valley Trail 10 Mile'!$F:$H,3,FALSE),0) -> 0 | AB72: =IFERROR(VLOOKUP($T72,'Whissendine 6ix'!$F:$H,3,FALSE),0) -> 0 | AC72: =IFERROR(VLOOKUP($T72,'Ponton Plod 10k'!$F:$H,3,FALSE),0) -> 0 | AD72: =IFERROR(VLOOKUP($T72,'Rutland Water parkrun'!$F:$H,3,FALSE),0) -> 0 | AE72: =IFERROR(VLOOKUP($T72,'Great Eastern Run'!$F:$H,3,FALSE),0) -> 0 | AF72: =IFERROR(VLOOKUP($T72,'Fen 10'!$F:$H,3,FALSE),0) -> 0 | AG72: =IFERROR(VLOOKUP($T72,'The George Munday 10k'!$G:$J,4,FALSE),0) -> 0 | AH72: =LARGE(U72:AG72,1)+LARGE(U72:AG72,2)+LARGE(U72:AG72,3)+LARGE(U72:AG72,4)+LARGE(U72:AG72,5)+LARGE(U72:AG72,6) -> 30 | AI72: =COUNTIF(U72:AG72,">.09") -> 1 | AJ72: =_xlfn.RANK.EQ(AH72,$AH$10:$AH$81,0) -> 62 | AL72: Chris Gold | AM72: =IFERROR(VLOOKUP($AL72,'Folksworth 15'!$J:$L,3,FALSE),0) -> 0 | AN72: =IFERROR(VLOOKUP($AL72,'Dirt Run Irchester 7.5k'!$J:$L,3,FALSE),0) -> 0 | AO72: =IFERROR(VLOOKUP($AL72,'Burghley 7'!$J:$L,3,FALSE),0) -> 30 | AP72: =IFERROR(VLOOKUP($AL72,'King''s Cliffe Trail 10k'!$J:$L,3,FALSE),0) -> 0 | AQ72: =IFERROR(VLOOKUP($AL72,'Langtoft 10k'!J:L,3,FALSE),0) -> 30 | AR72: =IFERROR(VLOOKUP($AL72,'The Grim Reaper 10 Mile'!$J:$L,3,FALSE),0) -> 0 | AS72: =IFERROR(VLOOKUP($AL72,'Nene Valley Trail 10 Mile'!$J:$L,3,FALSE),0) -> 0 | AT72: =IFERROR(VLOOKUP($AL72,'Whissendine 6ix'!$J:$L,3,FALSE),0) -> 0 | AU72: =IFERROR(VLOOKUP($AL72,'Ponton Plod 10k'!$J:$L,3,FALSE),0) -> 0 | AV72: =IFERROR(VLOOKUP($AL72,'Rutland Water parkrun'!$J:$L,3,FALSE),0) -> 0 | AW72: =IFERROR(VLOOKUP($AL72,'Great Eastern Run'!$J:$L,3,FALSE),0) -> 0 | AX72: =IFERROR(VLOOKUP($AL72,'Fen 10'!$J:$L,3,FALSE),0) -> 0 | AY72: =IFERROR(VLOOKUP($AL72,'The George Munday 10k'!$L:$O,4,FALSE),0) -> 0 | AZ72: =LARGE(AM72:AY72,1)+LARGE(AM72:AY72,2)+LARGE(AM72:AY72,3)+LARGE(AM72:AY72,4)+LARGE(AM72:AY72,5)+LARGE(AM72:AY72,6) -> 60 | BA72: =COUNTIF(AM72:AY72,">0.09") -> 2 | BB72: =_xlfn.RANK.EQ(AZ72,$AZ$10:$AZ$140,0) -> 62
T73: Emmanuel Dupont | U73: =IFERROR(VLOOKUP($T73,'Folksworth 15'!$F:$H,3,FALSE),0) -> 0 | V73: =IFERROR(VLOOKUP($T73,'Dirt Run Irchester 7.5k'!$F:$H,3,FALSE),0) -> 0 | W73: =IFERROR(VLOOKUP($T73,'Burghley 7'!$F:$H,3,FALSE),0) -> 0 | X73: =IFERROR(VLOOKUP($T73,'King''s Cliffe Trail 10k'!$F:$H,3,FALSE),0) -> 0 | Y73: =IFERROR(VLOOKUP($T73,'Langtoft 10k'!F:H,3,FALSE),0) -> 0 | Z73: =IFERROR(VLOOKUP($T73,'The Grim Reaper 10 Mile'!$F:$H,3,FALSE),0) -> 0 | AA73: =IFERROR(VLOOKUP($T73,'Nene Valley Trail 10 Mile'!$F:$H,3,FALSE),0) -> 0 | AB73: =IFERROR(VLOOKUP($T73,'Whissendine 6ix'!$F:$H,3,FALSE),0) -> 0 | AC73: =IFERROR(VLOOKUP($T73,'Ponton Plod 10k'!$F:$H,3,FALSE),0) -> 0 | AD73: =IFERROR(VLOOKUP($T73,'Rutland Water parkrun'!$F:$H,3,FALSE),0) -> 30 | AE73: =IFERROR(VLOOKUP($T73,'Great Eastern Run'!$F:$H,3,FALSE),0) -> 0 | AF73: =IFERROR(VLOOKUP($T73,'Fen 10'!$F:$H,3,FALSE),0) -> 0 | AG73: =IFERROR(VLOOKUP($T73,'The George Munday 10k'!$G:$J,4,FALSE),0) -> 0 | AH73: =LARGE(U73:AG73,1)+LARGE(U73:AG73,2)+LARGE(U73:AG73,3)+LARGE(U73:AG73,4)+LARGE(U73:AG73,5)+LARGE(U73:AG73,6) -> 30 | AI73: =COUNTIF(U73:AG73,">.09") -> 1 | AJ73: =_xlfn.RANK.EQ(AH73,$AH$10:$AH$81,0) -> 62 | AL73: Ciaran Nelson | AM73: =IFERROR(VLOOKUP($AL73,'Folksworth 15'!$J:$L,3,FALSE),0) -> 0 | AN73: =IFERROR(VLOOKUP($AL73,'Dirt Run Irchester 7.5k'!$J:$L,3,FALSE),0) -> 0 | AO73: =IFERROR(VLOOKUP($AL73,'Burghley 7'!$J:$L,3,FALSE),0) -> 30 | AP73: =IFERROR(VLOOKUP($AL73,'King''s Cliffe Trail 10k'!$J:$L,3,FALSE),0) -> 30 | AQ73: =IFERROR(VLOOKUP($AL73,'Langtoft 10k'!J:L,3,FALSE),0) -> 0 | AR73: =IFERROR(VLOOKUP($AL73,'The Grim Reaper 10 Mile'!$J:$L,3,FALSE),0) -> 0 | AS73: =IFERROR(VLOOKUP($AL73,'Nene Valley Trail 10 Mile'!$J:$L,3,FALSE),0) -> 0 | AT73: =IFERROR(VLOOKUP($AL73,'Whissendine 6ix'!$J:$L,3,FALSE),0) -> 0 | AU73: =IFERROR(VLOOKUP($AL73,'Ponton Plod 10k'!$J:$L,3,FALSE),0) -> 0 | AV73: =IFERROR(VLOOKUP($AL73,'Rutland Water parkrun'!$J:$L,3,FALSE),0) -> 0 | AW73: =IFERROR(VLOOKUP($AL73,'Great Eastern Run'!$J:$L,3,FALSE),0) -> 0 | AX73: =IFERROR(VLOOKUP($AL73,'Fen 10'!$J:$L,3,FALSE),0) -> 0 | AY73: =IFERROR(VLOOKUP($AL73,'The George Munday 10k'!$L:$O,4,FALSE),0) -> 0 | AZ73: =LARGE(AM73:AY73,1)+LARGE(AM73:AY73,2)+LARGE(AM73:AY73,3)+LARGE(AM73:AY73,4)+LARGE(AM73:AY73,5)+LARGE(AM73:AY73,6) -> 60 | BA73: =COUNTIF(AM73:AY73,">0.09") -> 2 | BB73: =_xlfn.RANK.EQ(AZ73,$AZ$10:$AZ$140,0) -> 62
